{"text_format":"3","workbook":"xlsx","n_sheets":5,"sheets":["Scenario 1","Scenario 2","Scenario 3","REFERENCES","COMMENTS"],"read":"whole","date_system":"1900"}

{"sheet":"Scenario 1","index":0,"n_rows":568,"n_cols":45,"rows_kept":568,"merged":[[2,3,2,9],[3,0,3,1],[8,7,8,9]]}
["SCENARIO 1.","ONLY PCM RESULTS ARE KNOWN"]
[]
[{"$nulls":3},"RISK ASSESSMENT RESULTS:"]
["OCCUPATIONAL EXPOSURE DATA:",null,null,"U.S. EPA IRIS:",null,null,"Original Nicholson:"]
[{"$nulls":3},"Total Cancer, per 1,000,000",null,"Total Cancer, per 1,000,000",null,"Lung Cancer, per 1,000,000",null,"Mesothelioma, per 1,000,000"]
["Asbestos Concentration, PCM (f/cc)",0.0318,null,{"$f":"S41","v":{"v":1000.5685752394742,"d":"1001"}},null,{"$f":"X41","v":{"v":1085.5114873639943,"d":"1086"}},null,{"$f":"Z41","v":{"v":571.0487632197064,"d":"571"}},null,{"$f":"Y41","v":{"v":514.4627241442879,"d":"514"}}]
[]
["Duration (years)",45]
[]
["Onset age (years)",18]
[]
["Exposure duration during the shift (hours)",8,{"$nulls":4},"Nicholson with 2009 Mortality Data:"]
[{"$nulls":5},"Total Cancer, per 1,000,000",null,"Lung Cancer, per 1,000,000",null,"Mesothelioma, per 1,000,000"]
["Shift duration (hour)",8,{"$nulls":3},{"$f":"H14+J14","v":{"v":1754.570477560902,"d":"1755"}},null,{"$f":"V568","v":{"v":1114.2779814226706,"d":"1114"}},null,{"$f":"Q568","v":{"v":640.2924961382315,"d":"640"}}]
["Protection factor",1]
{"$rows_empty":17}
["EPA, IRIS Method (Current USEPA Asbestos Risk Assessment Method)"]
[{"$nulls":7},"Duration of exposure",{"$nulls":4},"Average PCME Receptor Asbestos Concentration Exposure, Ambient Equivalent (f/cc)","Total Lifetime Exposure (f/cc years, work place equivalent)","Onset time, years","K1, coefficient for UNIT risk calculation","K2, coefficient for UNIT risk calculation","Unit Risk (EPA, duraion and onset time adjusted)","Excess Lifetime Cancer Risk (ELCR) (Cases per million)",null,"Lung cancer potency factor, Kl","Mesothelioma potency factor, Km",null,"Excess Lifetime Cancer Risk (ELCR) (Cases per million)","Excess Lifetime Mesothelioma Risk (cases per million)","Excess Lifetime Lung Cancer Risk (Cases per million)",null,"Calculated Unit Risk"]
[{"$nulls":14},"Range"]
[]
[{"$nulls":14},"Lower"]
[]
[{"$nulls":14},"Upper"]
[]
[{"$nulls":6},{"$f":"B6*(B12/B14)/B15","v":{"v":0.0318,"d":"0.031800"}},{"$f":"B8","v":{"v":45,"d":"45.000000"}},{"$f":"1","v":{"v":1,"d":"1.000000"}},{"$f":"1-I41","v":{"v":0,"d":"0.000000"}},{"v":1,"d":"1.000000"},{"$f":"K41*J41+I41","v":{"v":1,"d":"1.000000"}},{"$f":"G41*L41/2.8*B14/8","v":{"v":0.011357142857142859,"d":"0.011357"}},{"$f":"H41*M41*2.8","v":{"v":1.431,"d":"1.431000"}},{"$f":"B10","v":{"v":18,"d":"18.000000"}},{"$f":"-0.0176401+0.2492567*EXP(-O41/24.7806941)","v":{"v":0.10291553930588737,"d":"0.102916"}},{"$f":"0.0415839+0.0039973*EXP(O41/-18.2212632)","v":{"v":0.04307239012159984,"d":"0.043072"}},{"$f":"P41*(1-EXP(-1*Q41*H41))","v":{"v":0.08810037769404173,"d":"0.088100"}},{"$f":"M41*R41*1000000","v":{"v":1000.5685752394742,"d":"1000.568575"}},"Total:",{"$f":"1*10^-2","v":{"v":0.01,"d":"0.010000"}},{"$f":"1*10^-8","v":{"v":1E-8,"d":"0.000000"}},null,{"$f":"Y41+Z41","v":{"v":1085.5114873639943,"d":"1085.511487"}},{"$f":"Q408","v":{"v":514.4627241442879,"d":"514.462724"}},{"$f":"V408","v":{"v":571.0487632197064,"d":"571.048763"}},null,{"$f":"X41/M41/1000000","v":{"v":0.09557962781821333,"d":"0.095580"}}]
[{"$nulls":6},"including:",{"$nulls":5},"including:"]
[{"$nulls":5},"TWA  Asbestos Concentration (f/cc) (PCME, chrysotile):",{"$f":"#REF!*B12/B14/B15","v":{"$error":"#REF!"}},{"$nulls":4},"Average PCME Chrysotile Receptor Asbestos Concentration Exposure (f/cc)",{"$f":"G43*(L41/2.8)*B14/8","v":{"$error":"#REF!"}},{"$f":"H41*M43*2.8","v":{"$error":"#REF!"}},null,null,"\"","\"",null,"Chrysotile:",{"$f":"0.051*10^-2","v":{"v":5.0999999999999993E-4,"d":"0.000510"}},{"$f":"0.021*10^-8","v":{"v":2.1000000000000002E-10,"d":"0.000000"}},null,{"$f":"Y43+Z43","v":{"v":0,"d":"0.000000"}},{"$f":"Q571","v":{"v":0,"d":"0.000000"}},{"$f":"V571","v":{"v":0,"d":"0.000000"}}]
[{"$nulls":5},"TWA  Asbestos Concentration (f/cc) (PCME, tremolite-actinolite)",{"$f":"#REF!*B12/B14/B15","v":{"$error":"#REF!"}},{"$nulls":4},"Average PCME Tremolite-Actinolite Receptor Asbestos Concentration Exposure (f/cc)",{"$f":"G44*L41/2.8*B14/8","v":{"$error":"#REF!"}},{"$f":"H41*M44*2.8","v":{"$error":"#REF!"}},{"$nulls":5},"Tremolite-Actinolite (as amosite for mesothelioma):",{"$f":"0.36*10^-2","v":{"v":0.0036,"d":"0.003600"}},{"$f":"3.9*10^-8","v":{"v":3.9e-08,"d":"0.000000"}},null,{"$f":"Y44+Z44","v":{"v":0,"d":"0.000000"}},{"$f":"Q700","v":{"v":0,"d":"0.000000"}},{"$f":"V700","v":{"v":0,"d":"0.000000"}}]
[]
[{"$nulls":5},"TWA  Asbestos Concentration (f/cc) (PCME, tremolite-actinolite)",{"$f":"#REF!*$B$12/$B$14/$B$15","v":{"$error":"#REF!"}},{"$nulls":4},"Average PCME Crocidolite Receptor Asbestos concentration Exposure (f/cc)",{"$f":"G46*$L$41/2.8*$B$14/8","v":{"$error":"#REF!"}},{"$f":"$H$41*M46*2.8","v":{"$error":"#REF!"}},{"$nulls":4},"Crocidolite",null,{"v":0.011000000000000001,"d":"0.011000"},{"v":1.2000000000000002E-7,"d":"0.000000"}]
[{"$nulls":18},"Amosite",null,{"$f":"2.4*10^-2","v":{"v":0.024,"d":"0.024000"}},{"$f":"3.9*10^-8","v":{"v":3.9e-08,"d":"0.000000"}}]
[{"$nulls":5},"TWA Asbestos Concentration (f/cc), (PCME, amosite)",{"$f":"#REF!*$B$12/$B$14/$B$15","v":{"$error":"#REF!"}},{"$nulls":4},"Amosite ",{"$f":"G48*$L$41/2.8*$B$14/8","v":{"$error":"#REF!"}},{"$f":"H41*M48*2.8","v":{"$error":"#REF!"}}]
[]
[{"$nulls":24},"Lung cancer male",{"$nulls":5},"P",{"$nulls":3},"Mesothelioma both genders"]
[{"$nulls":24},{"v":0,"d":"0.000000"},{"v":799.9,"d":"799.900000"},{"v":0,"d":"0.000000"},{"$f":"Z51/100000","v":0.007999},{"$f":"AA51/100000","v":{"v":0,"d":"0.000000"}},{"$f":"100000","v":{"v":100000,"d":"100000.000000"}},{"$f":"IF(Y51<10,0,IF(AND(OR(Y51>10,Y51=10),Y51<10+$H$53),$H$50*$H$52*(Y51-10),$H$50*$H$52*Y51))","v":{"v":0,"d":"0.000000"}},{"$f":"AC51*AE51","v":{"v":0,"d":"0.000000"}},{"$f":"AD51*AF51","v":{"v":0,"d":"0.000000"}},null,{"$f":"IF(J51<10,0, IF(AND(OR(J51>10, J51=10),J51<10+$H$53),$H$51*$H$52*((J51-10)^3), $H$51*$H$52*((J51-10)^3-(J51-10-$H$53)^3)))","v":{"v":0,"d":"0.000000"}},{"$nulls":4},"mesothelioma male 1977 ",null,"Death rate"]
[{"$nulls":24},{"v":1,"d":"1.000000"},{"v":36.5,"d":"36.500000"},{"v":0,"d":"0.000000"},{"$f":"Z52/100000","v":0.000365},{"v":0,"d":"0.000000"},{"$f":"AD51-AB51*AD51*2","v":{"v":98400.2,"d":"98400.200000"}},{"v":0,"d":"0.000000"},{"$f":"AC52*AE52","v":{"v":0,"d":"0.000000"}},{"v":0,"d":"0.000000"},null,{"v":0,"d":"0.000000"},{"$f":"Q51+AI51","v":{"v":0,"d":"0.000000"}},{"$f":"100000","v":{"v":100000,"d":"100000.000000"}},{"$f":"AK52*AI51","v":{"v":0,"d":"0.000000"}},null,{"v":100000,"d":"100000.000000"},{"$f":"IF($J51<10,0, IF(AND(OR($J51>10, $J51=10),$J51<10+$H$53),$H$51*$H$52*(($J51-10)^3), $H$51*$H$52*(($J51-10)^3-($J51-10-$H$53)^3)))","v":{"v":0,"d":"0.000000"}},{"$f":"(AN52-AN53)/AN52","v":{"v":0.01586,"d":"0.015860"}},{"$f":"AP52+AO52","v":{"v":0.01586,"d":"0.015860"}}]
[{"$nulls":24},{"v":5,"d":"5.000000"},{"v":18.3,"d":"18.300000"},{"v":0,"d":"0.000000"},{"v":1.83E-4,"d":"0.000183"},{"v":0,"d":"0.000000"},{"$f":"AD52-AB52*AD52*5","v":98220.619635},{"v":0,"d":"0.000000"},{"v":0,"d":"0.000000"},{"v":0,"d":"0.000000"},null,{"v":0,"d":"0.000000"},{"v":0,"d":"0.000000"},{"$f":"AK52-AK52*AJ52","v":{"v":100000,"d":"100000.000000"}},{"v":0,"d":"0.000000"},null,{"v":98414,"d":"98414.000000"},{"v":0,"d":"0.000000"},{"v":1.0364379051760928E-3,"d":"0.001036"},{"$f":"AP53+AO53","v":{"v":1.0364379051760928E-3,"d":"0.001036"}},{"$f":"100000","v":{"v":100000,"d":"100000.000000"}},{"$f":"AR53*AO52","v":{"v":0,"d":"0.000000"}}]
[{"$nulls":24},{"v":10,"d":"10.000000"},{"v":25,"d":"25.000000"},{"v":0,"d":"0.000000"},{"v":0.00025,"d":"0.000250"},{"v":0,"d":"0.000000"},{"$f":"AD53-AB53*AD53*5","v":{"v":98130.74776803397,"d":"98130.747768"}},{"v":0,"d":"0.000000"},{"v":0,"d":"0.000000"},{"v":0,"d":"0.000000"},null,{"v":0,"d":"0.000000"},{"v":0,"d":"0.000000"},{"$f":"AK53-AK53*AJ53","v":{"v":100000,"d":"100000.000000"}},{"v":0,"d":"0.000000"},null,{"v":98312,"d":"98312.000000"},{"v":0,"d":"0.000000"},{"v":8.0356416307266658E-4,"d":"0.000804"},{"v":8.0356416307266658E-4,"d":"0.000804"},{"$f":"AR53-AR53*AQ52","v":{"v":98414,"d":"98414.000000"}},{"v":0,"d":"0.000000"}]
[{"$nulls":24},{"v":15,"d":"15.000000"},{"v":94.9,"d":"94.900000"},{"v":0,"d":"0.000000"},{"v":9.4900000000000008E-4,"d":"0.000949"},{"v":0,"d":"0.000000"},{"v":98008.08433332392,"d":"98008.084333"},{"v":0,"d":"0.000000"},{"v":0,"d":"0.000000"},{"v":0,"d":"0.000000"},null,{"v":0,"d":"0.000000"},{"v":0,"d":"0.000000"},{"v":100000,"d":"100000.000000"},{"v":0,"d":"0.000000"},null,{"v":98233,"d":"98233.000000"},{"v":0,"d":"0.000000"},{"v":6.4133234249183068E-4,"d":"0.000641"},{"v":6.4133234249183068E-4,"d":"0.000641"},{"v":98312,"d":"98312.000000"},{"v":0,"d":"0.000000"}]
[{"$nulls":24},{"v":20,"d":"20.000000"},{"v":142,"d":"142.000000"},{"v":0,"d":"0.000000"},{"v":1.42E-3,"d":"0.001420"},{"v":0,"d":"0.000000"},{"v":97543.03597316229,"d":"97543.035973"},{"v":0,"d":"0.000000"},{"v":0,"d":"0.000000"},{"v":0,"d":"0.000000"},null,{"v":0,"d":"0.000000"},{"v":0,"d":"0.000000"},{"v":100000,"d":"100000.000000"},{"v":0,"d":"0.000000"},null,{"v":98170,"d":"98170.000000"},{"v":0,"d":"0.000000"},{"v":0.000539879800346338,"d":"0.000540"},{"v":0.000539879800346338,"d":"0.000540"},{"v":98233,"d":"98233.000000"},{"v":0,"d":"0.000000"}]
[{"$nulls":24},{"v":25,"d":"25.000000"},{"v":141.9,"d":"141.900000"},{"v":0.3,"d":"0.300000"},{"v":1.4190000000000001E-3,"d":"0.001419"},{"v":3e-06,"d":"0.000003"},{"v":96850.48041775284,"d":"96850.480418"},{"v":0,"d":"0.000000"},{"$f":"AC57*AE57*5","v":{"v":0,"d":"0.000000"}},{"v":0,"d":"0.000000"},null,{"v":0,"d":"0.000000"},{"v":0,"d":"0.000000"},{"v":100000,"d":"100000.000000"},{"v":0,"d":"0.000000"},null,{"v":98117,"d":"98117.000000"},{"v":0,"d":"0.000000"},{"v":4.8921185931082283E-4,"d":"0.000489"},{"v":4.8921185931082283E-4,"d":"0.000489"},{"v":98170,"d":"98170.000000"},{"v":0,"d":"0.000000"}]
[{"$nulls":24},{"v":30,"d":"30.000000"},{"v":157.3,"d":"157.300000"},{"v":0.8,"d":"0.800000"},{"v":1.5730000000000002E-3,"d":"0.001573"},{"v":8e-06,"d":"0.000008"},{"v":96163.32625918889,"d":"96163.326259"},{"v":0,"d":"0.000000"},{"v":0,"d":"0.000000"},{"v":0,"d":"0.000000"},null,{"v":0,"d":"0.000000"},{"v":0,"d":"0.000000"},{"v":100000,"d":"100000.000000"},{"v":0,"d":"0.000000"},null,{"v":98069,"d":"98069.000000"},{"v":0,"d":"0.000000"},{"v":4.4866369596916459E-4,"d":"0.000449"},{"v":4.4866369596916459E-4,"d":"0.000449"},{"v":98117,"d":"98117.000000"},{"v":0,"d":"0.000000"}]
[{"$nulls":24},{"v":35,"d":"35.000000"},{"v":209.8,"d":"209.800000"},{"v":3.3,"d":"3.300000"},{"v":2.098E-3,"d":"0.002098"},{"v":3.2999999999999996E-5,"d":"0.000033"},{"v":95407.00169816037,"d":"95407.001698"},{"v":0,"d":"0.000000"},{"v":0,"d":"0.000000"},{"v":0,"d":"0.000000"},null,{"v":0,"d":"0.000000"},{"v":0,"d":"0.000000"},{"v":100000,"d":"100000.000000"},{"v":0,"d":"0.000000"},null,{"v":98025,"d":"98025.000000"},{"v":0,"d":"0.000000"},{"v":4.1826064779393009E-4,"d":"0.000418"},{"v":4.1826064779393009E-4,"d":"0.000418"},{"v":98069,"d":"98069.000000"},{"v":0,"d":"0.000000"}]
[{"$nulls":24},{"v":40,"d":"40.000000"},{"v":303.3,"d":"303.300000"},{"v":10.4,"d":"10.400000"},0.003033,{"v":1.0400000000000001E-4,"d":"0.000104"},{"v":94406.18225034667,"d":"94406.182250"},{"v":0,"d":"0.000000"},{"v":0,"d":"0.000000"},{"v":0,"d":"0.000000"},null,{"v":0,"d":"0.000000"},{"v":0,"d":"0.000000"},{"v":100000,"d":"100000.000000"},{"v":0,"d":"0.000000"},null,{"v":97984,"d":"97984.000000"},{"v":0,"d":"0.000000"},{"v":3.6740692357935988E-4,"d":"0.000367"},{"v":3.6740692357935988E-4,"d":"0.000367"},{"v":98025,"d":"98025.000000"},{"v":0,"d":"0.000000"}]
[{"$nulls":24},{"v":45,"d":"45.000000"},{"v":461.7,"d":"461.700000"},{"v":26,"d":"26.000000"},0.004617,{"v":0.00026,"d":"0.000260"},{"v":92974.51249652015,"d":"92974.512497"},{"v":0,"d":"0.000000"},{"v":0,"d":"0.000000"},{"v":0,"d":"0.000000"},null,{"v":0,"d":"0.000000"},{"v":0,"d":"0.000000"},{"v":100000,"d":"100000.000000"},{"v":0,"d":"0.000000"},null,{"v":97948,"d":"97948.000000"},{"v":0,"d":"0.000000"},{"v":3.1649446645158657E-4,"d":"0.000316"},{"v":3.1649446645158657E-4,"d":"0.000316"},{"v":97984,"d":"97984.000000"},{"v":0,"d":"0.000000"}]
[{"$nulls":24},{"v":50,"d":"50.000000"},{"v":658.3,"d":"658.300000"},{"v":54.6,"d":"54.600000"},{"v":6.5829999999999994E-3,"d":"0.006583"},0.000546,{"v":90828.19587553799,"d":"90828.195876"},{"v":0,"d":"0.000000"},{"v":0,"d":"0.000000"},{"v":0,"d":"0.000000"},null,{"v":0,"d":"0.000000"},{"v":0,"d":"0.000000"},{"v":100000,"d":"100000.000000"},{"v":0,"d":"0.000000"},null,{"v":97917,"d":"97917.000000"},{"v":0,"d":"0.000000"},{"v":2.757437421489629E-4,"d":"0.000276"},{"v":2.757437421489629E-4,"d":"0.000276"},{"v":97948,"d":"97948.000000"},{"v":0,"d":"0.000000"}]
[{"$nulls":24},{"v":55,"d":"55.000000"},{"v":1007.5,"d":"1007.500000"},{"v":118,"d":"118.000000"},0.010075,{"v":0.00118,"d":"0.001180"},{"v":87838.58580829465,"d":"87838.585808"},{"v":0,"d":"0.000000"},{"v":0,"d":"0.000000"},{"v":0,"d":"0.000000"},null,{"v":0,"d":"0.000000"},{"v":0,"d":"0.000000"},{"v":100000,"d":"100000.000000"},{"v":0,"d":"0.000000"},null,{"v":97890,"d":"97890.000000"},{"v":0,"d":"0.000000"},{"v":2.7581979773214831E-4,"d":"0.000276"},{"v":2.7581979773214831E-4,"d":"0.000276"},{"v":97917,"d":"97917.000000"},{"v":0,"d":"0.000000"}]
[{"$nulls":24},{"v":60,"d":"60.000000"},{"v":1565.5,"d":"1565.500000"},{"v":206.2,"d":"206.200000"},0.015655,{"v":2.062E-3,"d":"0.002062"},{"v":83413.71704820181,"d":"83413.717048"},{"v":0,"d":"0.000000"},{"v":0,"d":"0.000000"},{"v":0,"d":"0.000000"},null,{"v":0,"d":"0.000000"},{"v":0,"d":"0.000000"},{"v":100000,"d":"100000.000000"},{"v":0,"d":"0.000000"},null,{"v":97863,"d":"97863.000000"},{"v":0,"d":"0.000000"},{"v":0.000357642827217641,"d":"0.000358"},{"v":0.000357642827217641,"d":"0.000358"},{"v":97890,"d":"97890.000000"},{"v":0,"d":"0.000000"}]
[{"$nulls":24},{"v":65,"d":"65.000000"},{"v":2399.3,"d":"2399.300000"},{"v":327.5,"d":"327.500000"},0.023993,0.003275,{"v":76884.50834625382,"d":"76884.508346"},{"v":0,"d":"0.000000"},{"v":0,"d":"0.000000"},{"v":0,"d":"0.000000"},null,{"v":0,"d":"0.000000"},{"v":0,"d":"0.000000"},{"v":100000,"d":"100000.000000"},{"v":0,"d":"0.000000"},null,{"v":97828,"d":"97828.000000"},{"v":0,"d":"0.000000"},{"v":5.3154516089463141E-4,"d":"0.000532"},{"v":5.3154516089463141E-4,"d":"0.000532"},{"v":97863,"d":"97863.000000"},{"v":0,"d":"0.000000"}]
[{"$nulls":24},{"v":70,"d":"70.000000"},{"v":3705.4,"d":"3705.400000"},{"v":444,"d":"444.000000"},{"v":0.037054000000000004,"d":"0.037054"},{"v":0.00444,"d":"0.004440"},{"v":67661.05830249548,"d":"67661.058302"},{"v":0,"d":"0.000000"},{"v":0,"d":"0.000000"},{"v":0,"d":"0.000000"},null,{"v":0,"d":"0.000000"},{"v":0,"d":"0.000000"},{"v":100000,"d":"100000.000000"},{"v":0,"d":"0.000000"},null,{"v":97776,"d":"97776.000000"},{"v":0,"d":"0.000000"},{"v":7.7728685976108651E-4,"d":"0.000777"},{"v":7.7728685976108651E-4,"d":"0.000777"},{"v":97828,"d":"97828.000000"},{"v":0,"d":"0.000000"}]
[{"$nulls":24},{"v":75,"d":"75.000000"},{"v":5591.2,"d":"5591.200000"},{"v":507.3,"d":"507.300000"},{"v":0.055911999999999996,"d":"0.055912"},0.005073,{"v":55125.49403079214,"d":"55125.494031"},{"v":0,"d":"0.000000"},{"v":0,"d":"0.000000"},{"v":0,"d":"0.000000"},null,{"v":0,"d":"0.000000"},{"v":0,"d":"0.000000"},{"v":100000,"d":"100000.000000"},{"v":0,"d":"0.000000"},null,{"v":97700,"d":"97700.000000"},{"v":0,"d":"0.000000"},{"v":1.0440122824974412E-3,"d":"0.001044"},{"v":1.0440122824974412E-3,"d":"0.001044"},{"v":97776,"d":"97776.000000"},{"v":0,"d":"0.000000"}]
[{"$nulls":24},{"v":80,"d":"80.000000"},{"v":8956.9,"d":"8956.900000"},{"v":549.6,"d":"549.600000"},0.089569,{"v":5.496E-3,"d":"0.005496"},{"v":39714.61091954389,"d":"39714.610920"},{"v":0,"d":"0.000000"},{"v":0,"d":"0.000000"},{"v":0,"d":"0.000000"},null,{"v":0,"d":"0.000000"},{"v":0,"d":"0.000000"},{"v":100000,"d":"100000.000000"},{"v":0,"d":"0.000000"},null,{"v":97598,"d":"97598.000000"},{"v":0,"d":"0.000000"},{"v":1.3012561732822395E-3,"d":"0.001301"},{"v":1.3012561732822395E-3,"d":"0.001301"},{"v":97700,"d":"97700.000000"},{"v":0,"d":"0.000000"}]
[{"$nulls":24},{"v":85,"d":"85.000000"},{"v":16605.4,"d":"16605.400000"},{"v":499,"d":"499.000000"},0.166054,{"v":0.00499,"d":"0.004990"},{"v":21928.620992280757,"d":"21928.620992"},{"v":0,"d":"0.000000"},{"v":0,"d":"0.000000"},{"v":0,"d":"0.000000"},null,{"v":0,"d":"0.000000"},{"v":0,"d":"0.000000"},{"v":100000,"d":"100000.000000"},{"v":0,"d":"0.000000"},null,{"v":97471,"d":"97471.000000"},{"v":0,"d":"0.000000"},{"v":1.5184003447179161E-3,"d":"0.001518"},{"v":1.5184003447179161E-3,"d":"0.001518"},{"v":97598,"d":"97598.000000"},{"v":0,"d":"0.000000"}]
[{"$nulls":34},{"v":0,"d":"0.000000"},{"v":0,"d":"0.000000"},{"v":100000,"d":"100000.000000"},{"v":0,"d":"0.000000"},null,{"v":97323,"d":"97323.000000"},{"v":0,"d":"0.000000"},{"v":1.6851104055567543E-3,"d":"0.001685"},{"v":1.6851104055567543E-3,"d":"0.001685"},{"v":97471,"d":"97471.000000"},{"v":0,"d":"0.000000"}]
[{"$nulls":34},{"v":0,"d":"0.000000"},{"v":0,"d":"0.000000"},{"v":100000,"d":"100000.000000"},{"v":0,"d":"0.000000"},null,{"v":97159,"d":"97159.000000"},{"v":0,"d":"0.000000"},{"v":1.7908788686585905E-3,"d":"0.001791"},{"v":1.7908788686585905E-3,"d":"0.001791"},{"v":97323,"d":"97323.000000"},{"v":0,"d":"0.000000"}]
[{"$nulls":32},{"$f":"SUM(AG51:AG69)/100000*1000000","v":{"v":0,"d":"0.000000"}},null,{"v":0,"d":"0.000000"},{"v":0,"d":"0.000000"},{"v":100000,"d":"100000.000000"},{"v":0,"d":"0.000000"},null,{"v":96985,"d":"96985.000000"},{"v":0,"d":"0.000000"},{"v":1.8972005980306232E-3,"d":"0.001897"},{"v":1.8972005980306232E-3,"d":"0.001897"},{"v":97159,"d":"97159.000000"},{"v":0,"d":"0.000000"}]
[{"$nulls":34},{"v":0,"d":"0.000000"},{"v":0,"d":"0.000000"},{"v":100000,"d":"100000.000000"},{"v":0,"d":"0.000000"},null,{"v":96801,"d":"96801.000000"},{"v":0,"d":"0.000000"},{"v":2.0041115277734736E-3,"d":"0.002004"},{"v":2.0041115277734736E-3,"d":"0.002004"},{"v":96985,"d":"96985.000000"},{"v":0,"d":"0.000000"}]
[{"$nulls":34},{"v":0,"d":"0.000000"},{"v":0,"d":"0.000000"},{"v":100000,"d":"100000.000000"},{"v":0,"d":"0.000000"},null,{"v":96607,"d":"96607.000000"},{"v":0,"d":"0.000000"},{"v":0.002070243357106628,"d":"0.002070"},{"v":0.002070243357106628,"d":"0.002070"},{"v":96801,"d":"96801.000000"},{"v":0,"d":"0.000000"}]
[{"$nulls":34},{"v":0,"d":"0.000000"},{"v":0,"d":"0.000000"},{"v":100000,"d":"100000.000000"},{"v":0,"d":"0.000000"},null,{"v":96407,"d":"96407.000000"},{"v":0,"d":"0.000000"},{"v":0.002074538155943033,"d":"0.002075"},{"v":0.002074538155943033,"d":"0.002075"},{"v":96607,"d":"96607.000000"},{"v":0,"d":"0.000000"}]
[{"$nulls":24},"Lung cancer female",{"$nulls":9},{"v":0,"d":"0.000000"},{"v":0,"d":"0.000000"},{"v":100000,"d":"100000.000000"},{"v":0,"d":"0.000000"},null,{"v":96207,"d":"96207.000000"},{"v":0,"d":"0.000000"},{"v":2.0476680491024564E-3,"d":"0.002048"},{"v":2.0476680491024564E-3,"d":"0.002048"},{"v":96407,"d":"96407.000000"},{"v":0,"d":"0.000000"}]
[{"$nulls":30},"P",{"$nulls":3},{"v":0,"d":"0.000000"},{"v":0,"d":"0.000000"},{"v":100000,"d":"100000.000000"},{"v":0,"d":"0.000000"},null,{"v":96010,"d":"96010.000000"},{"v":0,"d":"0.000000"},{"v":2.0102072700760336E-3,"d":"0.002010"},{"v":2.0102072700760336E-3,"d":"0.002010"},{"v":96207,"d":"96207.000000"},{"v":0,"d":"0.000000"}]
[{"$nulls":24},{"v":0,"d":"0.000000"},{"v":654.3,"d":"654.300000"},{"v":0,"d":"0.000000"},{"$f":"Z78/100000","v":{"v":0.006542999999999999,"d":"0.006543"}},{"$f":"AA78/100000","v":{"v":0,"d":"0.000000"}},{"$f":"100000","v":{"v":100000,"d":"100000.000000"}},{"$f":"IF(Y78<10,0,IF(AND(OR(Y78>10,Y78=10),Y78<10+$H$53),$H$50*$H$52*(Y78-10),$H$50*$H$52*Y78))","v":{"v":0,"d":"0.000000"}},{"$f":"AC78*AE78","v":{"v":0,"d":"0.000000"}},{"$f":"AD78*AF78","v":{"v":0,"d":"0.000000"}},null,{"v":0,"d":"0.000000"},{"v":0,"d":"0.000000"},{"v":100000,"d":"100000.000000"},{"v":0,"d":"0.000000"},null,{"v":95817,"d":"95817.000000"},{"v":0,"d":"0.000000"},{"v":1.9725100973731176E-3,"d":"0.001973"},{"v":1.9725100973731176E-3,"d":"0.001973"},{"v":96010,"d":"96010.000000"},{"v":0,"d":"0.000000"}]
[{"$nulls":24},{"v":1,"d":"1.000000"},{"v":29.1,"d":"29.100000"},{"v":0,"d":"0.000000"},{"$f":"Z79/100000","v":0.000291},{"v":0,"d":"0.000000"},{"$f":"AD78-AB78*AD78*2","v":{"v":98691.4,"d":"98691.400000"}},{"v":0,"d":"0.000000"},{"$f":"AC79*AE79","v":{"v":0,"d":"0.000000"}},{"v":0,"d":"0.000000"},null,{"v":0,"d":"0.000000"},{"v":0,"d":"0.000000"},{"v":100000,"d":"100000.000000"},{"v":0,"d":"0.000000"},null,{"v":95628,"d":"95628.000000"},{"v":0,"d":"0.000000"},{"v":1.9241226419040448E-3,"d":"0.001924"},{"v":1.9241226419040448E-3,"d":"0.001924"},{"v":95817,"d":"95817.000000"},{"v":0,"d":"0.000000"}]
[{"$nulls":24},{"v":5,"d":"5.000000"},{"v":14.5,"d":"14.500000"},{"v":0,"d":"0.000000"},{"v":1.45E-4,"d":"0.000145"},{"v":0,"d":"0.000000"},{"$f":"AD79-AB79*AD79*5","v":98547.804013},{"v":0,"d":"0.000000"},{"v":0,"d":"0.000000"},{"v":0,"d":"0.000000"},null,{"v":0,"d":"0.000000"},{"v":0,"d":"0.000000"},{"v":100000,"d":"100000.000000"},{"v":0,"d":"0.000000"},null,{"v":95444,"d":"95444.000000"},{"v":0,"d":"0.000000"},{"v":1.8963999832362433E-3,"d":"0.001896"},{"v":1.8963999832362433E-3,"d":"0.001896"},{"v":95628,"d":"95628.000000"},{"v":0,"d":"0.000000"}]
[{"$nulls":24},{"v":10,"d":"10.000000"},{"v":16.6,"d":"16.600000"},{"v":0,"d":"0.000000"},{"v":1.6600000000000002E-4,"d":"0.000166"},{"v":0,"d":"0.000000"},{"$f":"AD80-AB80*AD80*5","v":{"v":98476.35685509058,"d":"98476.356855"}},{"v":0,"d":"0.000000"},{"v":0,"d":"0.000000"},{"v":0,"d":"0.000000"},null,{"v":0,"d":"0.000000"},{"v":0,"d":"0.000000"},{"v":100000,"d":"100000.000000"},{"v":0,"d":"0.000000"},null,{"v":95263,"d":"95263.000000"},{"v":0,"d":"0.000000"},{"v":1.8790086392408386E-3,"d":"0.001879"},{"v":1.8790086392408386E-3,"d":"0.001879"},{"v":95444,"d":"95444.000000"},{"v":0,"d":"0.000000"}]
[{"$nulls":24},{"v":15,"d":"15.000000"},{"v":40,"d":"40.000000"},{"v":0,"d":"0.000000"},{"v":0.0004,"d":"0.000400"},{"v":0,"d":"0.000000"},{"v":98394.62147890085,"d":"98394.621479"},{"v":0,"d":"0.000000"},{"v":0,"d":"0.000000"},{"v":0,"d":"0.000000"},null,{"v":0,"d":"0.000000"},{"v":0,"d":"0.000000"},{"v":100000,"d":"100000.000000"},{"v":0,"d":"0.000000"},null,{"v":95084,"d":"95084.000000"},{"v":0,"d":"0.000000"},{"v":1.8615119262967482E-3,"d":"0.001862"},{"v":1.8615119262967482E-3,"d":"0.001862"},{"v":95263,"d":"95263.000000"},{"v":0,"d":"0.000000"}]
[{"$nulls":24},{"v":20,"d":"20.000000"},{"v":48.2,"d":"48.200000"},{"v":0,"d":"0.000000"},0.000482,{"v":0,"d":"0.000000"},{"v":98197.83223594305,"d":"98197.832236"},{"v":0,"d":"0.000000"},{"v":0,"d":"0.000000"},{"v":0,"d":"0.000000"},null,{"$f":"IF(J83<10,0, IF(AND(OR(J83>10, J83=10),J83<10+$H$53),$H$51*$H$52*((J83-10)^3), $H$51*$H$52*((J83-10)^3-(J83-10-$H$53)^3)))","v":{"v":0,"d":"0.000000"}},{"v":0,"d":"0.000000"},{"v":100000,"d":"100000.000000"},{"v":0,"d":"0.000000"},null,{"v":94907,"d":"94907.000000"},{"v":0,"d":"0.000000"},{"v":1.8649836155394228E-3,"d":"0.001865"},{"v":1.8649836155394228E-3,"d":"0.001865"},{"v":95084,"d":"95084.000000"},{"v":0,"d":"0.000000"}]
[{"$nulls":24},{"v":25,"d":"25.000000"},{"v":56.5,"d":"56.500000"},{"v":0,"d":"0.000000"},0.000565,{"v":0,"d":"0.000000"},{"v":97961.17546025442,"d":"97961.175460"},{"v":0,"d":"0.000000"},{"v":0,"d":"0.000000"},{"v":0,"d":"0.000000"},null,{"v":0,"d":"0.000000"},{"$f":"Q83+AI83","v":{"v":0,"d":"0.000000"}},{"v":100000,"d":"100000.000000"},{"$f":"AK84*AI83","v":{"v":0,"d":"0.000000"}},null,{"v":94730,"d":"94730.000000"},{"$f":"IF($J83<10,0, IF(AND(OR($J83>10, $J83=10),$J83<10+$H$53),$H$51*$H$52*(($J83-10)^3), $H$51*$H$52*(($J83-10)^3-($J83-10-$H$53)^3)))","v":{"v":0,"d":"0.000000"}},{"$f":"(AN84-AN85)/AN84","v":{"v":1.8895809141771351E-3,"d":"0.001890"}},{"v":1.8895809141771351E-3,"d":"0.001890"},{"v":94907,"d":"94907.000000"},{"v":0,"d":"0.000000"}]
[{"$nulls":24},{"v":30,"d":"30.000000"},{"v":76,"d":"76.000000"},{"v":0.9,"d":"0.900000"},{"v":0.00076,"d":"0.000760"},{"v":9e-06,"d":"0.000009"},{"v":97684.4351395792,"d":"97684.435140"},{"v":0,"d":"0.000000"},{"$f":"AC85*AE85*5","v":{"v":0,"d":"0.000000"}},{"v":0,"d":"0.000000"},null,{"v":0,"d":"0.000000"},{"v":0,"d":"0.000000"},{"v":100000,"d":"100000.000000"},{"v":0,"d":"0.000000"},null,{"v":94551,"d":"94551.000000"},{"v":0,"d":"0.000000"},{"v":1.9671923089126502E-3,"d":"0.001967"},{"v":1.9671923089126502E-3,"d":"0.001967"},{"v":94730,"d":"94730.000000"},{"$f":"AR85*AO84","v":{"v":0,"d":"0.000000"}}]
[{"$nulls":24},{"v":35,"d":"35.000000"},{"v":115.1,"d":"115.100000"},{"v":2.6,"d":"2.600000"},0.001151,{"v":2.6000000000000002E-5,"d":"0.000026"},{"v":97313.2342860488,"d":"97313.234286"},{"v":0,"d":"0.000000"},{"v":0,"d":"0.000000"},{"v":0,"d":"0.000000"},null,{"v":0,"d":"0.000000"},{"v":0,"d":"0.000000"},{"v":100000,"d":"100000.000000"},{"v":0,"d":"0.000000"},null,{"v":94365,"d":"94365.000000"},{"v":0,"d":"0.000000"},{"v":2.087638425263604E-3,"d":"0.002088"},{"v":2.087638425263604E-3,"d":"0.002088"},{"$f":"AR85-AR85*AQ84","v":{"v":94551,"d":"94551.000000"}},{"v":0,"d":"0.000000"}]
[{"$nulls":24},{"v":40,"d":"40.000000"},{"v":172.2,"d":"172.200000"},{"v":8.1,"d":"8.100000"},{"v":1.7219999999999998E-3,"d":"0.001722"},{"v":8.099999999999999E-5,"d":"0.000081"},{"v":96753.19662273259,"d":"96753.196623"},{"v":0,"d":"0.000000"},{"v":0,"d":"0.000000"},{"v":0,"d":"0.000000"},null,{"v":0,"d":"0.000000"},{"v":0,"d":"0.000000"},{"v":100000,"d":"100000.000000"},{"v":0,"d":"0.000000"},null,{"v":94168,"d":"94168.000000"},{"v":0,"d":"0.000000"},{"v":2.2300569195480417E-3,"d":"0.002230"},{"v":2.2300569195480417E-3,"d":"0.002230"},{"v":94365,"d":"94365.000000"},{"v":0,"d":"0.000000"}]
[{"$nulls":24},{"v":45,"d":"45.000000"},{"v":254,"d":"254.000000"},{"v":16.6,"d":"16.600000"},{"v":0.00254,"d":"0.002540"},{"v":1.6600000000000002E-4,"d":"0.000166"},{"v":95920.15159981087,"d":"95920.151600"},{"v":0,"d":"0.000000"},{"v":0,"d":"0.000000"},{"v":0,"d":"0.000000"},null,{"v":0,"d":"0.000000"},{"v":0,"d":"0.000000"},{"v":100000,"d":"100000.000000"},{"v":0,"d":"0.000000"},null,{"v":93958,"d":"93958.000000"},{"v":0,"d":"0.000000"},{"v":2.3840439345239363E-3,"d":"0.002384"},{"v":2.3840439345239363E-3,"d":"0.002384"},{"v":94168,"d":"94168.000000"},{"v":0,"d":"0.000000"}]
[{"$nulls":24},{"v":50,"d":"50.000000"},{"v":386.3,"d":"386.300000"},{"v":35.1,"d":"35.100000"},0.003863,0.000351,{"v":94701.96567449327,"d":"94701.965674"},{"v":0,"d":"0.000000"},{"v":0,"d":"0.000000"},{"v":0,"d":"0.000000"},null,{"v":0,"d":"0.000000"},{"v":0,"d":"0.000000"},{"v":100000,"d":"100000.000000"},{"v":0,"d":"0.000000"},null,{"v":93734,"d":"93734.000000"},{"v":0,"d":"0.000000"},{"v":2.5711054686666525E-3,"d":"0.002571"},{"v":2.5711054686666525E-3,"d":"0.002571"},{"v":93958,"d":"93958.000000"},{"v":0,"d":"0.000000"}]
[{"$nulls":24},{"v":55,"d":"55.000000"},{"v":611.8,"d":"611.800000"},{"v":70.9,"d":"70.900000"},{"v":0.006117999999999999,"d":"0.006118"},{"v":7.090000000000001E-4,"d":"0.000709"},{"v":92872.79720749044,"d":"92872.797207"},{"v":0,"d":"0.000000"},{"v":0,"d":"0.000000"},{"v":0,"d":"0.000000"},null,{"v":0,"d":"0.000000"},{"v":0,"d":"0.000000"},{"v":100000,"d":"100000.000000"},{"v":0,"d":"0.000000"},null,{"v":93493,"d":"93493.000000"},{"v":0,"d":"0.000000"},{"v":0.002770260875145733,"d":"0.002770"},{"v":0.002770260875145733,"d":"0.002770"},{"v":93734,"d":"93734.000000"},{"v":0,"d":"0.000000"}]
[{"$nulls":24},{"v":60,"d":"60.000000"},{"v":982,"d":"982.000000"},{"v":122.3,"d":"122.300000"},{"v":0.00982,"d":"0.009820"},0.001223,{"v":90031.8183409133,"d":"90031.818341"},{"v":0,"d":"0.000000"},{"v":0,"d":"0.000000"},{"v":0,"d":"0.000000"},null,{"v":0,"d":"0.000000"},{"v":0,"d":"0.000000"},{"v":100000,"d":"100000.000000"},{"v":0,"d":"0.000000"},null,{"v":93234,"d":"93234.000000"},{"v":0,"d":"0.000000"},{"v":2.992470557950962E-3,"d":"0.002992"},{"v":2.992470557950962E-3,"d":"0.002992"},{"v":93493,"d":"93493.000000"},{"v":0,"d":"0.000000"}]
[{"$nulls":24},{"v":65,"d":"65.000000"},{"v":1527.5,"d":"1527.500000"},{"v":181.6,"d":"181.600000"},0.015275,0.001816,{"v":85611.25606037446,"d":"85611.256060"},{"v":0,"d":"0.000000"},{"v":0,"d":"0.000000"},{"v":0,"d":"0.000000"},null,{"v":0,"d":"0.000000"},{"v":0,"d":"0.000000"},{"v":100000,"d":"100000.000000"},{"v":0,"d":"0.000000"},null,{"v":92955,"d":"92955.000000"},{"v":0,"d":"0.000000"},{"v":3.2488838685385403E-3,"d":"0.003249"},{"v":3.2488838685385403E-3,"d":"0.003249"},{"v":93234,"d":"93234.000000"},{"v":0,"d":"0.000000"}]
[{"$nulls":24},{"v":70,"d":"70.000000"},{"v":2381.8,"d":"2381.800000"},{"v":238.7,"d":"238.700000"},{"v":0.023818000000000002,"d":"0.023818"},0.002387,{"v":79072.69637876336,"d":"79072.696379"},{"v":0,"d":"0.000000"},{"v":0,"d":"0.000000"},{"v":0,"d":"0.000000"},null,{"v":0,"d":"0.000000"},{"v":0,"d":"0.000000"},{"v":100000,"d":"100000.000000"},{"v":0,"d":"0.000000"},null,{"v":92653,"d":"92653.000000"},{"v":0,"d":"0.000000"},{"v":3.5508834036674475E-3,"d":"0.003551"},{"v":3.5508834036674475E-3,"d":"0.003551"},{"v":92955,"d":"92955.000000"},{"v":0,"d":"0.000000"}]
[{"$nulls":24},{"v":75,"d":"75.000000"},{"v":3812.6,"d":"3812.600000"},{"v":268.6,"d":"268.600000"},0.038126,{"v":2.686E-3,"d":"0.002686"},{"v":69655.92896701643,"d":"69655.928967"},{"v":0,"d":"0.000000"},{"v":0,"d":"0.000000"},{"v":0,"d":"0.000000"},null,{"v":0,"d":"0.000000"},{"v":0,"d":"0.000000"},{"v":100000,"d":"100000.000000"},{"v":0,"d":"0.000000"},null,{"v":92324,"d":"92324.000000"},{"v":0,"d":"0.000000"},{"v":3.8776482821368226E-3,"d":"0.003878"},{"v":3.8776482821368226E-3,"d":"0.003878"},{"v":92653,"d":"92653.000000"},{"v":0,"d":"0.000000"}]
[{"$nulls":24},{"v":80,"d":"80.000000"},{"v":6444.8,"d":"6444.800000"},{"v":272.8,"d":"272.800000"},0.064448,{"v":2.728E-3,"d":"0.002728"},{"v":56377.41922803409,"d":"56377.419228"},{"v":0,"d":"0.000000"},{"v":0,"d":"0.000000"},{"v":0,"d":"0.000000"},null,{"v":0,"d":"0.000000"},{"v":0,"d":"0.000000"},{"v":100000,"d":"100000.000000"},{"v":0,"d":"0.000000"},null,{"v":91966,"d":"91966.000000"},{"v":0,"d":"0.000000"},{"v":0.004251571232846921,"d":"0.004252"},{"v":0.004251571232846921,"d":"0.004252"},{"v":92324,"d":"92324.000000"},{"v":0,"d":"0.000000"}]
[{"$nulls":24},{"v":85,"d":"85.000000"},{"v":14768.6,"d":"14768.600000"},{"v":213.5,"d":"213.500000"},0.147686,0.002135,{"v":38210.35965599238,"d":"38210.359656"},{"v":0,"d":"0.000000"},{"v":0,"d":"0.000000"},{"v":0,"d":"0.000000"},null,{"v":0,"d":"0.000000"},{"v":0,"d":"0.000000"},{"v":100000,"d":"100000.000000"},{"v":0,"d":"0.000000"},null,{"v":91575,"d":"91575.000000"},{"v":0,"d":"0.000000"},{"v":0.004673764673764674,"d":"0.004674"},{"v":0.004673764673764674,"d":"0.004674"},{"v":91966,"d":"91966.000000"},{"v":0,"d":"0.000000"}]
[{"$nulls":34},{"v":0,"d":"0.000000"},{"v":0,"d":"0.000000"},{"v":100000,"d":"100000.000000"},{"v":0,"d":"0.000000"},null,{"v":91147,"d":"91147.000000"},{"v":0,"d":"0.000000"},{"v":0.005123591560885163,"d":"0.005124"},{"v":0.005123591560885163,"d":"0.005124"},{"v":91575,"d":"91575.000000"},{"v":0,"d":"0.000000"}]
[{"$nulls":34},{"v":0,"d":"0.000000"},{"v":0,"d":"0.000000"},{"v":100000,"d":"100000.000000"},{"v":0,"d":"0.000000"},null,{"v":90680,"d":"90680.000000"},{"v":0,"d":"0.000000"},{"v":5.6241729157476845E-3,"d":"0.005624"},{"v":5.6241729157476845E-3,"d":"0.005624"},{"v":91147,"d":"91147.000000"},{"v":0,"d":"0.000000"}]
[{"$nulls":32},{"$f":"SUM(AG78:AG96)/100000*1000000","v":{"v":0,"d":"0.000000"}},null,{"v":0,"d":"0.000000"},{"v":0,"d":"0.000000"},{"v":100000,"d":"100000.000000"},{"v":0,"d":"0.000000"},null,{"v":90170,"d":"90170.000000"},{"v":0,"d":"0.000000"},{"v":6.177220805145836E-3,"d":"0.006177"},{"v":6.177220805145836E-3,"d":"0.006177"},{"v":90680,"d":"90680.000000"},{"v":0,"d":"0.000000"}]
[{"$nulls":34},{"v":0,"d":"0.000000"},{"v":0,"d":"0.000000"},{"v":100000,"d":"100000.000000"},{"v":0,"d":"0.000000"},null,{"v":89613,"d":"89613.000000"},{"v":0,"d":"0.000000"},{"v":0.006818207179761865,"d":"0.006818"},{"v":0.006818207179761865,"d":"0.006818"},{"v":90170,"d":"90170.000000"},{"v":0,"d":"0.000000"}]
[{"$nulls":24},"Lung cancer both genders",{"$nulls":9},{"v":0,"d":"0.000000"},{"v":0,"d":"0.000000"},{"v":100000,"d":"100000.000000"},{"v":0,"d":"0.000000"},null,{"v":89002,"d":"89002.000000"},{"v":0,"d":"0.000000"},{"v":0.007505449315745713,"d":"0.007505"},{"v":0.007505449315745713,"d":"0.007505"},{"v":89613,"d":"89613.000000"},{"v":0,"d":"0.000000"}]
[{"$nulls":25},"Total death/100,000","Lung cancer, per 100,000",{"$nulls":3},"P",{"$nulls":3},{"v":0,"d":"0.000000"},{"v":0,"d":"0.000000"},{"v":100000,"d":"100000.000000"},{"v":0,"d":"0.000000"},null,{"v":88334,"d":"88334.000000"},{"v":0,"d":"0.000000"},{"v":0.0082754092421944,"d":"0.008275"},{"v":0.0082754092421944,"d":"0.008275"},{"v":89002,"d":"89002.000000"},{"v":0,"d":"0.000000"}]
[{"$nulls":23},{"v":0,"d":"0.000000"},{"$f":"X103-$O$41","v":{"v":-18,"d":"-18.000000"}},{"$f":"(Z51+Z78)/2","v":{"v":727.0999999999999,"d":"727.100000"}},{"$f":"(AA51+AA78)/2","v":{"v":0,"d":"0.000000"}},{"$f":"Z103/100000","v":{"v":0.007270999999999999,"d":"0.007271"}},{"$f":"AA103/100000","v":{"v":0,"d":"0.000000"}},{"$f":"100000","v":{"v":100000,"d":"100000.000000"}},{"$f":"IF(Y103<10,0,IF(AND(OR(Y103>10,Y103=10),Y103<10+$H$53),$H$50*$H$52*(Y103-10),$H$50*$H$52*Y103))","v":{"v":0,"d":"0.000000"}},{"$f":"AC103*AE103","v":{"v":0,"d":"0.000000"}},{"$f":"AD103*AF103","v":{"v":0,"d":"0.000000"}},null,{"v":0,"d":"0.000000"},{"v":0,"d":"0.000000"},{"v":100000,"d":"100000.000000"},{"v":0,"d":"0.000000"},null,{"v":87603,"d":"87603.000000"},{"v":0,"d":"0.000000"},{"v":0.00910927707955207,"d":"0.009109"},{"v":0.00910927707955207,"d":"0.009109"},{"v":88334,"d":"88334.000000"},{"v":0,"d":"0.000000"}]
[{"$nulls":23},{"v":1,"d":"1.000000"},{"v":-17,"d":"-17.000000"},{"$f":"(Z52+Z79)/2","v":{"v":32.8,"d":"32.800000"}},{"v":0,"d":"0.000000"},{"$f":"Z104/100000","v":{"v":3.2799999999999995E-4,"d":"0.000328"}},{"v":0,"d":"0.000000"},{"$f":"AD103-AB103*AD103*2","v":{"v":98545.8,"d":"98545.800000"}},{"v":0,"d":"0.000000"},{"$f":"AC104*AE104","v":{"v":0,"d":"0.000000"}},{"v":0,"d":"0.000000"},null,{"v":0,"d":"0.000000"},{"v":0,"d":"0.000000"},{"v":100000,"d":"100000.000000"},{"v":0,"d":"0.000000"},null,{"v":86805,"d":"86805.000000"},{"v":0,"d":"0.000000"},{"v":0.009953343701399688,"d":"0.009953"},{"v":0.009953343701399688,"d":"0.009953"},{"v":87603,"d":"87603.000000"},{"v":0,"d":"0.000000"}]
[{"$nulls":23},{"v":5,"d":"5.000000"},{"v":-13,"d":"-13.000000"},{"v":16.4,"d":"16.400000"},{"v":0,"d":"0.000000"},{"v":1.6399999999999997E-4,"d":"0.000164"},{"v":0,"d":"0.000000"},{"$f":"AD104-AB104*AD104*5","v":98384.184888},{"v":0,"d":"0.000000"},{"v":0,"d":"0.000000"},{"v":0,"d":"0.000000"},null,{"v":0,"d":"0.000000"},{"v":0,"d":"0.000000"},{"v":100000,"d":"100000.000000"},{"v":0,"d":"0.000000"},null,{"v":85941,"d":"85941.000000"},{"v":0,"d":"0.000000"},{"v":0.010809741566888912,"d":"0.010810"},{"v":0.010809741566888912,"d":"0.010810"},{"v":86805,"d":"86805.000000"},{"v":0,"d":"0.000000"}]
[{"$nulls":23},{"v":10,"d":"10.000000"},{"v":-8,"d":"-8.000000"},{"v":20.8,"d":"20.800000"},{"v":0,"d":"0.000000"},{"v":2.0800000000000001E-4,"d":"0.000208"},{"v":0,"d":"0.000000"},{"$f":"AD105-AB105*AD105*5","v":{"v":98303.50985639184,"d":"98303.509856"}},{"v":0,"d":"0.000000"},{"v":0,"d":"0.000000"},{"v":0,"d":"0.000000"},null,{"v":0,"d":"0.000000"},{"v":0,"d":"0.000000"},{"v":100000,"d":"100000.000000"},{"v":0,"d":"0.000000"},null,{"v":85012,"d":"85012.000000"},{"v":0,"d":"0.000000"},{"v":0.011715993036277232,"d":"0.011716"},{"v":0.011715993036277232,"d":"0.011716"},{"v":85941,"d":"85941.000000"},{"v":0,"d":"0.000000"}]
[{"$nulls":23},{"v":15,"d":"15.000000"},{"v":-3,"d":"-3.000000"},{"v":67.45,"d":"67.450000"},{"v":0,"d":"0.000000"},{"v":6.7450000000000008E-4,"d":"0.000675"},{"v":0,"d":"0.000000"},{"v":98201.2742061412,"d":"98201.274206"},{"v":0,"d":"0.000000"},{"v":0,"d":"0.000000"},{"v":0,"d":"0.000000"},null,{"v":0,"d":"0.000000"},{"v":0,"d":"0.000000"},{"v":100000,"d":"100000.000000"},{"v":0,"d":"0.000000"},null,{"v":84016,"d":"84016.000000"},{"v":0,"d":"0.000000"},{"v":0.012640449438202247,"d":"0.012640"},{"v":0.012640449438202247,"d":"0.012640"},{"v":85012,"d":"85012.000000"},{"v":0,"d":"0.000000"}]
[{"$nulls":23},{"v":20,"d":"20.000000"},{"v":2,"d":"2.000000"},{"v":95.1,"d":"95.100000"},{"v":0,"d":"0.000000"},{"v":9.5099999999999991E-4,"d":"0.000951"},{"v":0,"d":"0.000000"},{"v":97870.09040888099,"d":"97870.090409"},{"v":0,"d":"0.000000"},{"v":0,"d":"0.000000"},{"v":0,"d":"0.000000"},null,{"v":0,"d":"0.000000"},{"v":0,"d":"0.000000"},{"v":100000,"d":"100000.000000"},{"v":0,"d":"0.000000"},null,{"v":82954,"d":"82954.000000"},{"v":0,"d":"0.000000"},{"v":0.013658171998939171,"d":"0.013658"},{"v":0.013658171998939171,"d":"0.013658"},{"v":84016,"d":"84016.000000"},{"v":0,"d":"0.000000"}]
[{"$nulls":23},{"v":25,"d":"25.000000"},{"v":7,"d":"7.000000"},{"v":99.2,"d":"99.200000"},{"v":0.15,"d":"0.150000"},0.000992,{"v":1.5E-6,"d":"0.000002"},{"v":97404.71812898676,"d":"97404.718129"},{"v":0,"d":"0.000000"},{"$f":"AC109*AE109*5","v":{"v":0,"d":"0.000000"}},{"v":0,"d":"0.000000"},null,{"v":0,"d":"0.000000"},{"v":0,"d":"0.000000"},{"v":100000,"d":"100000.000000"},{"v":0,"d":"0.000000"},null,{"v":81821,"d":"81821.000000"},{"v":0,"d":"0.000000"},{"v":0.014910597523863067,"d":"0.014911"},{"v":0.014910597523863067,"d":"0.014911"},{"v":82954,"d":"82954.000000"},{"v":0,"d":"0.000000"}]
[{"$nulls":23},{"v":30,"d":"30.000000"},{"v":12,"d":"12.000000"},{"v":116.65,"d":"116.650000"},{"v":0.8500000000000001,"d":"0.850000"},{"v":1.1665E-3,"d":"0.001167"},{"v":8.5000000000000016E-6,"d":"0.000009"},{"v":96921.59072706698,"d":"96921.590727"},{"v":0,"d":"0.000000"},{"$f":"AC110*AE110*5","v":{"v":0,"d":"0.000000"}},{"v":0,"d":"0.000000"},null,{"v":0,"d":"0.000000"},{"v":0,"d":"0.000000"},{"v":100000,"d":"100000.000000"},{"v":0,"d":"0.000000"},null,{"v":80601,"d":"80601.000000"},{"v":0,"d":"0.000000"},{"v":0.016463815585414574,"d":"0.016464"},{"v":0.016463815585414574,"d":"0.016464"},{"v":81821,"d":"81821.000000"},{"v":0,"d":"0.000000"}]
[{"$nulls":23},{"v":35,"d":"35.000000"},{"v":17,"d":"17.000000"},{"v":162.45,"d":"162.450000"},{"v":2.95,"d":"2.950000"},{"v":1.6244999999999999E-3,"d":"0.001625"},{"v":2.9500000000000002E-5,"d":"0.000030"},{"v":96356.29554915137,"d":"96356.295549"},{"v":0,"d":"0.000000"},{"v":0,"d":"0.000000"},{"v":0,"d":"0.000000"},null,{"v":0,"d":"0.000000"},{"v":0,"d":"0.000000"},{"v":100000,"d":"100000.000000"},{"v":0,"d":"0.000000"},null,{"v":79274,"d":"79274.000000"},{"v":0,"d":"0.000000"},{"v":0.018265761788228172,"d":"0.018266"},{"v":0.018265761788228172,"d":"0.018266"},{"v":80601,"d":"80601.000000"},{"v":0,"d":"0.000000"}]
[{"$nulls":23},{"v":40,"d":"40.000000"},{"v":22,"d":"22.000000"},{"v":237.75,"d":"237.750000"},{"v":9.25,"d":"9.250000"},{"v":0.0023775,"d":"0.002378"},{"v":9.25e-05,"d":"0.000093"},{"v":95573.64153855339,"d":"95573.641539"},{"v":0,"d":"0.000000"},{"v":0,"d":"0.000000"},{"v":0,"d":"0.000000"},null,{"v":0,"d":"0.000000"},{"v":0,"d":"0.000000"},{"v":100000,"d":"100000.000000"},{"v":0,"d":"0.000000"},null,{"v":77826,"d":"77826.000000"},{"v":0,"d":"0.000000"},{"v":0.02025030195564464,"d":"0.020250"},{"v":0.02025030195564464,"d":"0.020250"},{"v":79274,"d":"79274.000000"},{"v":0,"d":"0.000000"}]
[{"$nulls":23},{"v":45,"d":"45.000000"},{"v":27,"d":"27.000000"},{"v":357.85,"d":"357.850000"},{"v":21.3,"d":"21.300000"},{"v":0.0035785,"d":"0.003579"},{"v":2.13E-4,"d":"0.000213"},{"v":94437.50987476384,"d":"94437.509875"},{"v":0,"d":"0.000000"},{"v":0,"d":"0.000000"},{"v":0,"d":"0.000000"},null,{"v":0,"d":"0.000000"},{"v":0,"d":"0.000000"},{"v":100000,"d":"100000.000000"},{"v":0,"d":"0.000000"},null,{"v":76250,"d":"76250.000000"},{"v":0,"d":"0.000000"},{"v":0.022308196721311475,"d":"0.022308"},{"v":0.022308196721311475,"d":"0.022308"},{"v":77826,"d":"77826.000000"},{"v":0,"d":"0.000000"}]
[{"$nulls":23},{"v":50,"d":"50.000000"},{"v":32,"d":"32.000000"},{"v":522.3,"d":"522.300000"},{"v":44.85,"d":"44.850000"},{"v":0.005222999999999999,"d":"0.005223"},{"v":0.0004485,"d":"0.000449"},{"v":92747.78672932963,"d":"92747.786729"},{"v":0,"d":"0.000000"},{"v":0,"d":"0.000000"},{"v":0,"d":"0.000000"},null,{"v":0,"d":"0.000000"},{"v":0,"d":"0.000000"},{"v":100000,"d":"100000.000000"},{"v":0,"d":"0.000000"},null,{"v":74549,"d":"74549.000000"},{"v":0,"d":"0.000000"},{"v":0.024292747052274345,"d":"0.024293"},{"v":0.024292747052274345,"d":"0.024293"},{"v":76250,"d":"76250.000000"},{"v":0,"d":"0.000000"}]
[{"$nulls":23},{"v":55,"d":"55.000000"},{"v":37,"d":"37.000000"},{"v":809.65,"d":"809.650000"},{"v":94.45,"d":"94.450000"},{"v":0.0080965,"d":"0.008097"},{"v":0.0009445,"d":"0.000945"},{"v":90325.67827889319,"d":"90325.678279"},{"v":0,"d":"0.000000"},{"v":0,"d":"0.000000"},{"v":0,"d":"0.000000"},null,{"$f":"IF(J115<10,0, IF(AND(OR(J115>10, J115=10),J115<10+$H$53),$H$51*$H$52*((J115-10)^3), $H$51*$H$52*((J115-10)^3-(J115-10-$H$53)^3)))","v":{"v":0,"d":"0.000000"}},{"v":0,"d":"0.000000"},{"v":100000,"d":"100000.000000"},{"v":0,"d":"0.000000"},null,{"v":72738,"d":"72738.000000"},{"v":0,"d":"0.000000"},{"v":0.026107399158624103,"d":"0.026107"},{"v":0.026107399158624103,"d":"0.026107"},{"v":74549,"d":"74549.000000"},{"v":0,"d":"0.000000"}]
[{"$nulls":23},{"v":60,"d":"60.000000"},{"v":42,"d":"42.000000"},{"v":1273.75,"d":"1273.750000"},{"v":164.25,"d":"164.250000"},{"v":0.0127375,"d":"0.012738"},{"v":0.0016425,"d":"0.001643"},{"v":86669.06900796789,"d":"86669.069008"},{"v":0,"d":"0.000000"},{"v":0,"d":"0.000000"},{"v":0,"d":"0.000000"},null,{"v":0,"d":"0.000000"},{"$f":"Q115+AI115","v":{"v":0,"d":"0.000000"}},{"v":100000,"d":"100000.000000"},{"$f":"AK116*AI115","v":{"v":0,"d":"0.000000"}},null,{"v":70839,"d":"70839.000000"},{"$f":"IF($J115<10,0, IF(AND(OR($J115>10, $J115=10),$J115<10+$H$53),$H$51*$H$52*(($J115-10)^3), $H$51*$H$52*(($J115-10)^3-($J115-10-$H$53)^3)))","v":{"v":0,"d":"0.000000"}},{"$f":"(AN116-AN117)/AN116","v":{"v":0.027837772978161746,"d":"0.027838"}},{"v":0.027837772978161746,"d":"0.027838"},{"v":72738,"d":"72738.000000"},{"v":0,"d":"0.000000"}]
[{"$nulls":23},{"v":65,"d":"65.000000"},{"v":47,"d":"47.000000"},{"v":1963.4,"d":"1963.400000"},{"v":254.55,"d":"254.550000"},{"v":0.019634000000000002,"d":"0.019634"},{"v":2.5455E-3,"d":"0.002546"},{"v":81149.33267552294,"d":"81149.332676"},{"v":0,"d":"0.000000"},{"v":0,"d":"0.000000"},{"v":0,"d":"0.000000"},null,{"v":0,"d":"0.000000"},{"v":0,"d":"0.000000"},{"v":100000,"d":"100000.000000"},{"v":0,"d":"0.000000"},null,{"v":68867,"d":"68867.000000"},{"v":0,"d":"0.000000"},{"v":0.02957875324901622,"d":"0.029579"},{"$f":"AP117+AO117","v":{"v":0.02957875324901622,"d":"0.029579"}},{"v":70839,"d":"70839.000000"},{"$f":"AR117*AO116","v":{"v":0,"d":"0.000000"}}]
[{"$nulls":23},{"v":70,"d":"70.000000"},{"v":52,"d":"52.000000"},{"v":3043.6000000000004,"d":"3043.600000"},{"v":341.35,"d":"341.350000"},{"v":0.030436000000000005,"d":"0.030436"},{"v":3.4135000000000003E-3,"d":"0.003414"},{"v":73182.90268676684,"d":"73182.902687"},{"v":0,"d":"0.000000"},{"v":0,"d":"0.000000"},{"v":0,"d":"0.000000"},null,{"v":0,"d":"0.000000"},{"v":0,"d":"0.000000"},{"$f":"AK117-AK117*AJ117","v":{"v":100000,"d":"100000.000000"}},{"v":0,"d":"0.000000"},null,{"v":66830,"d":"66830.000000"},{"v":0,"d":"0.000000"},{"v":0.03154272033517881,"d":"0.031543"},{"v":0.03154272033517881,"d":"0.031543"},{"$f":"AR117-AR117*AQ116","v":{"v":68867,"d":"68867.000000"}},{"v":0,"d":"0.000000"}]
[{"$nulls":23},{"v":75,"d":"75.000000"},{"v":57,"d":"57.000000"},{"v":4701.9,"d":"4701.900000"},{"v":387.95000000000005,"d":"387.950000"},0.047019,{"v":3.8795000000000006E-3,"d":"0.003880"},{"v":62045.928555894665,"d":"62045.928556"},{"v":0,"d":"0.000000"},{"v":0,"d":"0.000000"},{"v":0,"d":"0.000000"},null,{"v":0,"d":"0.000000"},{"v":0,"d":"0.000000"},{"v":100000,"d":"100000.000000"},{"v":0,"d":"0.000000"},null,{"v":64722,"d":"64722.000000"},{"v":0,"d":"0.000000"},{"v":0.0338679274435277,"d":"0.033868"},{"v":0.0338679274435277,"d":"0.033868"},{"v":66830,"d":"66830.000000"},{"v":0,"d":"0.000000"}]
[{"$nulls":23},{"v":80,"d":"80.000000"},{"v":62,"d":"62.000000"},{"v":7700.85,"d":"7700.850000"},{"v":411.20000000000005,"d":"411.200000"},{"v":0.07700850000000001,"d":"0.077009"},0.004112,{"v":47459.24098204661,"d":"47459.240982"},{"v":0,"d":"0.000000"},{"v":0,"d":"0.000000"},{"v":0,"d":"0.000000"},null,{"v":0,"d":"0.000000"},{"v":0,"d":"0.000000"},{"v":100000,"d":"100000.000000"},{"v":0,"d":"0.000000"},null,{"v":62530,"d":"62530.000000"},{"v":0,"d":"0.000000"},{"v":0.036750359827282905,"d":"0.036750"},{"v":0.036750359827282905,"d":"0.036750"},{"v":64722,"d":"64722.000000"},{"v":0,"d":"0.000000"}]
[{"$nulls":23},{"v":85,"d":"85.000000"},{"v":67,"d":"67.000000"},{"v":15687,"d":"15687.000000"},{"v":356.25,"d":"356.250000"},{"v":0.15687,"d":"0.156870"},{"v":0.0035625,"d":"0.003563"},{"v":29185.416186216928,"d":"29185.416186"},{"v":0,"d":"0.000000"},{"v":0,"d":"0.000000"},{"v":0,"d":"0.000000"},null,{"v":0,"d":"0.000000"},{"v":0,"d":"0.000000"},{"v":100000,"d":"100000.000000"},{"v":0,"d":"0.000000"},null,{"v":60232,"d":"60232.000000"},{"v":0,"d":"0.000000"},{"v":0.04012817107185549,"d":"0.040128"},{"v":0.04012817107185549,"d":"0.040128"},{"v":62530,"d":"62530.000000"},{"v":0,"d":"0.000000"}]
[{"$nulls":34},{"v":0,"d":"0.000000"},{"v":0,"d":"0.000000"},{"v":100000,"d":"100000.000000"},{"v":0,"d":"0.000000"},null,{"v":57815,"d":"57815.000000"},{"v":0,"d":"0.000000"},{"v":0.04377756637550809,"d":"0.043778"},{"v":0.04377756637550809,"d":"0.043778"},{"v":60232,"d":"60232.000000"},{"v":0,"d":"0.000000"}]
[{"$nulls":34},{"v":0,"d":"0.000000"},{"v":0,"d":"0.000000"},{"v":100000,"d":"100000.000000"},{"v":0,"d":"0.000000"},null,{"v":55284,"d":"55284.000000"},{"v":0,"d":"0.000000"},{"v":0.04760871138123146,"d":"0.047609"},{"v":0.04760871138123146,"d":"0.047609"},{"v":57815,"d":"57815.000000"},{"v":0,"d":"0.000000"}]
[{"$nulls":32},{"$f":"SUM(AG103:AG121)/100000*1000000","v":{"v":0,"d":"0.000000"}},null,{"v":0,"d":"0.000000"},{"v":0,"d":"0.000000"},{"v":100000,"d":"100000.000000"},{"v":0,"d":"0.000000"},null,{"v":52652,"d":"52652.000000"},{"v":0,"d":"0.000000"},{"v":0.05183088961482945,"d":"0.051831"},{"v":0.05183088961482945,"d":"0.051831"},{"v":55284,"d":"55284.000000"},{"v":0,"d":"0.000000"}]
[{"$nulls":34},{"v":0,"d":"0.000000"},{"v":0,"d":"0.000000"},{"v":100000,"d":"100000.000000"},{"v":0,"d":"0.000000"},null,{"v":49923,"d":"49923.000000"},{"v":0,"d":"0.000000"},{"v":0.0564869899645454,"d":"0.056487"},{"v":0.0564869899645454,"d":"0.056487"},{"v":52652,"d":"52652.000000"},{"v":0,"d":"0.000000"}]
[{"$nulls":34},{"v":0,"d":"0.000000"},{"v":0,"d":"0.000000"},{"v":100000,"d":"100000.000000"},{"v":0,"d":"0.000000"},null,{"v":47103,"d":"47103.000000"},{"v":0,"d":"0.000000"},{"v":0.061567203787444534,"d":"0.061567"},{"v":0.061567203787444534,"d":"0.061567"},{"v":49923,"d":"49923.000000"},{"v":0,"d":"0.000000"}]
[{"$nulls":34},{"v":0,"d":"0.000000"},{"v":0,"d":"0.000000"},{"v":100000,"d":"100000.000000"},{"v":0,"d":"0.000000"},null,{"v":44203,"d":"44203.000000"},{"v":0,"d":"0.000000"},{"v":0.06703164943555867,"d":"0.067032"},{"v":0.06703164943555867,"d":"0.067032"},{"v":47103,"d":"47103.000000"},{"v":0,"d":"0.000000"}]
[{"$nulls":34},{"v":0,"d":"0.000000"},{"v":0,"d":"0.000000"},{"v":100000,"d":"100000.000000"},{"v":0,"d":"0.000000"},null,{"v":41240,"d":"41240.000000"},{"v":0,"d":"0.000000"},{"v":0.07286614936954414,"d":"0.072866"},{"v":0.07286614936954414,"d":"0.072866"},{"v":44203,"d":"44203.000000"},{"v":0,"d":"0.000000"}]
[{"$nulls":34},{"v":0,"d":"0.000000"},{"v":0,"d":"0.000000"},{"v":100000,"d":"100000.000000"},{"v":0,"d":"0.000000"},null,{"v":38235,"d":"38235.000000"},{"v":0,"d":"0.000000"},{"v":0.0790113770105924,"d":"0.079011"},{"v":0.0790113770105924,"d":"0.079011"},{"v":41240,"d":"41240.000000"},{"v":0,"d":"0.000000"}]
[{"$nulls":34},{"v":0,"d":"0.000000"},{"v":0,"d":"0.000000"},{"v":100000,"d":"100000.000000"},{"v":0,"d":"0.000000"},null,{"v":35214,"d":"35214.000000"},{"v":0,"d":"0.000000"},{"v":0.08539217356733117,"d":"0.085392"},{"v":0.08539217356733117,"d":"0.085392"},{"v":38235,"d":"38235.000000"},{"v":0,"d":"0.000000"}]
[{"$nulls":34},{"v":0,"d":"0.000000"},{"v":0,"d":"0.000000"},{"v":100000,"d":"100000.000000"},{"v":0,"d":"0.000000"},null,{"v":32207,"d":"32207.000000"},{"v":0,"d":"0.000000"},{"v":0.0919365355357531,"d":"0.091937"},{"v":0.0919365355357531,"d":"0.091937"},{"v":35214,"d":"35214.000000"},{"v":0,"d":"0.000000"}]
[{"$nulls":34},{"v":0,"d":"0.000000"},{"v":0,"d":"0.000000"},{"v":100000,"d":"100000.000000"},{"v":0,"d":"0.000000"},null,{"v":29246,"d":"29246.000000"},{"v":0,"d":"0.000000"},{"v":0.09850919783902072,"d":"0.098509"},{"v":0.09850919783902072,"d":"0.098509"},{"v":32207,"d":"32207.000000"},{"v":0,"d":"0.000000"}]
[{"$nulls":34},{"v":0,"d":"0.000000"},{"v":0,"d":"0.000000"},{"v":100000,"d":"100000.000000"},{"v":0,"d":"0.000000"},null,{"v":26365,"d":"26365.000000"},{"v":0,"d":"0.000000"},{"v":0.10487388583349137,"d":"0.104874"},{"v":0.10487388583349137,"d":"0.104874"},{"v":29246,"d":"29246.000000"},{"v":0,"d":"0.000000"}]
[{"$nulls":34},{"v":0,"d":"0.000000"},{"v":0,"d":"0.000000"},{"v":100000,"d":"100000.000000"},{"v":0,"d":"0.000000"},null,{"v":23600,"d":"23600.000000"},{"v":0,"d":"0.000000"},{"v":0.11059322033898306,"d":"0.110593"},{"v":0.11059322033898306,"d":"0.110593"},{"v":26365,"d":"26365.000000"},{"v":0,"d":"0.000000"}]
[{"$nulls":34},{"v":0,"d":"0.000000"},{"v":0,"d":"0.000000"},{"v":100000,"d":"100000.000000"},{"v":0,"d":"0.000000"},null,{"v":20990,"d":"20990.000000"},{"v":0,"d":"0.000000"},{"v":0.11495950452596475,"d":"0.114960"},{"v":0.11495950452596475,"d":"0.114960"},{"v":23600,"d":"23600.000000"},{"v":0,"d":"0.000000"}]
[{"$nulls":34},{"v":0,"d":"0.000000"},{"v":0,"d":"0.000000"},{"v":100000,"d":"100000.000000"},{"v":0,"d":"0.000000"},null,{"v":18577,"d":"18577.000000"},{"v":0,"d":"0.000000"},{"v":0.11702643053237875,"d":"0.117026"},{"v":0.11702643053237875,"d":"0.117026"},{"v":20990,"d":"20990.000000"},{"v":0,"d":"0.000000"}]
[{"$nulls":34},{"v":0,"d":"0.000000"},{"v":0,"d":"0.000000"},{"v":100000,"d":"100000.000000"},{"v":0,"d":"0.000000"},null,{"v":16403,"d":"16403.000000"},{"v":0,"d":"0.000000"},{"v":1,"d":"1.000000"},{"v":1,"d":"1.000000"},{"v":18577,"d":"18577.000000"},{"v":0,"d":"0.000000"}]
[{"$nulls":34},{"v":0,"d":"0.000000"},{"v":0,"d":"0.000000"},{"v":100000,"d":"100000.000000"},{"v":0,"d":"0.000000"},{"$nulls":5},{"v":16403,"d":"16403.000000"},{"v":0,"d":"0.000000"}]
[{"$nulls":34},{"v":0,"d":"0.000000"},{"v":0,"d":"0.000000"},{"v":100000,"d":"100000.000000"},{"v":0,"d":"0.000000"}]
[{"$nulls":34},{"v":0,"d":"0.000000"},{"v":0,"d":"0.000000"},{"v":100000,"d":"100000.000000"},{"v":0,"d":"0.000000"}]
[{"$nulls":34},{"v":0,"d":"0.000000"},{"v":0,"d":"0.000000"},{"v":100000,"d":"100000.000000"},{"v":0,"d":"0.000000"}]
[{"$nulls":34},{"v":0,"d":"0.000000"},{"v":0,"d":"0.000000"},{"v":100000,"d":"100000.000000"},{"v":0,"d":"0.000000"}]
[{"$nulls":34},{"v":0,"d":"0.000000"},{"v":0,"d":"0.000000"},{"v":100000,"d":"100000.000000"},{"v":0,"d":"0.000000"}]
[{"$nulls":34},{"v":0,"d":"0.000000"},{"v":0,"d":"0.000000"},{"v":100000,"d":"100000.000000"},{"v":0,"d":"0.000000"}]
[{"$nulls":34},{"v":0,"d":"0.000000"},{"v":0,"d":"0.000000"},{"v":100000,"d":"100000.000000"},{"v":0,"d":"0.000000"}]
[{"$nulls":34},{"v":0,"d":"0.000000"},{"v":0,"d":"0.000000"},{"v":100000,"d":"100000.000000"},{"v":0,"d":"0.000000"}]
[{"$nulls":34},{"$f":"IF(J147<10,0, IF(AND(OR(J147>10, J147=10),J147<10+$H$53),$H$51*$H$52*((J147-10)^3), $H$51*$H$52*((J147-10)^3-(J147-10-$H$53)^3)))","v":{"v":0,"d":"0.000000"}},{"v":0,"d":"0.000000"},{"v":100000,"d":"100000.000000"},{"v":0,"d":"0.000000"}]
[{"$nulls":34},{"v":0,"d":"0.000000"},{"$f":"Q147+AI147","v":{"v":0,"d":"0.000000"}},{"v":100000,"d":"100000.000000"},{"$f":"AK148*AI147","v":{"v":0,"d":"0.000000"}}]
[{"$nulls":34},{"v":0,"d":"0.000000"},{"v":0,"d":"0.000000"},{"v":100000,"d":"100000.000000"},{"v":0,"d":"0.000000"}]
[{"$nulls":34},{"v":0,"d":"0.000000"},{"v":0,"d":"0.000000"},{"v":100000,"d":"100000.000000"},{"v":0,"d":"0.000000"}]
[{"$nulls":34},{"v":0,"d":"0.000000"},{"v":0,"d":"0.000000"},{"v":100000,"d":"100000.000000"},{"v":0,"d":"0.000000"}]
[{"$nulls":34},{"v":0,"d":"0.000000"},{"v":0,"d":"0.000000"},{"v":100000,"d":"100000.000000"},{"v":0,"d":"0.000000"}]
[{"$nulls":34},{"v":0,"d":"0.000000"},{"v":0,"d":"0.000000"},{"v":100000,"d":"100000.000000"},{"v":0,"d":"0.000000"}]
[{"$nulls":34},{"v":0,"d":"0.000000"},{"v":0,"d":"0.000000"},{"v":100000,"d":"100000.000000"},{"v":0,"d":"0.000000"}]
[{"$nulls":34},{"v":0,"d":"0.000000"},{"v":0,"d":"0.000000"},{"v":100000,"d":"100000.000000"},{"v":0,"d":"0.000000"}]
[{"$nulls":34},{"v":0,"d":"0.000000"},{"v":0,"d":"0.000000"},{"v":100000,"d":"100000.000000"},{"v":0,"d":"0.000000"}]
[{"$nulls":34},{"v":0,"d":"0.000000"},{"v":0,"d":"0.000000"},{"v":100000,"d":"100000.000000"},{"v":0,"d":"0.000000"}]
[{"$nulls":34},{"v":0,"d":"0.000000"},{"v":0,"d":"0.000000"},{"v":100000,"d":"100000.000000"},{"v":0,"d":"0.000000"}]
[{"$nulls":34},{"v":0,"d":"0.000000"},{"v":0,"d":"0.000000"},{"v":100000,"d":"100000.000000"},{"v":0,"d":"0.000000"}]
[{"$nulls":34},{"v":0,"d":"0.000000"},{"v":0,"d":"0.000000"},{"v":100000,"d":"100000.000000"},{"v":0,"d":"0.000000"}]
[{"$nulls":34},{"v":0,"d":"0.000000"},{"v":0,"d":"0.000000"},{"v":100000,"d":"100000.000000"},{"v":0,"d":"0.000000"}]
[{"$nulls":34},{"v":0,"d":"0.000000"},{"v":0,"d":"0.000000"},{"v":100000,"d":"100000.000000"},{"v":0,"d":"0.000000"}]
[{"$nulls":34},{"v":0,"d":"0.000000"},{"v":0,"d":"0.000000"},{"v":100000,"d":"100000.000000"},{"v":0,"d":"0.000000"}]
[{"$nulls":34},{"v":0,"d":"0.000000"},{"v":0,"d":"0.000000"},{"v":100000,"d":"100000.000000"},{"v":0,"d":"0.000000"}]
[{"$nulls":34},{"v":0,"d":"0.000000"},{"v":0,"d":"0.000000"},{"v":100000,"d":"100000.000000"},{"v":0,"d":"0.000000"}]
[{"$nulls":34},{"v":0,"d":"0.000000"},{"v":0,"d":"0.000000"},{"v":100000,"d":"100000.000000"},{"v":0,"d":"0.000000"}]
[{"$nulls":34},{"v":0,"d":"0.000000"},{"v":0,"d":"0.000000"},{"v":100000,"d":"100000.000000"},{"v":0,"d":"0.000000"}]
[{"$nulls":34},{"v":0,"d":"0.000000"},{"v":0,"d":"0.000000"},{"v":100000,"d":"100000.000000"},{"v":0,"d":"0.000000"}]
[{"$nulls":34},{"v":0,"d":"0.000000"},{"v":0,"d":"0.000000"},{"v":100000,"d":"100000.000000"},{"v":0,"d":"0.000000"}]
[{"$nulls":34},{"v":0,"d":"0.000000"},{"v":0,"d":"0.000000"},{"v":100000,"d":"100000.000000"},{"v":0,"d":"0.000000"}]
[{"$nulls":35},{"v":0,"d":"0.000000"},{"v":100000,"d":"100000.000000"},{"v":0,"d":"0.000000"}]
[]
[{"$nulls":37},"Both genders mesothelioma"]
[{"$nulls":37},{"$f":"SUM(AL52:AL171)/100000*1000000","v":{"v":0,"d":"0.000000"}},{"$nulls":6},"Male mesethelioma 1977"]
[{"$nulls":44},{"$f":"SUM(AS53:AS172)/100000*1000000","v":{"v":0,"d":"0.000000"}}]
[]
["Hodgson and Darnton, 2000 ","Occupational Equivalent, Total Exposure, F/CC Years","Lung Cancer Lifetime Excess Risk, per 1,000000","Age at Onset Correction Factor","Pleural Mesothelioma Lifetime Excess Risk, per 1,000,000","Peritoneal Mesothelioma Lifetime Excess Risk, per 1,000,000","Total Excess Risk, per 1,000,000","LUNG CANCER RELATIVE RISK"]
["Tremolite",{"$f":"N44","v":{"$error":"#REF!"}},{"$f":"1.6*(B178^1.3)*54/1000*1000000/100","v":{"$error":"#REF!"}},{"$f":"10^(1.0787-0.0368*O41)","v":{"v":2.6079544390266034,"d":"2.607954"}},{"$f":"0.13*(B178^0.75)*1000000/100*D178*0.7","v":{"$error":"#REF!"}},{"$f":"0.0006*(B178^2.1)*100000/100*10*D178*0.7","v":{"$error":"#REF!"}},{"$f":"C178+E178+F178","v":{"$error":"#REF!"}},{"$f":"(1.6*(B178^1.3))/100+1","v":{"$error":"#REF!"}},{"$f":"E178+F178","v":{"$error":"#REF!"}}]
["Chrysotile",{"$f":"N43","v":{"$error":"#REF!"}},{"$f":"0.028*(B179^1.3)*54/1000*1000000/100*IF(B8<5,1.4,1)","v":{"$error":"#REF!"}},{"$f":"10^(1.0787-0.0368*O41)","v":{"v":2.6079544390266034,"d":"2.607954"}},{"$f":"0.0047*(B179^0.75)*1000000/100*D179*0.7*IF(B8<5,1.4,1)","v":{"$error":"#REF!"}},{"$f":"0*(B179^2.1)*100000/100*10*D179*0.7","v":{"$error":"#REF!"}},{"$f":"C179+E179+F179","v":{"$error":"#REF!"}},{"$f":"(0.028*(B179^1.3))/100+1","v":{"$error":"#REF!"}},{"$f":"E179+F179","v":{"$error":"#REF!"}}]
["Crocidolite",{"$f":"N46","v":{"$error":"#REF!"}},{"$f":"1.6*(B180^1.3)*54/1000*1000000/100","v":{"$error":"#REF!"}},{"$f":"10^(1.0787-0.0368*O41)","v":{"v":2.6079544390266034,"d":"2.607954"}},{"$f":"0.94*(B180^0.75)*1000000/100*D180*0.7","v":{"$error":"#REF!"}},{"$f":"0.0022*(B180^2.1)*100000/100*10*D180*0.7","v":{"$error":"#REF!"}},{"$f":"C180+E180+F180","v":{"$error":"#REF!"}},{"$f":"(1.6*(B180^1.3))/100+1","v":{"$error":"#REF!"}}]
["Amosite",{"$f":"N48","v":{"$error":"#REF!"}},{"$f":"1.6*(B181^1.3)*54/1000*1000000/100","v":{"$error":"#REF!"}},{"$f":"10^(1.0787-0.0368*O41)","v":{"v":2.6079544390266034,"d":"2.607954"}},{"$f":"0.13*(B181^0.75)*1000000/100*D181*0.7","v":{"$error":"#REF!"}},{"$f":"0.0006*(B181^2.1)*100000/100*10*D181*0.7","v":{"$error":"#REF!"}},{"$f":"C181+E181+F181","v":{"$error":"#REF!"}},{"$f":"(1.6*(B181^1.3))/100+1","v":{"$error":"#REF!"}}]
["Moolgavkar, 2010 for Libby, Montana, Lifetable Method",{"$nulls":9},"Male",null,null,"Female ",null,null,"Total"]
[{"$nulls":6},"Kl",{"$f":"0.11*10^(-2)","v":{"v":0.0011,"d":"0.001100"}},null,null,"Probability of death ",null,"LE","Probability of death","Sx (surviving till age x)","LE","Probability of death",null,null,"Mesothelioma male",{"$nulls":4},"Lung cancer male",{"$nulls":5},"P",{"$nulls":3},"Mesothelioma both genders"]
[{"$nulls":6},"Km",{"$f":"0.5*10^(-8)","v":{"v":5e-09,"d":"0.000000"}},{"v":0,"d":"0.000000"},{"$f":"I184-$O$41","v":{"v":-18,"d":"-18.000000"}},0.007379,{"v":100000,"d":"100000.000000"},{"v":75.38,"d":"75.380000"},0.006096,{"v":100000,"d":"100000.000000"},{"v":80.43,"d":"80.430000"},{"$f":"(K184+N184)/2","v":{"v":0.0067375,"d":"0.006738"}},{"v":100000,"d":"100000.000000"},null,{"$f":"IF($J184<10,0, IF(AND(OR($J184>10, $J184=10),$J184<10+$H$53),$H$51*$H$52*(($J184-10)^3), $H$51*$H$52*(($J184-10)^3-($J184-10-$H$53)^3)))","v":{"v":0,"d":"0.000000"}},{"$f":"K184+T184","v":0.007379},{"$f":"100000","v":{"v":100000,"d":"100000.000000"}},{"$f":"V184*T184","v":{"v":0,"d":"0.000000"}},null,{"v":0,"d":"0.000000"},{"v":799.9,"d":"799.900000"},{"v":0,"d":"0.000000"},{"$f":"Z184/100000","v":0.007999},{"$f":"AA184/100000","v":{"v":0,"d":"0.000000"}},{"$f":"100000","v":{"v":100000,"d":"100000.000000"}},{"$f":"IF(Y184<10,0,IF(AND(OR(Y184>10,Y184=10),Y184<10+$H$53),$H$50*$H$52*(Y184-10),$H$50*$H$52*Y184))","v":{"v":0,"d":"0.000000"}},{"$f":"AC184*AE184","v":{"v":0,"d":"0.000000"}},{"$f":"AD184*AF184","v":{"v":0,"d":"0.000000"}},null,{"$f":"IF(J184<10,0, IF(AND(OR(J184>10, J184=10),J184<10+$H$186),$H$184*$H$185*((J184-10)^3), $H$184*$H$185*((J184-10)^3-(J184-10-$H$186)^3)))","v":{"v":0,"d":"0.000000"}},{"$nulls":4},"mesothelioma male 1977 ",null,"Death rate"]
[{"$nulls":6},"f",{"$f":"M41*2.8","v":{"v":0.0318,"d":"0.031800"}},{"v":1,"d":"1.000000"},{"v":-17,"d":"-17.000000"},0.000494,{"v":99262,"d":"99262.000000"},{"v":74.94,"d":"74.940000"},0.000434,{"v":99390,"d":"99390.000000"},{"v":79.92,"d":"79.920000"},{"$f":"(K185+N185)/2","v":{"v":4.64E-4,"d":"0.000464"}},{"$f":"R184-Q184*R184","v":{"v":99326.25,"d":"99326.250000"}},null,{"v":0,"d":"0.000000"},{"$f":"K185+T185","v":0.000494},{"$f":"V184-V184*U184","v":{"v":99262.1,"d":"99262.100000"}},{"$f":"V185*T185","v":{"v":0,"d":"0.000000"}},null,{"v":1,"d":"1.000000"},{"v":36.5,"d":"36.500000"},{"v":0,"d":"0.000000"},{"$f":"Z185/100000","v":0.000365},{"v":0,"d":"0.000000"},{"$f":"AD184-AB184*AD184*2","v":{"v":98400.2,"d":"98400.200000"}},{"v":0,"d":"0.000000"},{"$f":"AC185*AE185","v":{"v":0,"d":"0.000000"}},{"v":0,"d":"0.000000"},null,{"v":0,"d":"0.000000"},{"$f":"Q184+AI184","v":{"v":0.0067375,"d":"0.006738"}},{"$f":"100000","v":{"v":100000,"d":"100000.000000"}},{"$f":"AK185*AI184","v":{"v":0,"d":"0.000000"}},null,{"v":100000,"d":"100000.000000"},{"$f":"IF($J184<10,0, IF(AND(OR($J184>10, $J184=10),$J184<10+$H$53),$H$51*$H$52*(($J184-10)^3), $H$51*$H$52*(($J184-10)^3-($J184-10-$H$53)^3)))","v":{"v":0,"d":"0.000000"}},{"$f":"(AN185-AN186)/AN185","v":{"v":0.01586,"d":"0.015860"}},{"$f":"AP185+AO185","v":{"v":0.01586,"d":"0.015860"}}]
[{"$nulls":6},"d",{"$f":"H41","v":{"v":45,"d":"45.000000"}},{"v":2,"d":"2.000000"},{"v":-16,"d":"-16.000000"},0.000317,{"v":99213,"d":"99213.000000"},{"v":73.98,"d":"73.980000"},0.000256,{"v":99347,"d":"99347.000000"},{"v":78.95,"d":"78.950000"},{"v":2.8649999999999997E-4,"d":"0.000287"},{"$f":"R185-Q185*R185","v":{"v":99280.16262,"d":"99280.162620"}},null,{"v":0,"d":"0.000000"},0.000317,{"$f":"V185-V185*U185","v":{"v":99213.0645226,"d":"99213.064523"}},{"v":0,"d":"0.000000"},null,{"v":5,"d":"5.000000"},{"v":18.3,"d":"18.300000"},{"v":0,"d":"0.000000"},{"v":1.83E-4,"d":"0.000183"},{"v":0,"d":"0.000000"},{"$f":"AD185-AB185*AD185*5","v":98220.619635},{"v":0,"d":"0.000000"},{"v":0,"d":"0.000000"},{"v":0,"d":"0.000000"},null,{"v":0,"d":"0.000000"},{"v":4.64E-4,"d":"0.000464"},{"$f":"AK185-AK185*AJ185","v":{"v":99326.25,"d":"99326.250000"}},{"v":0,"d":"0.000000"},null,{"v":98414,"d":"98414.000000"},{"v":0,"d":"0.000000"},{"v":1.0364379051760928E-3,"d":"0.001036"},{"$f":"AP186+AO186","v":{"v":1.0364379051760928E-3,"d":"0.001036"}},{"$f":"100000","v":{"v":100000,"d":"100000.000000"}},{"$f":"AR186*AO185","v":{"v":0,"d":"0.000000"}}]
[{"$nulls":8},{"v":3,"d":"3.000000"},{"v":-15,"d":"-15.000000"},{"v":2.41E-4,"d":"0.000241"},{"v":99182,"d":"99182.000000"},{"v":73,"d":"73.000000"},{"v":1.92E-4,"d":"0.000192"},{"v":99322,"d":"99322.000000"},{"v":77.97,"d":"77.970000"},{"v":2.165E-4,"d":"0.000217"},{"v":99251.71885340937,"d":"99251.718853"},null,{"v":0,"d":"0.000000"},{"v":2.41E-4,"d":"0.000241"},{"v":99181.61398114634,"d":"99181.613981"},{"v":0,"d":"0.000000"},null,{"v":10,"d":"10.000000"},{"v":25,"d":"25.000000"},{"v":0,"d":"0.000000"},{"v":0.00025,"d":"0.000250"},{"v":0,"d":"0.000000"},{"$f":"AD186-AB186*AD186*5","v":{"v":98130.74776803397,"d":"98130.747768"}},{"v":0,"d":"0.000000"},{"v":0,"d":"0.000000"},{"v":0,"d":"0.000000"},null,{"v":0,"d":"0.000000"},{"v":2.8649999999999997E-4,"d":"0.000287"},{"$f":"AK186-AK186*AJ186","v":{"v":99280.16262,"d":"99280.162620"}},{"v":0,"d":"0.000000"},null,{"v":98312,"d":"98312.000000"},{"v":0,"d":"0.000000"},{"v":8.0356416307266658E-4,"d":"0.000804"},{"v":8.0356416307266658E-4,"d":"0.000804"},{"$f":"AR186-AR186*AQ185","v":{"v":98414,"d":"98414.000000"}},{"v":0,"d":"0.000000"}]
[{"$nulls":8},{"v":4,"d":"4.000000"},{"v":-14,"d":"-14.000000"},{"v":0.0002,"d":"0.000200"},{"v":99158,"d":"99158.000000"},{"v":72.02,"d":"72.020000"},0.000148,{"v":99303,"d":"99303.000000"},{"v":76.99,"d":"76.990000"},{"v":1.74E-4,"d":"0.000174"},{"v":99230.23085627762,"d":"99230.230856"},null,{"v":0,"d":"0.000000"},{"v":0.0002,"d":"0.000200"},{"v":99157.71121217687,"d":"99157.711212"},{"v":0,"d":"0.000000"},null,{"v":15,"d":"15.000000"},{"v":94.9,"d":"94.900000"},{"v":0,"d":"0.000000"},{"v":9.4900000000000008E-4,"d":"0.000949"},{"v":0,"d":"0.000000"},{"v":98008.08433332392,"d":"98008.084333"},{"v":0,"d":"0.000000"},{"v":0,"d":"0.000000"},{"v":0,"d":"0.000000"},null,{"v":0,"d":"0.000000"},{"v":2.165E-4,"d":"0.000217"},{"v":99251.71885340937,"d":"99251.718853"},{"v":0,"d":"0.000000"},null,{"v":98233,"d":"98233.000000"},{"v":0,"d":"0.000000"},{"v":6.4133234249183068E-4,"d":"0.000641"},{"v":6.4133234249183068E-4,"d":"0.000641"},{"v":98312,"d":"98312.000000"},{"v":0,"d":"0.000000"}]
[{"$nulls":8},{"v":5,"d":"5.000000"},{"v":-13,"d":"-13.000000"},0.000179,{"v":99138,"d":"99138.000000"},{"v":71.03,"d":"71.030000"},{"v":1.36E-4,"d":"0.000136"},{"v":99288,"d":"99288.000000"},{"v":76,"d":"76.000000"},{"v":1.5749999999999998E-4,"d":"0.000158"},{"v":99212.96479610863,"d":"99212.964796"},null,{"v":0,"d":"0.000000"},0.000179,{"v":99137.87966993444,"d":"99137.879670"},{"v":0,"d":"0.000000"},null,{"v":20,"d":"20.000000"},{"v":142,"d":"142.000000"},{"v":0,"d":"0.000000"},{"v":1.42E-3,"d":"0.001420"},{"v":0,"d":"0.000000"},{"v":97543.03597316229,"d":"97543.035973"},{"v":0,"d":"0.000000"},{"v":0,"d":"0.000000"},{"v":0,"d":"0.000000"},null,{"v":0,"d":"0.000000"},{"v":1.74E-4,"d":"0.000174"},{"v":99230.23085627762,"d":"99230.230856"},{"v":0,"d":"0.000000"},null,{"v":98170,"d":"98170.000000"},{"v":0,"d":"0.000000"},{"v":0.000539879800346338,"d":"0.000540"},{"v":0.000539879800346338,"d":"0.000540"},{"v":98233,"d":"98233.000000"},{"v":0,"d":"0.000000"}]
[{"$nulls":8},{"v":6,"d":"6.000000"},{"v":-12,"d":"-12.000000"},{"v":1.66E-4,"d":"0.000166"},{"v":99120,"d":"99120.000000"},{"v":70.04,"d":"70.040000"},0.000128,{"v":99275,"d":"99275.000000"},{"v":75.01,"d":"75.010000"},{"v":1.47E-4,"d":"0.000147"},{"v":99197.33875415324,"d":"99197.338754"},null,{"v":0,"d":"0.000000"},{"v":1.66E-4,"d":"0.000166"},{"v":99120.13398947351,"d":"99120.133989"},{"v":0,"d":"0.000000"},null,{"v":25,"d":"25.000000"},{"v":141.9,"d":"141.900000"},{"v":0.3,"d":"0.300000"},{"v":1.4190000000000001E-3,"d":"0.001419"},{"v":3e-06,"d":"0.000003"},{"v":96850.48041775284,"d":"96850.480418"},{"v":0,"d":"0.000000"},{"$f":"AC190*AE190*5","v":{"v":0,"d":"0.000000"}},{"v":0,"d":"0.000000"},null,{"v":0,"d":"0.000000"},{"v":1.5749999999999998E-4,"d":"0.000158"},{"v":99212.96479610863,"d":"99212.964796"},{"v":0,"d":"0.000000"},null,{"v":98117,"d":"98117.000000"},{"v":0,"d":"0.000000"},{"v":4.8921185931082283E-4,"d":"0.000489"},{"v":4.8921185931082283E-4,"d":"0.000489"},{"v":98170,"d":"98170.000000"},{"v":0,"d":"0.000000"}]
[{"$nulls":8},{"v":7,"d":"7.000000"},{"v":-11,"d":"-11.000000"},0.000152,{"v":99104,"d":"99104.000000"},{"v":69.05,"d":"69.050000"},{"v":1.22E-4,"d":"0.000122"},{"v":99262,"d":"99262.000000"},{"v":74.02,"d":"74.020000"},{"v":1.37E-4,"d":"0.000137"},{"v":99182.75674535638,"d":"99182.756745"},null,{"v":0,"d":"0.000000"},0.000152,{"v":99103.68004723126,"d":"99103.680047"},{"v":0,"d":"0.000000"},null,{"v":30,"d":"30.000000"},{"v":157.3,"d":"157.300000"},{"v":0.8,"d":"0.800000"},{"v":1.5730000000000002E-3,"d":"0.001573"},{"v":8e-06,"d":"0.000008"},{"v":96163.32625918889,"d":"96163.326259"},{"v":0,"d":"0.000000"},{"v":0,"d":"0.000000"},{"v":0,"d":"0.000000"},null,{"v":0,"d":"0.000000"},{"v":1.47E-4,"d":"0.000147"},{"v":99197.33875415324,"d":"99197.338754"},{"v":0,"d":"0.000000"},null,{"v":98069,"d":"98069.000000"},{"v":0,"d":"0.000000"},{"v":4.4866369596916459E-4,"d":"0.000449"},{"v":4.4866369596916459E-4,"d":"0.000449"},{"v":98117,"d":"98117.000000"},{"v":0,"d":"0.000000"}]
[{"$nulls":6},"Libby Amphibole",{"$f":"AG257+AL307","v":{"v":464.48784898192224,"d":"464.487849"}},{"v":8,"d":"8.000000"},{"v":-10,"d":"-10.000000"},0.000133,{"v":99089,"d":"99089.000000"},{"v":68.06,"d":"68.060000"},{"v":1.15E-4,"d":"0.000115"},{"v":99250,"d":"99250.000000"},{"v":73.03,"d":"73.030000"},0.000124,{"v":99169.16870768227,"d":"99169.168708"},null,{"v":0,"d":"0.000000"},0.000133,{"v":99088.61628786408,"d":"99088.616288"},{"v":0,"d":"0.000000"},null,{"v":35,"d":"35.000000"},{"v":209.8,"d":"209.800000"},{"v":3.3,"d":"3.300000"},{"v":2.098E-3,"d":"0.002098"},{"v":3.2999999999999996E-5,"d":"0.000033"},{"v":95407.00169816037,"d":"95407.001698"},{"v":0,"d":"0.000000"},{"v":0,"d":"0.000000"},{"v":0,"d":"0.000000"},null,{"v":0,"d":"0.000000"},{"v":1.37E-4,"d":"0.000137"},{"v":99182.75674535638,"d":"99182.756745"},{"v":0,"d":"0.000000"},null,{"v":98025,"d":"98025.000000"},{"v":0,"d":"0.000000"},{"v":4.1826064779393009E-4,"d":"0.000418"},{"v":4.1826064779393009E-4,"d":"0.000418"},{"v":98069,"d":"98069.000000"},{"v":0,"d":"0.000000"}]
[{"$nulls":8},{"v":9,"d":"9.000000"},{"v":-9,"d":"-9.000000"},{"v":1.08E-4,"d":"0.000108"},{"v":99075,"d":"99075.000000"},{"v":67.07,"d":"67.070000"},{"v":1.06E-4,"d":"0.000106"},{"v":99238,"d":"99238.000000"},{"v":72.04,"d":"72.040000"},{"v":1.07E-4,"d":"0.000107"},{"v":99156.87173076252,"d":"99156.871731"},null,{"v":0,"d":"0.000000"},{"v":1.08E-4,"d":"0.000108"},{"v":99075.43750189779,"d":"99075.437502"},{"v":0,"d":"0.000000"},null,{"v":40,"d":"40.000000"},{"v":303.3,"d":"303.300000"},{"v":10.4,"d":"10.400000"},0.003033,{"v":1.0400000000000001E-4,"d":"0.000104"},{"v":94406.18225034667,"d":"94406.182250"},{"v":0,"d":"0.000000"},{"v":0,"d":"0.000000"},{"v":0,"d":"0.000000"},null,{"v":0,"d":"0.000000"},0.000124,{"v":99169.16870768227,"d":"99169.168708"},{"v":0,"d":"0.000000"},null,{"v":97984,"d":"97984.000000"},{"v":0,"d":"0.000000"},{"v":3.6740692357935988E-4,"d":"0.000367"},{"v":3.6740692357935988E-4,"d":"0.000367"},{"v":98025,"d":"98025.000000"},{"v":0,"d":"0.000000"}]
[{"$nulls":8},{"v":10,"d":"10.000000"},{"v":-8,"d":"-8.000000"},{"v":8.9e-05,"d":"0.000089"},{"v":99065,"d":"99065.000000"},{"v":66.08,"d":"66.080000"},{"v":1E-4,"d":"0.000100"},{"v":99228,"d":"99228.000000"},{"v":71.04,"d":"71.040000"},{"v":9.4499999999999993E-5,"d":"0.000095"},{"v":99146.26194548733,"d":"99146.261945"},null,{"v":0,"d":"0.000000"},{"v":8.9e-05,"d":"0.000089"},{"v":99064.73735464759,"d":"99064.737355"},{"v":0,"d":"0.000000"},null,{"v":45,"d":"45.000000"},{"v":461.7,"d":"461.700000"},{"v":26,"d":"26.000000"},0.004617,{"v":0.00026,"d":"0.000260"},{"v":92974.51249652015,"d":"92974.512497"},{"v":0,"d":"0.000000"},{"v":0,"d":"0.000000"},{"v":0,"d":"0.000000"},null,{"v":0,"d":"0.000000"},{"v":1.07E-4,"d":"0.000107"},{"v":99156.87173076252,"d":"99156.871731"},{"v":0,"d":"0.000000"},null,{"v":97948,"d":"97948.000000"},{"v":0,"d":"0.000000"},{"v":3.1649446645158657E-4,"d":"0.000316"},{"v":3.1649446645158657E-4,"d":"0.000316"},{"v":97984,"d":"97984.000000"},{"v":0,"d":"0.000000"}]
[{"$nulls":8},{"v":11,"d":"11.000000"},{"v":-7,"d":"-7.000000"},{"v":9.4e-05,"d":"0.000094"},{"v":99056,"d":"99056.000000"},{"v":65.09,"d":"65.090000"},{"v":1.02E-4,"d":"0.000102"},{"v":99218,"d":"99218.000000"},{"v":70.05,"d":"70.050000"},{"v":9.8e-05,"d":"0.000098"},{"v":99136.89262373348,"d":"99136.892624"},null,{"v":0,"d":"0.000000"},{"v":9.4e-05,"d":"0.000094"},{"v":99055.92059302302,"d":"99055.920593"},{"v":0,"d":"0.000000"},null,{"v":50,"d":"50.000000"},{"v":658.3,"d":"658.300000"},{"v":54.6,"d":"54.600000"},{"v":6.5829999999999994E-3,"d":"0.006583"},0.000546,{"v":90828.19587553799,"d":"90828.195876"},{"v":0,"d":"0.000000"},{"v":0,"d":"0.000000"},{"v":0,"d":"0.000000"},null,{"v":0,"d":"0.000000"},{"v":9.4499999999999993E-5,"d":"0.000095"},{"v":99146.26194548733,"d":"99146.261945"},{"v":0,"d":"0.000000"},null,{"v":97917,"d":"97917.000000"},{"v":0,"d":"0.000000"},{"v":2.757437421489629E-4,"d":"0.000276"},{"v":2.757437421489629E-4,"d":"0.000276"},{"v":97948,"d":"97948.000000"},{"v":0,"d":"0.000000"}]
[{"$nulls":8},{"v":12,"d":"12.000000"},{"v":-6,"d":"-6.000000"},{"v":1.45E-4,"d":"0.000145"},{"v":99047,"d":"99047.000000"},{"v":64.09,"d":"64.090000"},{"v":1.2E-4,"d":"0.000120"},{"v":99208,"d":"99208.000000"},{"v":69.06,"d":"69.060000"},{"v":1.325E-4,"d":"0.000133"},{"v":99127.17720825635,"d":"99127.177208"},null,{"v":0,"d":"0.000000"},{"v":1.45E-4,"d":"0.000145"},{"v":99046.60933648728,"d":"99046.609336"},{"v":0,"d":"0.000000"},null,{"v":55,"d":"55.000000"},{"v":1007.5,"d":"1007.500000"},{"v":118,"d":"118.000000"},0.010075,{"v":0.00118,"d":"0.001180"},{"v":87838.58580829465,"d":"87838.585808"},{"v":0,"d":"0.000000"},{"v":0,"d":"0.000000"},{"v":0,"d":"0.000000"},null,{"v":0,"d":"0.000000"},{"v":9.8e-05,"d":"0.000098"},{"v":99136.89262373348,"d":"99136.892624"},{"v":0,"d":"0.000000"},null,{"v":97890,"d":"97890.000000"},{"v":0,"d":"0.000000"},{"v":2.7581979773214831E-4,"d":"0.000276"},{"v":2.7581979773214831E-4,"d":"0.000276"},{"v":97917,"d":"97917.000000"},{"v":0,"d":"0.000000"}]
[{"$nulls":8},{"v":13,"d":"13.000000"},{"v":-5,"d":"-5.000000"},{"v":2.52E-4,"d":"0.000252"},{"v":99032,"d":"99032.000000"},{"v":63.1,"d":"63.100000"},0.000157,{"v":99196,"d":"99196.000000"},{"v":68.07,"d":"68.070000"},{"v":2.0449999999999998E-4,"d":"0.000205"},{"v":99114.04285727626,"d":"99114.042857"},null,{"v":0,"d":"0.000000"},{"v":2.52E-4,"d":"0.000252"},{"v":99032.2475781335,"d":"99032.247578"},{"v":0,"d":"0.000000"},null,{"v":60,"d":"60.000000"},{"v":1565.5,"d":"1565.500000"},{"v":206.2,"d":"206.200000"},0.015655,{"v":2.062E-3,"d":"0.002062"},{"v":83413.71704820181,"d":"83413.717048"},{"v":0,"d":"0.000000"},{"v":0,"d":"0.000000"},{"v":0,"d":"0.000000"},null,{"v":0,"d":"0.000000"},{"v":1.325E-4,"d":"0.000133"},{"v":99127.17720825635,"d":"99127.177208"},{"v":0,"d":"0.000000"},null,{"v":97863,"d":"97863.000000"},{"v":0,"d":"0.000000"},{"v":0.000357642827217641,"d":"0.000358"},{"v":0.000357642827217641,"d":"0.000358"},{"v":97890,"d":"97890.000000"},{"v":0,"d":"0.000000"}]
[{"$nulls":8},{"v":14,"d":"14.000000"},{"v":-4,"d":"-4.000000"},0.000401,{"v":99007,"d":"99007.000000"},{"v":62.12,"d":"62.120000"},0.000209,{"v":99180,"d":"99180.000000"},{"v":67.08,"d":"67.080000"},0.000305,{"v":99093.77403551195,"d":"99093.774036"},null,{"v":0,"d":"0.000000"},0.000401,{"v":99007.2914517438,"d":"99007.291452"},{"v":0,"d":"0.000000"},null,{"v":65,"d":"65.000000"},{"v":2399.3,"d":"2399.300000"},{"v":327.5,"d":"327.500000"},0.023993,0.003275,{"v":76884.50834625382,"d":"76884.508346"},{"v":0,"d":"0.000000"},{"v":0,"d":"0.000000"},{"v":0,"d":"0.000000"},null,{"v":0,"d":"0.000000"},{"v":2.0449999999999998E-4,"d":"0.000205"},{"v":99114.04285727626,"d":"99114.042857"},{"v":0,"d":"0.000000"},null,{"v":97828,"d":"97828.000000"},{"v":0,"d":"0.000000"},{"v":5.3154516089463141E-4,"d":"0.000532"},{"v":5.3154516089463141E-4,"d":"0.000532"},{"v":97863,"d":"97863.000000"},{"v":0,"d":"0.000000"}]
[{"$nulls":8},{"v":15,"d":"15.000000"},{"v":-3,"d":"-3.000000"},0.000563,{"v":98968,"d":"98968.000000"},{"v":61.14,"d":"61.140000"},0.000267,{"v":99160,"d":"99160.000000"},{"v":66.09,"d":"66.090000"},{"v":4.15E-4,"d":"0.000415"},{"v":99063.55043443112,"d":"99063.550434"},null,{"v":0,"d":"0.000000"},0.000563,{"v":98967.58952787165,"d":"98967.589528"},{"v":0,"d":"0.000000"},null,{"v":70,"d":"70.000000"},{"v":3705.4,"d":"3705.400000"},{"v":444,"d":"444.000000"},{"v":0.037054000000000004,"d":"0.037054"},{"v":0.00444,"d":"0.004440"},{"v":67661.05830249548,"d":"67661.058302"},{"v":0,"d":"0.000000"},{"v":0,"d":"0.000000"},{"v":0,"d":"0.000000"},null,{"v":0,"d":"0.000000"},0.000305,{"v":99093.77403551195,"d":"99093.774036"},{"v":0,"d":"0.000000"},null,{"v":97776,"d":"97776.000000"},{"v":0,"d":"0.000000"},{"v":7.7728685976108651E-4,"d":"0.000777"},{"v":7.7728685976108651E-4,"d":"0.000777"},{"v":97828,"d":"97828.000000"},{"v":0,"d":"0.000000"}]
[{"$nulls":8},{"v":16,"d":"16.000000"},{"v":-2,"d":"-2.000000"},0.000719,{"v":98912,"d":"98912.000000"},{"v":60.18,"d":"60.180000"},0.000323,{"v":99133,"d":"99133.000000"},{"v":65.11,"d":"65.110000"},0.000521,{"v":99022.43906100083,"d":"99022.439061"},null,{"v":0,"d":"0.000000"},0.000719,{"v":98911.87077496745,"d":"98911.870775"},{"v":0,"d":"0.000000"},null,{"v":75,"d":"75.000000"},{"v":5591.2,"d":"5591.200000"},{"v":507.3,"d":"507.300000"},{"v":0.055911999999999996,"d":"0.055912"},0.005073,{"v":55125.49403079214,"d":"55125.494031"},{"v":0,"d":"0.000000"},{"v":0,"d":"0.000000"},{"v":0,"d":"0.000000"},null,{"v":0,"d":"0.000000"},{"v":4.15E-4,"d":"0.000415"},{"v":99063.55043443112,"d":"99063.550434"},{"v":0,"d":"0.000000"},null,{"v":97700,"d":"97700.000000"},{"v":0,"d":"0.000000"},{"v":1.0440122824974412E-3,"d":"0.001044"},{"v":1.0440122824974412E-3,"d":"0.001044"},{"v":97776,"d":"97776.000000"},{"v":0,"d":"0.000000"}]
[{"$nulls":8},{"v":17,"d":"17.000000"},{"v":-1,"d":"-1.000000"},0.000873,{"v":98841,"d":"98841.000000"},{"v":59.22,"d":"59.220000"},0.000369,{"v":99101,"d":"99101.000000"},{"v":64.13,"d":"64.130000"},0.000621,{"v":98970.84837025005,"d":"98970.848370"},null,{"v":0,"d":"0.000000"},0.000873,{"v":98840.75313988025,"d":"98840.753140"},{"v":0,"d":"0.000000"},null,{"v":80,"d":"80.000000"},{"v":8956.9,"d":"8956.900000"},{"v":549.6,"d":"549.600000"},0.089569,{"v":5.496E-3,"d":"0.005496"},{"v":39714.61091954389,"d":"39714.610920"},{"v":0,"d":"0.000000"},{"v":0,"d":"0.000000"},{"$f":"AD201*AF201","v":{"v":0,"d":"0.000000"}},null,{"v":0,"d":"0.000000"},0.000521,{"v":99022.43906100083,"d":"99022.439061"},{"v":0,"d":"0.000000"},null,{"v":97598,"d":"97598.000000"},{"v":0,"d":"0.000000"},{"v":1.3012561732822395E-3,"d":"0.001301"},{"v":1.3012561732822395E-3,"d":"0.001301"},{"v":97700,"d":"97700.000000"},{"v":0,"d":"0.000000"}]
[{"$nulls":8},{"v":18,"d":"18.000000"},{"v":0,"d":"0.000000"},0.001017,{"v":98754,"d":"98754.000000"},{"v":58.27,"d":"58.270000"},0.000401,{"v":99064,"d":"99064.000000"},{"v":63.15,"d":"63.150000"},0.000709,{"v":98909.38747341212,"d":"98909.387473"},null,{"v":0,"d":"0.000000"},0.001017,{"v":98754.46516238914,"d":"98754.465162"},{"v":0,"d":"0.000000"},null,{"v":85,"d":"85.000000"},{"v":16605.4,"d":"16605.400000"},{"v":499,"d":"499.000000"},0.166054,{"v":0.00499,"d":"0.004990"},{"v":21928.620992280757,"d":"21928.620992"},{"v":0,"d":"0.000000"},{"v":0,"d":"0.000000"},{"v":0,"d":"0.000000"},null,{"v":0,"d":"0.000000"},0.000621,{"v":98970.84837025005,"d":"98970.848370"},{"v":0,"d":"0.000000"},null,{"v":97471,"d":"97471.000000"},{"v":0,"d":"0.000000"},{"v":1.5184003447179161E-3,"d":"0.001518"},{"v":1.5184003447179161E-3,"d":"0.001518"},{"v":97598,"d":"97598.000000"},{"v":0,"d":"0.000000"}]
[{"$nulls":8},{"v":19,"d":"19.000000"},{"v":1,"d":"1.000000"},0.001148,{"v":98654,"d":"98654.000000"},{"v":57.33,"d":"57.330000"},0.000422,{"v":99025,"d":"99025.000000"},{"v":62.18,"d":"62.180000"},{"v":7.85E-4,"d":"0.000785"},{"v":98839.26071769347,"d":"98839.260718"},null,{"v":0,"d":"0.000000"},0.001148,{"v":98654.03187131899,"d":"98654.031871"},{"v":0,"d":"0.000000"},{"$nulls":11},{"v":0,"d":"0.000000"},0.000709,{"v":98909.38747341212,"d":"98909.387473"},{"v":0,"d":"0.000000"},null,{"v":97323,"d":"97323.000000"},{"v":0,"d":"0.000000"},{"v":1.6851104055567543E-3,"d":"0.001685"},{"v":1.6851104055567543E-3,"d":"0.001685"},{"v":97471,"d":"97471.000000"},{"v":0,"d":"0.000000"}]
[{"$nulls":8},{"v":20,"d":"20.000000"},{"v":2,"d":"2.000000"},0.001285,{"v":98541,"d":"98541.000000"},{"v":56.4,"d":"56.400000"},0.000441,{"v":98983,"d":"98983.000000"},{"v":61.2,"d":"61.200000"},{"v":8.6299999999999994E-4,"d":"0.000863"},{"v":98761.67189803008,"d":"98761.671898"},null,{"v":0,"d":"0.000000"},0.001285,{"v":98540.77704273071,"d":"98540.777043"},{"v":0,"d":"0.000000"},{"$nulls":11},{"v":0,"d":"0.000000"},{"v":7.85E-4,"d":"0.000785"},{"v":98839.26071769347,"d":"98839.260718"},{"v":0,"d":"0.000000"},null,{"v":97159,"d":"97159.000000"},{"v":0,"d":"0.000000"},{"v":1.7908788686585905E-3,"d":"0.001791"},{"v":1.7908788686585905E-3,"d":"0.001791"},{"v":97323,"d":"97323.000000"},{"v":0,"d":"0.000000"}]
[{"$nulls":8},{"v":21,"d":"21.000000"},{"v":3,"d":"3.000000"},0.001412,{"v":98414,"d":"98414.000000"},{"v":55.47,"d":"55.470000"},0.000463,{"v":98939,"d":"98939.000000"},{"v":60.23,"d":"60.230000"},{"v":0.0009375,"d":"0.000938"},{"v":98676.44057518207,"d":"98676.440575"},null,{"v":0,"d":"0.000000"},0.001412,{"v":98414.1521442308,"d":"98414.152144"},{"v":0,"d":"0.000000"},{"$nulls":9},{"$f":"SUM(AG184:AG202)/100000*1000000","v":{"v":0,"d":"0.000000"}},null,{"v":0,"d":"0.000000"},{"v":8.6299999999999994E-4,"d":"0.000863"},{"v":98761.67189803008,"d":"98761.671898"},{"v":0,"d":"0.000000"},null,{"v":96985,"d":"96985.000000"},{"v":0,"d":"0.000000"},{"v":1.8972005980306232E-3,"d":"0.001897"},{"v":1.8972005980306232E-3,"d":"0.001897"},{"v":97159,"d":"97159.000000"},{"v":0,"d":"0.000000"}]
[{"$nulls":8},{"v":22,"d":"22.000000"},{"v":4,"d":"4.000000"},{"v":1.493E-3,"d":"0.001493"},{"v":98275,"d":"98275.000000"},{"v":54.54,"d":"54.540000"},0.000483,{"v":98894,"d":"98894.000000"},{"v":59.26,"d":"59.260000"},0.000988,{"v":98583.93141214285,"d":"98583.931412"},null,{"v":0,"d":"0.000000"},{"v":1.493E-3,"d":"0.001493"},{"v":98275.19136140315,"d":"98275.191361"},{"v":0,"d":"0.000000"},{"$nulls":11},{"v":0,"d":"0.000000"},{"v":0.0009375,"d":"0.000938"},{"v":98676.44057518207,"d":"98676.440575"},{"v":0,"d":"0.000000"},null,{"v":96801,"d":"96801.000000"},{"v":0,"d":"0.000000"},{"v":2.0041115277734736E-3,"d":"0.002004"},{"v":2.0041115277734736E-3,"d":"0.002004"},{"v":96985,"d":"96985.000000"},{"v":0,"d":"0.000000"}]
[{"$nulls":8},{"v":23,"d":"23.000000"},{"v":5,"d":"5.000000"},{"v":1.513E-3,"d":"0.001513"},{"v":98128,"d":"98128.000000"},{"v":53.63,"d":"53.630000"},0.000499,{"v":98846,"d":"98846.000000"},{"v":58.29,"d":"58.290000"},0.001006,{"v":98486.53048790764,"d":"98486.530488"},null,{"v":0,"d":"0.000000"},{"v":1.513E-3,"d":"0.001513"},{"v":98128.46650070058,"d":"98128.466501"},{"v":0,"d":"0.000000"},{"$nulls":11},{"v":0,"d":"0.000000"},0.000988,{"v":98583.93141214285,"d":"98583.931412"},{"v":0,"d":"0.000000"},null,{"v":96607,"d":"96607.000000"},{"v":0,"d":"0.000000"},{"v":0.002070243357106628,"d":"0.002070"},{"v":0.002070243357106628,"d":"0.002070"},{"v":96801,"d":"96801.000000"},{"v":0,"d":"0.000000"}]
[{"$nulls":8},{"v":24,"d":"24.000000"},{"v":6,"d":"6.000000"},{"v":1.487E-3,"d":"0.001487"},{"v":97980,"d":"97980.000000"},{"v":52.71,"d":"52.710000"},{"v":5.13E-4,"d":"0.000513"},{"v":98796,"d":"98796.000000"},{"v":57.32,"d":"57.320000"},{"v":1E-3,"d":"0.001000"},{"v":98387.45303823681,"d":"98387.453038"},null,{"v":0,"d":"0.000000"},{"v":1.487E-3,"d":"0.001487"},{"v":97979.99813088503,"d":"97979.998131"},{"v":0,"d":"0.000000"},{"$nulls":11},{"v":0,"d":"0.000000"},0.001006,{"v":98486.53048790764,"d":"98486.530488"},{"v":0,"d":"0.000000"},null,{"v":96407,"d":"96407.000000"},{"v":0,"d":"0.000000"},{"v":0.002074538155943033,"d":"0.002075"},{"v":0.002074538155943033,"d":"0.002075"},{"v":96607,"d":"96607.000000"},{"v":0,"d":"0.000000"}]
[{"$nulls":8},{"v":25,"d":"25.000000"},{"v":7,"d":"7.000000"},{"v":1.446E-3,"d":"0.001446"},{"v":97834,"d":"97834.000000"},{"v":51.78,"d":"51.780000"},0.000528,{"v":98746,"d":"98746.000000"},{"v":56.35,"d":"56.350000"},0.000987,{"v":98289.06558519858,"d":"98289.065585"},null,{"v":0,"d":"0.000000"},{"v":1.446E-3,"d":"0.001446"},{"v":97834.3018736644,"d":"97834.301874"},{"v":0,"d":"0.000000"},null,"Lung cancer female",{"$nulls":9},{"v":0,"d":"0.000000"},{"v":1E-3,"d":"0.001000"},{"v":98387.45303823681,"d":"98387.453038"},{"v":0,"d":"0.000000"},null,{"v":96207,"d":"96207.000000"},{"v":0,"d":"0.000000"},{"v":2.0476680491024564E-3,"d":"0.002048"},{"v":2.0476680491024564E-3,"d":"0.002048"},{"v":96407,"d":"96407.000000"},{"v":0,"d":"0.000000"}]
[{"$nulls":8},{"v":26,"d":"26.000000"},{"v":8,"d":"8.000000"},0.001412,{"v":97693,"d":"97693.000000"},{"v":50.86,"d":"50.860000"},{"v":5.44E-4,"d":"0.000544"},{"v":98694,"d":"98694.000000"},{"v":55.38,"d":"55.380000"},{"v":9.7800000000000014E-4,"d":"0.000978"},{"v":98192.05427746598,"d":"98192.054277"},null,{"v":0,"d":"0.000000"},0.001412,{"v":97692.83347315509,"d":"97692.833473"},{"v":0,"d":"0.000000"},{"$nulls":7},"P",{"$nulls":3},{"v":0,"d":"0.000000"},0.000987,{"v":98289.06558519858,"d":"98289.065585"},{"v":0,"d":"0.000000"},null,{"v":96010,"d":"96010.000000"},{"v":0,"d":"0.000000"},{"v":2.0102072700760336E-3,"d":"0.002010"},{"v":2.0102072700760336E-3,"d":"0.002010"},{"v":96207,"d":"96207.000000"},{"v":0,"d":"0.000000"}]
[{"$nulls":8},{"v":27,"d":"27.000000"},{"v":9,"d":"9.000000"},{"v":1.389E-3,"d":"0.001389"},{"v":97555,"d":"97555.000000"},{"v":49.93,"d":"49.930000"},0.000563,{"v":98640,"d":"98640.000000"},{"v":54.4,"d":"54.400000"},{"v":9.7600000000000009E-4,"d":"0.000976"},{"v":98096.02244838262,"d":"98096.022448"},null,{"v":0,"d":"0.000000"},{"v":1.389E-3,"d":"0.001389"},{"v":97554.89119229099,"d":"97554.891192"},{"v":0,"d":"0.000000"},null,{"v":0,"d":"0.000000"},{"v":654.3,"d":"654.300000"},{"v":0,"d":"0.000000"},{"$f":"Z211/100000","v":{"v":0.006542999999999999,"d":"0.006543"}},{"$f":"AA211/100000","v":{"v":0,"d":"0.000000"}},{"$f":"100000","v":{"v":100000,"d":"100000.000000"}},{"$f":"IF(Y211<10,0,IF(AND(OR(Y211>10,Y211=10),Y211<10+$H$53),$H$50*$H$52*(Y211-10),$H$50*$H$52*Y211))","v":{"v":0,"d":"0.000000"}},{"$f":"AC211*AE211","v":{"v":0,"d":"0.000000"}},{"$f":"AD211*AF211","v":{"v":0,"d":"0.000000"}},null,{"v":0,"d":"0.000000"},{"v":9.7800000000000014E-4,"d":"0.000978"},{"v":98192.05427746598,"d":"98192.054277"},{"v":0,"d":"0.000000"},null,{"v":95817,"d":"95817.000000"},{"v":0,"d":"0.000000"},{"v":1.9725100973731176E-3,"d":"0.001973"},{"v":1.9725100973731176E-3,"d":"0.001973"},{"v":96010,"d":"96010.000000"},{"v":0,"d":"0.000000"}]
[{"$nulls":8},{"v":28,"d":"28.000000"},{"v":10,"d":"10.000000"},0.001388,{"v":97419,"d":"97419.000000"},{"v":49,"d":"49.000000"},0.000585,{"v":98584,"d":"98584.000000"},{"v":53.44,"d":"53.440000"},{"v":0.0009865,"d":"0.000987"},{"v":98000.280730473,"d":"98000.280730"},null,{"v":0,"d":"0.000000"},0.001388,{"v":97419.3874484249,"d":"97419.387448"},{"v":0,"d":"0.000000"},null,{"v":1,"d":"1.000000"},{"v":29.1,"d":"29.100000"},{"v":0,"d":"0.000000"},{"$f":"Z212/100000","v":0.000291},{"v":0,"d":"0.000000"},{"$f":"AD211-AB211*AD211*2","v":{"v":98691.4,"d":"98691.400000"}},{"v":0,"d":"0.000000"},{"$f":"AC212*AE212","v":{"v":0,"d":"0.000000"}},{"v":0,"d":"0.000000"},null,{"v":0,"d":"0.000000"},{"v":9.7600000000000009E-4,"d":"0.000976"},{"v":98096.02244838262,"d":"98096.022448"},{"v":0,"d":"0.000000"},null,{"v":95628,"d":"95628.000000"},{"v":0,"d":"0.000000"},{"v":1.9241226419040448E-3,"d":"0.001924"},{"v":1.9241226419040448E-3,"d":"0.001924"},{"v":95817,"d":"95817.000000"},{"v":0,"d":"0.000000"}]
[{"$nulls":8},{"v":29,"d":"29.000000"},{"v":11,"d":"11.000000"},{"v":1.405E-3,"d":"0.001405"},{"v":97284,"d":"97284.000000"},{"v":48.07,"d":"48.070000"},0.000612,{"v":98527,"d":"98527.000000"},{"v":52.47,"d":"52.470000"},{"v":0.0010085,"d":"0.001009"},{"v":97903.60345353239,"d":"97903.603454"},null,{"v":0,"d":"0.000000"},{"v":1.405E-3,"d":"0.001405"},{"v":97284.16933864648,"d":"97284.169339"},{"v":0,"d":"0.000000"},null,{"v":5,"d":"5.000000"},{"v":14.5,"d":"14.500000"},{"v":0,"d":"0.000000"},{"v":1.45E-4,"d":"0.000145"},{"v":0,"d":"0.000000"},{"$f":"AD212-AB212*AD212*5","v":98547.804013},{"v":0,"d":"0.000000"},{"v":0,"d":"0.000000"},{"v":0,"d":"0.000000"},null,{"v":1.5900000000000002E-10,"d":"0.000000"},{"v":0.0009865,"d":"0.000987"},{"v":98000.280730473,"d":"98000.280730"},{"v":0,"d":"0.000000"},null,{"v":95444,"d":"95444.000000"},{"v":0,"d":"0.000000"},{"v":1.8963999832362433E-3,"d":"0.001896"},{"v":1.8963999832362433E-3,"d":"0.001896"},{"v":95628,"d":"95628.000000"},{"v":0,"d":"0.000000"}]
[{"$nulls":8},{"v":30,"d":"30.000000"},{"v":12,"d":"12.000000"},{"v":1.428E-3,"d":"0.001428"},{"v":97147,"d":"97147.000000"},{"v":47.13,"d":"47.130000"},0.000642,{"v":98466,"d":"98466.000000"},{"v":51.5,"d":"51.500000"},0.001035,{"v":97804.8676694495,"d":"97804.867669"},null,{"v":0,"d":"0.000000"},{"v":1.428E-3,"d":"0.001428"},{"v":97147.48508072567,"d":"97147.485081"},{"v":0,"d":"0.000000"},null,{"v":10,"d":"10.000000"},{"v":16.6,"d":"16.600000"},{"v":0,"d":"0.000000"},{"v":1.6600000000000002E-4,"d":"0.000166"},{"v":0,"d":"0.000000"},{"$f":"AD213-AB213*AD213*5","v":{"v":98476.35685509058,"d":"98476.356855"}},{"v":0,"d":"0.000000"},{"v":0,"d":"0.000000"},{"v":0,"d":"0.000000"},null,{"v":1.2720000000000002E-9,"d":"0.000000"},{"v":0.001008500159,"d":"0.001009"},{"v":97903.60345353239,"d":"97903.603454"},{"v":1.556667294911165E-5,"d":"0.000016"},null,{"v":95263,"d":"95263.000000"},{"v":0,"d":"0.000000"},{"v":1.8790086392408386E-3,"d":"0.001879"},{"v":1.8790086392408386E-3,"d":"0.001879"},{"v":95444,"d":"95444.000000"},{"v":0,"d":"0.000000"}]
[{"$nulls":8},{"v":31,"d":"31.000000"},{"v":13,"d":"13.000000"},0.001453,{"v":97009,"d":"97009.000000"},{"v":46.2,"d":"46.200000"},{"v":6.78E-4,"d":"0.000678"},{"v":98403,"d":"98403.000000"},{"v":50.53,"d":"50.530000"},{"v":1.0655E-3,"d":"0.001066"},{"v":97703.63963141161,"d":"97703.639631"},null,{"v":0,"d":"0.000000"},0.001453,{"v":97008.7584720304,"d":"97008.758472"},{"v":0,"d":"0.000000"},null,{"v":15,"d":"15.000000"},{"v":40,"d":"40.000000"},{"v":0,"d":"0.000000"},{"v":0.0004,"d":"0.000400"},{"v":0,"d":"0.000000"},{"v":98394.62147890085,"d":"98394.621479"},{"v":0,"d":"0.000000"},{"v":0,"d":"0.000000"},{"v":0,"d":"0.000000"},null,{"v":4.2930000000000008E-9,"d":"0.000000"},{"v":1.0350012719999998E-3,"d":"0.001035"},{"v":97804.86765388283,"d":"97804.867654"},{"v":1.2440779165573897E-4,"d":"0.000124"},null,{"v":95084,"d":"95084.000000"},{"v":0,"d":"0.000000"},{"v":1.8615119262967482E-3,"d":"0.001862"},{"v":1.8615119262967482E-3,"d":"0.001862"},{"v":95263,"d":"95263.000000"},{"v":0,"d":"0.000000"}]
[{"$nulls":8},{"v":32,"d":"32.000000"},{"$f":"I216-$O$41","v":{"v":14,"d":"14.000000"}},{"v":1.487E-3,"d":"0.001487"},{"v":96868,"d":"96868.000000"},{"v":45.27,"d":"45.270000"},0.000721,{"v":98336,"d":"98336.000000"},{"v":49.56,"d":"49.560000"},0.001104,{"v":97599.53640338435,"d":"97599.536403"},null,{"$f":"IF($J216<10,0, IF(AND(OR($J216>10, $J216=10),$J216<10+$H$53),$H$51*$H$52*(($J216-10)^3), $H$51*$H$52*(($J216-10)^3-($J216-10-$H$53)^3)))","v":{"v":0,"d":"0.000000"}},{"v":1.487E-3,"d":"0.001487"},{"v":96867.80474597054,"d":"96867.804746"},{"v":0,"d":"0.000000"},null,{"v":20,"d":"20.000000"},{"v":48.2,"d":"48.200000"},{"v":0,"d":"0.000000"},0.000482,{"v":0,"d":"0.000000"},{"v":98197.83223594305,"d":"98197.832236"},{"v":0,"d":"0.000000"},{"v":0,"d":"0.000000"},{"v":0,"d":"0.000000"},null,{"$f":"IF(J216<10,0, IF(AND(OR(J216>10, J216=10),J216<10+$H$186),$H$184*$H$185*((J216-10)^3), $H$184*$H$185*((J216-10)^3-(J216-10-$H$186)^3)))","v":{"v":1.0176000000000001E-8,"d":"0.000000"}},{"v":1.065504293E-3,"d":"0.001066"},{"v":97703.63949145327,"d":"97703.639491"},{"v":4.1944172433680896E-4,"d":"0.000419"},null,{"v":94907,"d":"94907.000000"},{"v":0,"d":"0.000000"},{"v":1.8649836155394228E-3,"d":"0.001865"},{"v":1.8649836155394228E-3,"d":"0.001865"},{"v":95084,"d":"95084.000000"},{"v":0,"d":"0.000000"}]
[{"$nulls":8},{"v":33,"d":"33.000000"},{"v":15,"d":"15.000000"},{"v":1.529E-3,"d":"0.001529"},{"v":96724,"d":"96724.000000"},{"v":44.33,"d":"44.330000"},0.000771,{"v":98266,"d":"98266.000000"},{"v":48.6,"d":"48.600000"},{"v":1.15E-3,"d":"0.001150"},{"v":97491.78651519501,"d":"97491.786515"},null,{"v":0,"d":"0.000000"},{"v":1.529E-3,"d":"0.001529"},{"v":96723.76232031328,"d":"96723.762320"},{"v":0,"d":"0.000000"},null,{"v":25,"d":"25.000000"},{"v":56.5,"d":"56.500000"},{"v":0,"d":"0.000000"},0.000565,{"v":0,"d":"0.000000"},{"v":97961.17546025442,"d":"97961.175460"},{"v":0,"d":"0.000000"},{"v":0,"d":"0.000000"},{"v":0,"d":"0.000000"},null,{"v":1.9875e-08,"d":"0.000000"},{"$f":"Q216+AI216","v":{"v":0.001104010176,"d":"0.001104"}},{"v":97599.53584413341,"d":"97599.535844"},{"$f":"AK217*AI216","v":{"v":9.9317287674990169E-4,"d":"0.000993"}},null,{"v":94730,"d":"94730.000000"},{"$f":"IF($J216<10,0, IF(AND(OR($J216>10, $J216=10),$J216<10+$H$53),$H$51*$H$52*(($J216-10)^3), $H$51*$H$52*(($J216-10)^3-($J216-10-$H$53)^3)))","v":{"v":0,"d":"0.000000"}},{"$f":"(AN217-AN218)/AN217","v":{"v":1.8895809141771351E-3,"d":"0.001890"}},{"v":1.8895809141771351E-3,"d":"0.001890"},{"v":94907,"d":"94907.000000"},{"v":0,"d":"0.000000"}]
[{"$nulls":8},{"v":34,"d":"34.000000"},{"v":16,"d":"16.000000"},0.001584,{"v":96576,"d":"96576.000000"},{"v":43.4,"d":"43.400000"},{"v":0.00083,"d":"0.000830"},{"v":98190,"d":"98190.000000"},{"v":47.64,"d":"47.640000"},{"v":1.207E-3,"d":"0.001207"},{"v":97379.67096070254,"d":"97379.670961"},null,{"v":0,"d":"0.000000"},0.001584,{"v":96575.87168772552,"d":"96575.871688"},{"v":0,"d":"0.000000"},null,{"v":30,"d":"30.000000"},{"v":76,"d":"76.000000"},{"v":0.9,"d":"0.900000"},{"v":0.00076,"d":"0.000760"},{"v":9e-06,"d":"0.000009"},{"v":97684.4351395792,"d":"97684.435140"},{"v":0,"d":"0.000000"},{"$f":"AC218*AE218*5","v":{"v":0,"d":"0.000000"}},{"v":0,"d":"0.000000"},null,{"v":3.4344000000000006E-8,"d":"0.000000"},{"v":0.001150019875,"d":"0.001150"},{"v":97491.7849633886,"d":"97491.784963"},{"v":1.9376492261473487E-3,"d":"0.001938"},null,{"v":94551,"d":"94551.000000"},{"v":0,"d":"0.000000"},{"v":1.9671923089126502E-3,"d":"0.001967"},{"v":1.9671923089126502E-3,"d":"0.001967"},{"v":94730,"d":"94730.000000"},{"$f":"AR218*AO217","v":{"v":0,"d":"0.000000"}}]
[{"$nulls":8},{"v":35,"d":"35.000000"},{"v":17,"d":"17.000000"},0.001651,{"v":96423,"d":"96423.000000"},{"v":42.47,"d":"42.470000"},0.000896,{"v":98108,"d":"98108.000000"},{"v":46.68,"d":"46.680000"},{"v":0.0012735,"d":"0.001274"},{"v":97262.13369785297,"d":"97262.133698"},null,{"v":0,"d":"0.000000"},0.001651,{"v":96422.89550697217,"d":"96422.895507"},{"v":0,"d":"0.000000"},null,{"v":35,"d":"35.000000"},{"v":115.1,"d":"115.100000"},{"v":2.6,"d":"2.600000"},0.001151,{"v":2.6000000000000002E-5,"d":"0.000026"},{"v":97313.2342860488,"d":"97313.234286"},{"v":0,"d":"0.000000"},{"v":0,"d":"0.000000"},{"v":0,"d":"0.000000"},null,{"v":5.4537000000000007E-8,"d":"0.000000"},{"v":1.207034344E-3,"d":"0.001207"},{"v":97379.66747303148,"d":"97379.667473"},{"v":0.003344407299693794,"d":"0.003344"},null,{"v":94365,"d":"94365.000000"},{"v":0,"d":"0.000000"},{"v":2.087638425263604E-3,"d":"0.002088"},{"v":2.087638425263604E-3,"d":"0.002088"},{"$f":"AR218-AR218*AQ217","v":{"v":94551,"d":"94551.000000"}},{"v":0,"d":"0.000000"}]
[{"$nulls":8},{"v":36,"d":"36.000000"},{"v":18,"d":"18.000000"},{"v":1.737E-3,"d":"0.001737"},{"v":96264,"d":"96264.000000"},{"v":41.54,"d":"41.540000"},0.000971,{"v":98020,"d":"98020.000000"},{"v":45.72,"d":"45.720000"},{"v":1.354E-3,"d":"0.001354"},{"v":97138.27037058875,"d":"97138.270371"},null,{"v":0,"d":"0.000000"},{"v":1.737E-3,"d":"0.001737"},{"v":96263.70130649015,"d":"96263.701306"},{"v":0,"d":"0.000000"},null,{"v":40,"d":"40.000000"},{"v":172.2,"d":"172.200000"},{"v":8.1,"d":"8.100000"},{"v":1.7219999999999998E-3,"d":"0.001722"},{"v":8.099999999999999E-5,"d":"0.000081"},{"v":96753.19662273259,"d":"96753.196623"},{"v":0,"d":"0.000000"},{"v":0,"d":"0.000000"},{"v":0,"d":"0.000000"},null,{"v":8.140800000000001E-8,"d":"0.000000"},{"v":0.001273554537,"d":"0.001274"},{"v":97262.12686998423,"d":"97262.126870"},{"v":0.005304384613108331,"d":"0.005304"},null,{"v":94168,"d":"94168.000000"},{"v":0,"d":"0.000000"},{"v":2.2300569195480417E-3,"d":"0.002230"},{"v":2.2300569195480417E-3,"d":"0.002230"},{"v":94365,"d":"94365.000000"},{"v":0,"d":"0.000000"}]
[{"$nulls":8},{"v":37,"d":"37.000000"},{"v":19,"d":"19.000000"},0.001845,{"v":96096,"d":"96096.000000"},{"v":40.61,"d":"40.610000"},0.001056,{"v":97925,"d":"97925.000000"},{"v":44.76,"d":"44.760000"},{"v":1.4505E-3,"d":"0.001451"},{"v":97006.74515250698,"d":"97006.745153"},null,{"v":0,"d":"0.000000"},0.001845,{"v":96096.49125732078,"d":"96096.491257"},{"v":0,"d":"0.000000"},null,{"v":45,"d":"45.000000"},{"v":254,"d":"254.000000"},{"v":16.6,"d":"16.600000"},{"v":0.00254,"d":"0.002540"},{"v":1.6600000000000002E-4,"d":"0.000166"},{"v":95920.15159981087,"d":"95920.151600"},{"v":0,"d":"0.000000"},{"v":0,"d":"0.000000"},{"v":0,"d":"0.000000"},null,{"v":1.1591100000000001E-7,"d":"0.000000"},{"v":0.001354081408,"d":"0.001354"},{"v":97138.2582470307,"d":"97138.258247"},{"v":0.007907831327374276,"d":"0.007908"},null,{"v":93958,"d":"93958.000000"},{"v":0,"d":"0.000000"},{"v":2.3840439345239363E-3,"d":"0.002384"},{"v":2.3840439345239363E-3,"d":"0.002384"},{"v":94168,"d":"94168.000000"},{"v":0,"d":"0.000000"}]
[{"$nulls":8},{"v":38,"d":"38.000000"},{"v":20,"d":"20.000000"},0.001979,{"v":95919,"d":"95919.000000"},{"v":39.68,"d":"39.680000"},0.001153,{"v":97822,"d":"97822.000000"},{"v":43.81,"d":"43.810000"},0.001566,{"v":96866.03686866327,"d":"96866.036869"},null,{"v":0,"d":"0.000000"},0.001979,{"v":95919.19323095103,"d":"95919.193231"},{"v":0,"d":"0.000000"},null,{"v":50,"d":"50.000000"},{"v":386.3,"d":"386.300000"},{"v":35.1,"d":"35.100000"},0.003863,0.000351,{"v":94701.96567449327,"d":"94701.965674"},{"v":0,"d":"0.000000"},{"v":0,"d":"0.000000"},{"v":0,"d":"0.000000"},null,{"v":1.59e-07,"d":"0.000000"},{"v":1.450615911E-3,"d":"0.001451"},{"v":97006.72513753289,"d":"97006.725138"},{"v":0.011244146517416577,"d":"0.011244"},null,{"v":93734,"d":"93734.000000"},{"v":0,"d":"0.000000"},{"v":2.5711054686666525E-3,"d":"0.002571"},{"v":2.5711054686666525E-3,"d":"0.002571"},{"v":93958,"d":"93958.000000"},{"v":0,"d":"0.000000"}]
[{"$nulls":8},{"v":39,"d":"39.000000"},{"v":21,"d":"21.000000"},{"v":2.14E-3,"d":"0.002140"},{"v":95729,"d":"95729.000000"},{"v":38.76,"d":"38.760000"},{"v":0.00126,"d":"0.001260"},{"v":97709,"d":"97709.000000"},{"v":42.86,"d":"42.860000"},{"v":1.7000000000000001E-3,"d":"0.001700"},{"v":96714.34465492694,"d":"96714.344655"},null,{"v":0,"d":"0.000000"},{"v":2.14E-3,"d":"0.002140"},{"v":95729.36914754698,"d":"95729.369148"},{"v":0,"d":"0.000000"},null,{"v":55,"d":"55.000000"},{"v":611.8,"d":"611.800000"},{"v":70.9,"d":"70.900000"},{"v":0.006117999999999999,"d":"0.006118"},{"v":7.090000000000001E-4,"d":"0.000709"},{"v":92872.79720749044,"d":"92872.797207"},{"v":0,"d":"0.000000"},{"v":0,"d":"0.000000"},{"v":0,"d":"0.000000"},null,{"v":2.1162900000000002E-7,"d":"0.000000"},{"v":0.001566159,"d":"0.001566"},{"v":96866.00563857438,"d":"96866.005639"},{"v":0.015401694896533327,"d":"0.015402"},null,{"v":93493,"d":"93493.000000"},{"v":0,"d":"0.000000"},{"v":0.002770260875145733,"d":"0.002770"},{"v":0.002770260875145733,"d":"0.002770"},{"v":93734,"d":"93734.000000"},{"v":0,"d":"0.000000"}]
[{"$nulls":8},{"v":40,"d":"40.000000"},{"v":22,"d":"22.000000"},{"v":2.323E-3,"d":"0.002323"},{"v":95525,"d":"95525.000000"},{"v":37.84,"d":"37.840000"},{"v":1.377E-3,"d":"0.001377"},{"v":97586,"d":"97586.000000"},{"v":41.91,"d":"41.910000"},{"v":0.00185,"d":"0.001850"},{"v":96549.93026901357,"d":"96549.930269"},null,{"v":0,"d":"0.000000"},{"v":2.323E-3,"d":"0.002323"},{"v":95524.50829757123,"d":"95524.508298"},{"v":0,"d":"0.000000"},null,{"v":60,"d":"60.000000"},{"v":982,"d":"982.000000"},{"v":122.3,"d":"122.300000"},{"v":0.00982,"d":"0.009820"},0.001223,{"v":90031.8183409133,"d":"90031.818341"},{"v":0,"d":"0.000000"},{"v":0,"d":"0.000000"},{"v":0,"d":"0.000000"},null,{"v":2.7475200000000005E-7,"d":"0.000000"},{"v":1.7002116290000002E-3,"d":"0.001700"},{"v":96714.29807204948,"d":"96714.298072"},{"v":0.020467550186689762,"d":"0.020468"},null,{"v":93234,"d":"93234.000000"},{"v":0,"d":"0.000000"},{"v":2.992470557950962E-3,"d":"0.002992"},{"v":2.992470557950962E-3,"d":"0.002992"},{"v":93493,"d":"93493.000000"},{"v":0,"d":"0.000000"}]
[{"$nulls":8},{"v":41,"d":"41.000000"},{"v":23,"d":"23.000000"},{"v":2.526E-3,"d":"0.002526"},{"v":95303,"d":"95303.000000"},{"v":36.93,"d":"36.930000"},{"v":1.506E-3,"d":"0.001506"},{"v":97452,"d":"97452.000000"},{"v":40.97,"d":"40.970000"},{"v":2.016E-3,"d":"0.002016"},{"v":96371.3128980159,"d":"96371.312898"},null,{"v":0,"d":"0.000000"},{"v":2.526E-3,"d":"0.002526"},{"v":95302.60486479597,"d":"95302.604865"},{"v":0,"d":"0.000000"},null,{"v":65,"d":"65.000000"},{"v":1527.5,"d":"1527.500000"},{"v":181.6,"d":"181.600000"},0.015275,0.001816,{"v":85611.25606037446,"d":"85611.256060"},{"v":0,"d":"0.000000"},{"v":0,"d":"0.000000"},{"v":0,"d":"0.000000"},null,{"v":3.4932300000000004E-7,"d":"0.000000"},{"v":0.001850274752,"d":"0.001850"},{"v":96549.86329777681,"d":"96549.863298"},{"v":0.02652726804079078,"d":"0.026527"},null,{"v":92955,"d":"92955.000000"},{"v":0,"d":"0.000000"},{"v":3.2488838685385403E-3,"d":"0.003249"},{"v":3.2488838685385403E-3,"d":"0.003249"},{"v":93234,"d":"93234.000000"},{"v":0,"d":"0.000000"}]
[{"$nulls":8},{"v":42,"d":"42.000000"},{"v":24,"d":"24.000000"},{"v":0.00275,"d":"0.002750"},{"v":95062,"d":"95062.000000"},{"v":36.02,"d":"36.020000"},{"v":1.65E-3,"d":"0.001650"},{"v":97305,"d":"97305.000000"},{"v":40.03,"d":"40.030000"},{"v":2.1999999999999997E-3,"d":"0.002200"},{"v":96177.0283312135,"d":"96177.028331"},null,{"v":0,"d":"0.000000"},{"v":0.00275,"d":"0.002750"},{"v":95061.8704849075,"d":"95061.870485"},{"v":0,"d":"0.000000"},null,{"v":70,"d":"70.000000"},{"v":2381.8,"d":"2381.800000"},{"v":238.7,"d":"238.700000"},{"v":0.023818000000000002,"d":"0.023818"},0.002387,{"v":79072.69637876336,"d":"79072.696379"},{"v":0,"d":"0.000000"},{"v":0,"d":"0.000000"},{"v":0,"d":"0.000000"},null,{"v":4.3629600000000006E-7,"d":"0.000000"},{"v":0.002016349323,"d":"0.002016"},{"v":96371.21952340788,"d":"96371.219523"},{"v":0.033664683517575414,"d":"0.033665"},null,{"v":92653,"d":"92653.000000"},{"v":0,"d":"0.000000"},{"v":3.5508834036674475E-3,"d":"0.003551"},{"v":3.5508834036674475E-3,"d":"0.003551"},{"v":92955,"d":"92955.000000"},{"v":0,"d":"0.000000"}]
[{"$nulls":8},{"v":43,"d":"43.000000"},{"v":25,"d":"25.000000"},{"v":2.993E-3,"d":"0.002993"},{"v":94800,"d":"94800.000000"},{"v":35.12,"d":"35.120000"},{"v":1.81E-3,"d":"0.001810"},{"v":97144,"d":"97144.000000"},{"v":39.1,"d":"39.100000"},{"v":2.4015E-3,"d":"0.002402"},{"v":95965.43886888483,"d":"95965.438869"},null,{"v":0,"d":"0.000000"},{"v":2.993E-3,"d":"0.002993"},{"v":94800.450341074,"d":"94800.450341"},{"v":0,"d":"0.000000"},null,{"v":75,"d":"75.000000"},{"v":3812.6,"d":"3812.600000"},{"v":268.6,"d":"268.600000"},0.038126,{"v":2.686E-3,"d":"0.002686"},{"v":69655.92896701643,"d":"69655.928967"},{"v":0,"d":"0.000000"},{"v":0,"d":"0.000000"},{"v":0,"d":"0.000000"},null,{"v":5.36625e-07,"d":"0.000001"},{"v":2.2004362959999997E-3,"d":"0.002200"},{"v":96176.90148016518,"d":"96176.901480"},{"v":0.04196159740819015,"d":"0.041962"},null,{"v":92324,"d":"92324.000000"},{"v":0,"d":"0.000000"},{"v":3.8776482821368226E-3,"d":"0.003878"},{"v":3.8776482821368226E-3,"d":"0.003878"},{"v":92653,"d":"92653.000000"},{"v":0,"d":"0.000000"}]
[{"$nulls":8},{"v":44,"d":"44.000000"},{"v":26,"d":"26.000000"},0.003257,{"v":94517,"d":"94517.000000"},{"v":34.22,"d":"34.220000"},0.001985,{"v":96968,"d":"96968.000000"},{"v":38.17,"d":"38.170000"},0.002621,{"v":95734.9778674412,"d":"95734.977867"},null,{"v":0,"d":"0.000000"},0.003257,{"v":94516.71259320316,"d":"94516.712593"},{"v":0,"d":"0.000000"},null,{"v":80,"d":"80.000000"},{"v":6444.8,"d":"6444.800000"},{"v":272.8,"d":"272.800000"},0.064448,{"v":2.728E-3,"d":"0.002728"},{"v":56377.41922803409,"d":"56377.419228"},{"v":0,"d":"0.000000"},{"v":0,"d":"0.000000"},{"$f":"AD228*AF228","v":{"v":0,"d":"0.000000"}},null,{"v":6.5126400000000008E-7,"d":"0.000001"},{"v":0.002402036625,"d":"0.002402"},{"v":95965.2703353114,"d":"95965.270335"},{"v":0.05149736319368649,"d":"0.051497"},null,{"v":91966,"d":"91966.000000"},{"v":0,"d":"0.000000"},{"v":0.004251571232846921,"d":"0.004252"},{"v":0.004251571232846921,"d":"0.004252"},{"v":92324,"d":"92324.000000"},{"v":0,"d":"0.000000"}]
[{"$nulls":8},{"v":45,"d":"45.000000"},{"v":27,"d":"27.000000"},0.003543,{"v":94209,"d":"94209.000000"},{"v":33.33,"d":"33.330000"},0.002174,{"v":96776,"d":"96776.000000"},{"v":37.24,"d":"37.240000"},{"v":0.0028585,"d":"0.002859"},{"v":95484.05649045063,"d":"95484.056490"},null,{"v":0,"d":"0.000000"},0.003543,{"v":94208.8716602871,"d":"94208.871660"},{"v":0,"d":"0.000000"},null,{"v":85,"d":"85.000000"},{"v":14768.6,"d":"14768.600000"},{"v":213.5,"d":"213.500000"},0.147686,0.002135,{"v":38210.35965599238,"d":"38210.359656"},{"v":0,"d":"0.000000"},{"v":0,"d":"0.000000"},{"v":0,"d":"0.000000"},null,{"v":7.8116700000000008E-7,"d":"0.000001"},{"v":2.6216512640000003E-3,"d":"0.002622"},{"v":95734.75824123796,"d":"95734.758241"},{"v":0.0623486015912216,"d":"0.062349"},null,{"v":91575,"d":"91575.000000"},{"v":0,"d":"0.000000"},{"v":0.004673764673764674,"d":"0.004674"},{"v":0.004673764673764674,"d":"0.004674"},{"v":91966,"d":"91966.000000"},{"v":0,"d":"0.000000"}]
[{"$nulls":8},{"v":46,"d":"46.000000"},{"v":28,"d":"28.000000"},0.003856,{"v":93875,"d":"93875.000000"},{"v":32.45,"d":"32.450000"},0.002375,{"v":96566,"d":"96566.000000"},{"v":36.32,"d":"36.320000"},{"v":0.0031155,"d":"0.003116"},{"v":95211.11531497267,"d":"95211.115315"},null,{"v":0,"d":"0.000000"},0.003856,{"v":93875.0896279947,"d":"93875.089628"},{"v":0,"d":"0.000000"},{"$nulls":11},{"v":9.2728800000000009E-7,"d":"0.000001"},{"v":2.8592811669999997E-3,"d":"0.002859"},{"v":95483.77509128608,"d":"95483.775091"},{"v":0.07458877413673468,"d":"0.074589"},null,{"v":91147,"d":"91147.000000"},{"v":0,"d":"0.000000"},{"v":0.005123591560885163,"d":"0.005124"},{"v":0.005123591560885163,"d":"0.005124"},{"v":91575,"d":"91575.000000"},{"v":0,"d":"0.000000"}]
[{"$nulls":8},{"v":47,"d":"47.000000"},{"v":29,"d":"29.000000"},0.004208,{"v":93513,"d":"93513.000000"},{"v":31.57,"d":"31.570000"},0.002582,{"v":96336,"d":"96336.000000"},{"v":35.41,"d":"35.410000"},{"v":3.395E-3,"d":"0.003395"},{"v":94914.48508520887,"d":"94914.485085"},null,{"v":0,"d":"0.000000"},0.004208,{"v":93513.10728238916,"d":"93513.107282"},{"v":0,"d":"0.000000"},{"$nulls":11},{"v":1.090581e-06,"d":"0.000001"},{"v":3.1164272880000003E-3,"d":"0.003116"},{"v":95210.7601314135,"d":"95210.760131"},{"v":0.08828779534073816,"d":"0.088288"},null,{"v":90680,"d":"90680.000000"},{"v":0,"d":"0.000000"},{"v":5.6241729157476845E-3,"d":"0.005624"},{"v":5.6241729157476845E-3,"d":"0.005624"},{"v":91147,"d":"91147.000000"},{"v":0,"d":"0.000000"}]
[{"$nulls":8},{"v":48,"d":"48.000000"},{"v":30,"d":"30.000000"},0.004603,{"v":93120,"d":"93120.000000"},{"v":30.71,"d":"30.710000"},{"v":2.794E-3,"d":"0.002794"},{"v":96087,"d":"96087.000000"},{"v":34.5,"d":"34.500000"},{"v":3.6985000000000004E-3,"d":"0.003699"},{"v":94592.25040834458,"d":"94592.250408"},null,{"v":0,"d":"0.000000"},0.004603,{"v":93119.60412694486,"d":"93119.604127"},{"v":0,"d":"0.000000"},{"$nulls":9},{"$f":"SUM(AG211:AG229)/100000*1000000","v":{"v":0,"d":"0.000000"}},null,{"v":1.272e-06,"d":"0.000001"},{"v":0.003396090581,"d":"0.003396"},{"v":94914.04272042874,"d":"94914.042720"},{"v":0.10351145162408791,"d":"0.103511"},null,{"v":90170,"d":"90170.000000"},{"v":0,"d":"0.000000"},{"v":6.177220805145836E-3,"d":"0.006177"},{"v":6.177220805145836E-3,"d":"0.006177"},{"v":90680,"d":"90680.000000"},{"v":0,"d":"0.000000"}]
[{"$nulls":8},{"v":49,"d":"49.000000"},{"v":31,"d":"31.000000"},0.005037,{"v":92691,"d":"92691.000000"},{"v":29.84,"d":"29.840000"},0.003012,{"v":95819,"d":"95819.000000"},{"v":33.59,"d":"33.590000"},{"v":0.0040245,"d":"0.004025"},{"v":94242.40097020932,"d":"94242.400970"},null,{"v":0,"d":"0.000000"},0.005037,{"v":92690.97458914854,"d":"92690.974589"},{"v":0,"d":"0.000000"},{"$nulls":11},{"v":1.4724990000000003E-6,"d":"0.000001"},{"v":3.6997720000000005E-3,"d":"0.003700"},{"v":94591.70603394126,"d":"94591.706034"},{"v":0.12032065007517329,"d":"0.120321"},null,{"v":89613,"d":"89613.000000"},{"v":0,"d":"0.000000"},{"v":0.006818207179761865,"d":"0.006818"},{"v":0.006818207179761865,"d":"0.006818"},{"v":90170,"d":"90170.000000"},{"v":0,"d":"0.000000"}]
[{"$nulls":8},{"v":50,"d":"50.000000"},{"v":32,"d":"32.000000"},0.005512,{"v":92224,"d":"92224.000000"},{"v":28.99,"d":"28.990000"},0.003255,{"v":95530,"d":"95530.000000"},{"v":32.69,"d":"32.690000"},{"v":0.0043835,"d":"0.004384"},{"v":93863.12242750471,"d":"93863.122428"},null,{"v":0,"d":"0.000000"},0.005512,{"v":92224.09015014299,"d":"92224.090150"},{"v":0,"d":"0.000000"},null,"Lung cancer both genders",{"$nulls":9},{"v":1.6930320000000002E-6,"d":"0.000002"},{"v":0.004025972499,"d":"0.004026"},{"v":94241.73828852465,"d":"94241.738289"},{"v":0.13877086538811428,"d":"0.138771"},null,{"v":89002,"d":"89002.000000"},{"v":0,"d":"0.000000"},{"v":0.007505449315745713,"d":"0.007505"},{"v":0.007505449315745713,"d":"0.007505"},{"v":89613,"d":"89613.000000"},{"v":0,"d":"0.000000"}]
[{"$nulls":8},{"v":51,"d":"51.000000"},{"v":33,"d":"33.000000"},0.006008,{"v":91716,"d":"91716.000000"},{"v":28.15,"d":"28.150000"},0.003517,{"v":95219,"d":"95219.000000"},{"v":31.8,"d":"31.800000"},{"v":0.0047625,"d":"0.004763"},{"v":93451.67343034374,"d":"93451.673430"},null,{"v":0,"d":"0.000000"},0.006008,{"v":91715.7509652354,"d":"91715.750965"},{"v":0,"d":"0.000000"},null,null,"Total death/100,000","Lung cancer, per 100,000",{"$nulls":3},"P",{"$nulls":3},{"v":1.9345530000000003E-6,"d":"0.000002"},{"v":0.004385193032000001,"d":"0.004385"},{"v":93862.32364191709,"d":"93862.323642"},{"v":0.15891191752012218,"d":"0.158912"},null,{"v":88334,"d":"88334.000000"},{"v":0,"d":"0.000000"},{"v":0.0082754092421944,"d":"0.008275"},{"v":0.0082754092421944,"d":"0.008275"},{"v":89002,"d":"89002.000000"},{"v":0,"d":"0.000000"}]
[{"$nulls":8},{"v":52,"d":"52.000000"},{"v":34,"d":"34.000000"},{"v":0.0065,"d":"0.006500"},{"v":91165,"d":"91165.000000"},{"v":27.32,"d":"27.320000"},0.003782,{"v":94885,"d":"94885.000000"},{"v":30.91,"d":"30.910000"},0.005141,{"v":93006.60983563172,"d":"93006.609836"},null,{"v":0,"d":"0.000000"},{"v":0.0065,"d":"0.006500"},{"v":91164.72273343627,"d":"91164.722733"},{"v":0,"d":"0.000000"},{"v":0,"d":"0.000000"},{"$f":"X236-$O$41","v":{"v":-18,"d":"-18.000000"}},{"$f":"(Z184+Z211)/2","v":{"v":727.0999999999999,"d":"727.100000"}},{"$f":"(AA184+AA211)/2","v":{"v":0,"d":"0.000000"}},{"$f":"Z236/100000","v":{"v":0.007270999999999999,"d":"0.007271"}},{"$f":"AA236/100000","v":{"v":0,"d":"0.000000"}},{"$f":"100000","v":{"v":100000,"d":"100000.000000"}},{"$f":"IF(Y236<10,0,IF(AND(OR(Y236>10,Y236=10),Y236<10+$H$186),$H$183*$H$185*(Y236-10),$H$183*$H$185*Y236))","v":{"v":0,"d":"0.000000"}},{"$f":"AC236*AE236","v":{"v":0,"d":"0.000000"}},{"$f":"AD236*AF236","v":{"v":0,"d":"0.000000"}},null,{"v":2.1980160000000004E-6,"d":"0.000002"},{"v":4.7644345530000005E-3,"d":"0.004764"},{"v":93450.71923431523,"d":"93450.719234"},{"v":0.18078536924690225,"d":"0.180785"},null,{"v":87603,"d":"87603.000000"},{"v":0,"d":"0.000000"},{"v":0.00910927707955207,"d":"0.009109"},{"v":0.00910927707955207,"d":"0.009109"},{"v":88334,"d":"88334.000000"},{"v":0,"d":"0.000000"}]
[{"$nulls":8},{"v":53,"d":"53.000000"},{"v":35,"d":"35.000000"},0.006977,{"v":90572,"d":"90572.000000"},{"v":26.49,"d":"26.490000"},{"v":4.045E-3,"d":"0.004045"},{"v":94526,"d":"94526.000000"},{"v":30.02,"d":"30.020000"},0.005511,{"v":92528.46285446674,"d":"92528.462854"},null,{"v":0,"d":"0.000000"},0.006977,{"v":90572.15203566893,"d":"90572.152036"},{"v":0,"d":"0.000000"},{"v":1,"d":"1.000000"},{"v":-17,"d":"-17.000000"},{"$f":"(Z185+Z212)/2","v":{"v":32.8,"d":"32.800000"}},{"v":0,"d":"0.000000"},{"$f":"Z237/100000","v":{"v":3.2799999999999995E-4,"d":"0.000328"}},{"v":0,"d":"0.000000"},{"$f":"AD236-AB236*AD236*2","v":{"v":98545.8,"d":"98545.800000"}},{"v":0,"d":"0.000000"},{"$f":"AC237*AE237","v":{"v":0,"d":"0.000000"}},{"v":0,"d":"0.000000"},null,{"v":2.4843750000000002E-6,"d":"0.000002"},{"v":0.005143198016,"d":"0.005143"},{"v":93005.47939859255,"d":"93005.479399"},{"v":0.20442753180577683,"d":"0.204428"},null,{"v":86805,"d":"86805.000000"},{"v":0,"d":"0.000000"},{"v":0.009953343701399688,"d":"0.009953"},{"v":0.009953343701399688,"d":"0.009953"},{"v":87603,"d":"87603.000000"},{"v":0,"d":"0.000000"}]
[{"$nulls":8},{"v":54,"d":"54.000000"},{"v":36,"d":"36.000000"},{"v":7.456E-3,"d":"0.007456"},{"v":89940,"d":"89940.000000"},{"v":25.68,"d":"25.680000"},0.004318,{"v":94143,"d":"94143.000000"},{"v":29.14,"d":"29.140000"},0.005887,{"v":92018.53849567576,"d":"92018.538496"},null,{"v":0,"d":"0.000000"},{"v":7.456E-3,"d":"0.007456"},{"v":89940.23013091607,"d":"89940.230131"},{"v":0,"d":"0.000000"},{"v":5,"d":"5.000000"},{"v":-13,"d":"-13.000000"},{"v":16.4,"d":"16.400000"},{"v":0,"d":"0.000000"},{"v":1.6399999999999997E-4,"d":"0.000164"},{"v":0,"d":"0.000000"},{"$f":"AD237-AB237*AD237*5","v":98384.184888},{"v":0,"d":"0.000000"},{"v":0,"d":"0.000000"},{"v":0,"d":"0.000000"},null,{"v":2.7945840000000003E-6,"d":"0.000003"},{"v":0.005513484375000001,"d":"0.005513"},{"v":92527.13380147258,"d":"92527.133801"},{"v":0.22987209803803346,"d":"0.229872"},null,{"v":85941,"d":"85941.000000"},{"v":0,"d":"0.000000"},{"v":0.010809741566888912,"d":"0.010810"},{"v":0.010809741566888912,"d":"0.010810"},{"v":86805,"d":"86805.000000"},{"v":0,"d":"0.000000"}]
[{"$nulls":8},{"v":55,"d":"55.000000"},{"v":37,"d":"37.000000"},0.007975,{"v":89270,"d":"89270.000000"},{"v":24.87,"d":"24.870000"},0.004619,{"v":93737,"d":"93737.000000"},{"v":28.27,"d":"28.270000"},0.006297,{"v":91476.82535955172,"d":"91476.825360"},null,{"v":0,"d":"0.000000"},0.007975,{"v":89269.63577505996,"d":"89269.635775"},{"v":0,"d":"0.000000"},{"v":10,"d":"10.000000"},{"v":-8,"d":"-8.000000"},{"v":20.8,"d":"20.800000"},{"v":0,"d":"0.000000"},{"v":2.0800000000000001E-4,"d":"0.000208"},{"v":0,"d":"0.000000"},{"$f":"AD238-AB238*AD238*5","v":{"v":98303.50985639184,"d":"98303.509856"}},{"v":0,"d":"0.000000"},{"v":0,"d":"0.000000"},{"v":0,"d":"0.000000"},null,{"v":3.129597e-06,"d":"0.000003"},{"v":0.005889794584,"d":"0.005890"},{"v":92016.98689499462,"d":"92016.986895"},{"v":0.25714919930496166,"d":"0.257149"},null,{"v":85012,"d":"85012.000000"},{"v":0,"d":"0.000000"},{"v":0.011715993036277232,"d":"0.011716"},{"v":0.011715993036277232,"d":"0.011716"},{"v":85941,"d":"85941.000000"},{"v":0,"d":"0.000000"}]
[{"$nulls":8},{"v":56,"d":"56.000000"},{"v":38,"d":"38.000000"},0.008551,{"v":88558,"d":"88558.000000"},{"v":24.06,"d":"24.060000"},0.004965,{"v":93304,"d":"93304.000000"},{"v":27.4,"d":"27.400000"},0.006758,{"v":90900.79579026262,"d":"90900.795790"},null,{"v":0,"d":"0.000000"},0.008551,{"v":88557.71042975385,"d":"88557.710430"},{"v":0,"d":"0.000000"},{"v":15,"d":"15.000000"},{"v":-3,"d":"-3.000000"},{"v":67.45,"d":"67.450000"},{"v":0,"d":"0.000000"},{"v":6.7450000000000008E-4,"d":"0.000675"},{"v":0,"d":"0.000000"},{"v":98201.2742061412,"d":"98201.274206"},{"v":0,"d":"0.000000"},{"v":0,"d":"0.000000"},{"v":0,"d":"0.000000"},null,{"v":3.4903680000000005E-6,"d":"0.000003"},{"v":0.006300129597,"d":"0.006300"},{"v":91475.02574394448,"d":"91475.025744"},{"v":0.2862799661431714,"d":"0.286280"},null,{"v":84016,"d":"84016.000000"},{"v":0,"d":"0.000000"},{"v":0.012640449438202247,"d":"0.012640"},{"v":0.012640449438202247,"d":"0.012640"},{"v":85012,"d":"85012.000000"},{"v":0,"d":"0.000000"}]
[{"$nulls":8},{"v":57,"d":"57.000000"},{"v":39,"d":"39.000000"},0.009174,{"v":87800,"d":"87800.000000"},{"v":23.26,"d":"23.260000"},0.005366,{"v":92841,"d":"92841.000000"},{"v":26.53,"d":"26.530000"},{"v":0.00727,"d":"0.007270"},{"v":90286.48821231203,"d":"90286.488212"},null,{"v":0,"d":"0.000000"},0.009174,{"v":87800.45344786902,"d":"87800.453448"},{"v":0,"d":"0.000000"},{"v":20,"d":"20.000000"},{"v":2,"d":"2.000000"},{"v":95.1,"d":"95.100000"},{"v":0,"d":"0.000000"},{"v":9.5099999999999991E-4,"d":"0.000951"},{"v":0,"d":"0.000000"},{"v":97870.09040888099,"d":"97870.090409"},{"v":0,"d":"0.000000"},{"v":0,"d":"0.000000"},{"v":0,"d":"0.000000"},null,{"v":3.8778510000000007E-6,"d":"0.000004"},{"v":6.7614903680000005E-3,"d":"0.006761"},{"v":90898.72122686871,"d":"90898.721227"},{"v":0.3172699878111833,"d":"0.317270"},null,{"v":82954,"d":"82954.000000"},{"v":0,"d":"0.000000"},{"v":0.013658171998939171,"d":"0.013658"},{"v":0.013658171998939171,"d":"0.013658"},{"v":84016,"d":"84016.000000"},{"v":0,"d":"0.000000"}]
[{"$nulls":8},{"v":58,"d":"58.000000"},{"v":40,"d":"40.000000"},0.009848,{"v":86995,"d":"86995.000000"},{"v":22.48,"d":"22.480000"},{"v":0.00583,"d":"0.005830"},{"v":92342,"d":"92342.000000"},{"v":25.67,"d":"25.670000"},0.007839,{"v":89630.10544300852,"d":"89630.105443"},null,{"v":0,"d":"0.000000"},0.009848,{"v":86994.97208793827,"d":"86994.972088"},{"v":0,"d":"0.000000"},{"v":25,"d":"25.000000"},{"v":7,"d":"7.000000"},{"v":99.2,"d":"99.200000"},{"v":0.15,"d":"0.150000"},0.000992,{"v":1.5E-6,"d":"0.000002"},{"v":97404.71812898676,"d":"97404.718129"},{"v":0,"d":"0.000000"},{"$f":"AC242*AE242*5","v":{"v":0,"d":"0.000000"}},{"v":0,"d":"0.000000"},null,{"v":4.293e-06,"d":"0.000004"},{"v":0.007273877851,"d":"0.007274"},{"v":90284.11039882973,"d":"90284.110399"},{"v":0.3501083277942123,"d":"0.350108"},null,{"v":81821,"d":"81821.000000"},{"v":0,"d":"0.000000"},{"v":0.014910597523863067,"d":"0.014911"},{"v":0.014910597523863067,"d":"0.014911"},{"v":82954,"d":"82954.000000"},{"v":0,"d":"0.000000"}]
[{"$nulls":8},{"v":59,"d":"59.000000"},{"v":41,"d":"41.000000"},0.010584,{"v":86138,"d":"86138.000000"},{"v":21.69,"d":"21.690000"},0.006358,{"v":91804,"d":"91804.000000"},{"v":24.82,"d":"24.820000"},0.008471,{"v":88927.49504644077,"d":"88927.495046"},null,{"v":0,"d":"0.000000"},0.010584,{"v":86138.24560281626,"d":"86138.245603"},{"v":0,"d":"0.000000"},{"v":30,"d":"30.000000"},{"v":12,"d":"12.000000"},{"v":116.65,"d":"116.650000"},{"v":0.8500000000000001,"d":"0.850000"},{"v":1.1665E-3,"d":"0.001167"},{"v":8.5000000000000016E-6,"d":"0.000009"},{"v":96921.59072706698,"d":"96921.590727"},{"v":6.9960000000000015E-5,"d":"0.000070"},{"$f":"AC243*AE243*5","v":{"v":2.9733000000000009E-9,"d":"0.000000"}},{"v":2.8817696570878834E-4,"d":"0.000288"},null,{"v":4.736769e-06,"d":"0.000005"},{"v":0.007843293000000001,"d":"0.007843"},{"v":89627.39480790244,"d":"89627.394808"},{"v":0.3847704059103252,"d":"0.384770"},null,{"v":80601,"d":"80601.000000"},{"v":0,"d":"0.000000"},{"v":0.016463815585414574,"d":"0.016464"},{"v":0.016463815585414574,"d":"0.016464"},{"v":81821,"d":"81821.000000"},{"v":0,"d":"0.000000"}]
[{"$nulls":8},{"v":60,"d":"60.000000"},{"v":42,"d":"42.000000"},0.011407,{"v":85227,"d":"85227.000000"},{"v":20.92,"d":"20.920000"},0.006961,{"v":91220,"d":"91220.000000"},{"v":23.97,"d":"23.970000"},{"v":0.009184000000000001,"d":"0.009184"},{"v":88174.19023590238,"d":"88174.190236"},null,{"v":0,"d":"0.000000"},0.011407,{"v":85226.55841135605,"d":"85226.558411"},{"v":0,"d":"0.000000"},{"v":35,"d":"35.000000"},{"v":17,"d":"17.000000"},{"v":162.45,"d":"162.450000"},{"v":2.95,"d":"2.950000"},{"v":1.6244999999999999E-3,"d":"0.001625"},{"v":2.9500000000000002E-5,"d":"0.000030"},{"v":96356.29554915137,"d":"96356.295549"},{"v":2.4486000000000006E-4,"d":"0.000245"},{"v":3.611685000000001E-8,"d":"0.000000"},{"v":3.4800858729043685E-3,"d":"0.003480"},null,{"v":5.2101120000000006E-6,"d":"0.000005"},{"v":0.008475736769,"d":"0.008476"},{"v":88924.42088959739,"d":"88924.420890"},{"v":0.42121444021279736,"d":"0.421214"},null,{"v":79274,"d":"79274.000000"},{"v":0,"d":"0.000000"},{"v":0.018265761788228172,"d":"0.018266"},{"v":0.018265761788228172,"d":"0.018266"},{"v":80601,"d":"80601.000000"},{"v":0,"d":"0.000000"}]
[{"$nulls":8},{"v":61,"d":"61.000000"},{"v":43,"d":"43.000000"},0.012315,{"v":84254,"d":"84254.000000"},{"v":20.16,"d":"20.160000"},0.007624,{"v":90585,"d":"90585.000000"},{"v":23.14,"d":"23.140000"},{"v":0.0099695,"d":"0.009970"},{"v":87364.39847277585,"d":"87364.398473"},null,{"v":0,"d":"0.000000"},0.012315,{"v":84254.37905955772,"d":"84254.379060"},{"v":0,"d":"0.000000"},{"v":40,"d":"40.000000"},{"v":22,"d":"22.000000"},{"v":237.75,"d":"237.750000"},{"v":9.25,"d":"9.250000"},{"v":0.0023775,"d":"0.002378"},{"v":9.25e-05,"d":"0.000093"},{"v":95573.64153855339,"d":"95573.641539"},{"v":4.1976000000000009E-4,"d":"0.000420"},{"v":1.9413900000000002E-7,"d":"0.000000"},{"v":0.01855457119465322,"d":"0.018555"},null,{"v":5.7139830000000009E-6,"d":"0.000006"},{"v":9.189210112000001E-3,"d":"0.009189"},{"v":88170.7209058014,"d":"88170.720906"},{"v":0.4593793310399668,"d":"0.459379"},null,{"v":77826,"d":"77826.000000"},{"v":0,"d":"0.000000"},{"v":0.02025030195564464,"d":"0.020250"},{"v":0.02025030195564464,"d":"0.020250"},{"v":79274,"d":"79274.000000"},{"v":0,"d":"0.000000"}]
[{"$nulls":8},{"v":62,"d":"62.000000"},{"v":44,"d":"44.000000"},0.013289,{"v":83217,"d":"83217.000000"},{"v":19.4,"d":"19.400000"},0.008322,{"v":89895,"d":"89895.000000"},{"v":22.31,"d":"22.310000"},{"v":0.0108055,"d":"0.010806"},{"v":86493.41910220151,"d":"86493.419102"},null,{"v":0,"d":"0.000000"},0.013289,{"v":83216.78638143926,"d":"83216.786381"},{"v":0,"d":"0.000000"},{"v":45,"d":"45.000000"},{"v":27,"d":"27.000000"},{"v":357.85,"d":"357.850000"},{"v":21.3,"d":"21.300000"},{"v":0.0035785,"d":"0.003579"},{"v":2.13E-4,"d":"0.000213"},{"v":94437.50987476384,"d":"94437.509875"},{"v":5.9466000000000011E-4,"d":"0.000595"},{"v":6.333129e-07,"d":"0.000001"},{"v":0.05980849324756533,"d":"0.059808"},null,{"v":6.2493360000000006E-6,"d":"0.000006"},{"v":0.009975213983,"d":"0.009975"},{"v":87360.50162567147,"d":"87360.501626"},{"v":0.4991764211605592,"d":"0.499176"},null,{"v":76250,"d":"76250.000000"},{"v":0,"d":"0.000000"},{"v":0.022308196721311475,"d":"0.022308"},{"v":0.022308196721311475,"d":"0.022308"},{"v":77826,"d":"77826.000000"},{"v":0,"d":"0.000000"}]
[{"$nulls":8},{"v":63,"d":"63.000000"},{"v":45,"d":"45.000000"},0.014326,{"v":82111,"d":"82111.000000"},{"v":18.66,"d":"18.660000"},0.009046,{"v":89147,"d":"89147.000000"},{"v":21.49,"d":"21.490000"},0.011686,{"v":85558.81446209268,"d":"85558.814462"},null,{"v":0,"d":"0.000000"},0.014326,{"v":82110.91850721631,"d":"82110.918507"},{"v":0,"d":"0.000000"},{"v":50,"d":"50.000000"},{"v":32,"d":"32.000000"},{"v":522.3,"d":"522.300000"},{"v":44.85,"d":"44.850000"},{"v":0.005222999999999999,"d":"0.005223"},{"v":0.0004485,"d":"0.000449"},{"v":92747.78672932963,"d":"92747.786729"},{"v":7.6956000000000019E-4,"d":"0.000770"},{"v":1.7257383000000003E-6,"d":"0.000002"},{"v":0.1600584077990359,"d":"0.160058"},null,{"v":6.8171250000000012E-6,"d":"0.000007"},{"v":0.010811749336,"d":"0.010812"},{"v":86489.06192829319,"d":"86489.061928"},{"v":0.5404992083147121,"d":"0.540499"},null,{"v":74549,"d":"74549.000000"},{"v":0,"d":"0.000000"},{"v":0.024292747052274345,"d":"0.024293"},{"v":0.024292747052274345,"d":"0.024293"},{"v":76250,"d":"76250.000000"},{"v":0,"d":"0.000000"}]
[{"$nulls":8},{"v":64,"d":"64.000000"},{"$f":"I248-$O$41","v":{"v":46,"d":"46.000000"}},0.015453,{"v":80935,"d":"80935.000000"},{"v":17.92,"d":"17.920000"},0.009822,{"v":88340,"d":"88340.000000"},{"v":20.69,"d":"20.690000"},{"v":0.0126375,"d":"0.012638"},{"v":84558.97415628866,"d":"84558.974156"},null,{"$f":"IF($J248<10,0, IF(AND(OR($J248>10, $J248=10),$J248<10+$H$53),$H$51*$H$52*(($J248-10)^3), $H$51*$H$52*(($J248-10)^3-($J248-10-$H$53)^3)))","v":{"v":0,"d":"0.000000"}},0.015453,{"v":80934.59748868193,"d":"80934.597489"},{"v":0,"d":"0.000000"},{"v":55,"d":"55.000000"},{"v":37,"d":"37.000000"},{"v":809.65,"d":"809.650000"},{"v":94.45,"d":"94.450000"},{"v":0.0080965,"d":"0.008097"},{"v":0.0009445,"d":"0.000945"},{"v":90325.67827889319,"d":"90325.678279"},{"v":9.4446000000000016E-4,"d":"0.000944"},{"v":4.4602123500000011E-6,"d":"0.000004"},{"v":0.4028717057816462,"d":"0.402872"},null,{"$f":"IF(J248<10,0, IF(AND(OR(J248>10, J248=10),J248<10+$H$186),$H$184*$H$185*((J248-10)^3), $H$184*$H$185*((J248-10)^3-(J248-10-$H$186)^3)))","v":{"v":7.4183040000000007E-6,"d":"0.000007"}},{"v":0.011692817125,"d":"0.011693"},{"v":85553.9638704187,"d":"85553.963870"},{"v":0.5832320659501281,"d":"0.583232"},null,{"v":72738,"d":"72738.000000"},{"v":0,"d":"0.000000"},{"v":0.026107399158624103,"d":"0.026107"},{"v":0.026107399158624103,"d":"0.026107"},{"v":74549,"d":"74549.000000"},{"v":0,"d":"0.000000"}]
[{"$nulls":8},{"v":65,"d":"65.000000"},{"v":47,"d":"47.000000"},0.016723,{"v":79684,"d":"79684.000000"},{"v":17.19,"d":"17.190000"},0.010698,{"v":87473,"d":"87473.000000"},{"v":19.89,"d":"19.890000"},{"$f":"(K249+N249)/2","v":{"v":0.013710499999999999,"d":"0.013711"}},{"v":83490.36012038856,"d":"83490.360120"},null,{"v":0,"d":"0.000000"},{"$f":"K249+T249","v":0.016723},{"v":79683.91515368933,"d":"79683.915154"},{"$f":"V249*T249","v":{"v":0,"d":"0.000000"}},{"v":60,"d":"60.000000"},{"v":42,"d":"42.000000"},{"v":1273.75,"d":"1273.750000"},{"v":164.25,"d":"164.250000"},{"v":0.0127375,"d":"0.012738"},{"v":0.0016425,"d":"0.001643"},{"v":86669.06900796789,"d":"86669.069008"},{"v":1.1193600000000002E-3,"d":"0.001119"},{"v":9.192744000000003E-6,"d":"0.000009"},{"v":0.796726564108583,"d":"0.796727"},null,{"v":8.0538270000000012E-6,"d":"0.000008"},{"$f":"Q248+AI248","v":{"v":0.012644918303999999,"d":"0.012645"}},{"v":84553.59701656303,"d":"84553.597017"},{"$f":"AK249*AI248","v":{"v":0.6272442869623577,"d":"0.627244"}},null,{"v":70839,"d":"70839.000000"},{"$f":"IF($J248<10,0, IF(AND(OR($J248>10, $J248=10),$J248<10+$H$53),$H$51*$H$52*(($J248-10)^3), $H$51*$H$52*(($J248-10)^3-($J248-10-$H$53)^3)))","v":{"v":0,"d":"0.000000"}},{"$f":"(AN249-AN250)/AN249","v":{"v":0.027837772978161746,"d":"0.027838"}},{"v":0.027837772978161746,"d":"0.027838"},{"v":72738,"d":"72738.000000"},{"v":0,"d":"0.000000"}]
[{"$nulls":8},{"v":66,"d":"66.000000"},{"v":48,"d":"48.000000"},0.018154,{"v":78351,"d":"78351.000000"},{"v":16.48,"d":"16.480000"},0.011702,{"v":86537,"d":"86537.000000"},{"v":19.1,"d":"19.100000"},0.014928,{"$f":"R249-Q249*R249","v":{"v":82345.66553795798,"d":"82345.665538"}},null,{"v":0,"d":"0.000000"},0.018154,{"$f":"V249-V249*U249","v":{"v":78351.3610405742,"d":"78351.361041"}},{"v":0,"d":"0.000000"},{"v":65,"d":"65.000000"},{"v":47,"d":"47.000000"},{"v":1963.4,"d":"1963.400000"},{"v":254.55,"d":"254.550000"},{"v":0.019634000000000002,"d":"0.019634"},{"v":2.5455E-3,"d":"0.002546"},{"v":81149.33267552294,"d":"81149.332676"},{"v":1.2942600000000002E-3,"d":"0.001294"},{"v":1.6472694150000003E-5,"d":"0.000016"},{"v":1.3367481376404908,"d":"1.336748"},null,{"v":8.724648e-06,"d":"0.000009"},{"v":0.013718553827,"d":"0.013719"},{"v":83484.42368997924,"d":"83484.423690"},{"v":0.6723691055937946,"d":"0.672369"},null,{"v":68867,"d":"68867.000000"},{"v":0,"d":"0.000000"},{"v":0.02957875324901622,"d":"0.029579"},{"$f":"AP250+AO250","v":{"v":0.02957875324901622,"d":"0.029579"}},{"v":70839,"d":"70839.000000"},{"$f":"AR250*AO249","v":{"v":0,"d":"0.000000"}}]
[{"$nulls":8},{"v":67,"d":"67.000000"},{"v":49,"d":"49.000000"},0.019732,{"v":76929,"d":"76929.000000"},{"v":15.77,"d":"15.770000"},0.012832,{"v":85524,"d":"85524.000000"},{"v":18.32,"d":"18.320000"},{"v":0.016281999999999998,"d":"0.016282"},{"v":81116.40944280734,"d":"81116.409443"},null,{"v":0,"d":"0.000000"},0.019732,{"v":76928.97043224362,"d":"76928.970432"},{"v":0,"d":"0.000000"},{"v":70,"d":"70.000000"},{"v":52,"d":"52.000000"},{"v":3043.6000000000004,"d":"3043.600000"},{"v":341.35,"d":"341.350000"},{"v":0.030436000000000005,"d":"0.030436"},{"v":3.4135000000000003E-3,"d":"0.003414"},{"v":73182.90268676684,"d":"73182.902687"},{"v":1.4691600000000004E-3,"d":"0.001469"},{"v":2.5074888300000008E-5,"d":"0.000025"},{"v":1.835053110340449,"d":"1.835053"},null,{"v":9.431721e-06,"d":"0.000009"},{"v":0.014936724648000001,"d":"0.014937"},{"$f":"AK250-AK250*AJ250","v":{"v":82339.1381298722,"d":"82339.138130"}},{"v":0.7183799968065133,"d":"0.718380"},null,{"v":66830,"d":"66830.000000"},{"v":0,"d":"0.000000"},{"v":0.03154272033517881,"d":"0.031543"},{"v":0.03154272033517881,"d":"0.031543"},{"$f":"AR250-AR250*AQ249","v":{"v":68867,"d":"68867.000000"}},{"v":0,"d":"0.000000"}]
[{"$nulls":8},{"v":68,"d":"68.000000"},{"v":50,"d":"50.000000"},0.021468,{"v":75411,"d":"75411.000000"},{"v":15.08,"d":"15.080000"},0.014103,{"v":84427,"d":"84427.000000"},{"v":17.55,"d":"17.550000"},{"v":0.0177855,"d":"0.017786"},{"v":79795.67206425956,"d":"79795.672064"},null,{"v":0,"d":"0.000000"},0.021468,{"v":75411.00798767459,"d":"75411.007988"},{"v":0,"d":"0.000000"},{"v":75,"d":"75.000000"},{"v":57,"d":"57.000000"},{"v":4701.9,"d":"4701.900000"},{"v":387.95000000000005,"d":"387.950000"},0.047019,{"v":3.8795000000000006E-3,"d":"0.003880"},{"v":62045.928555894665,"d":"62045.928556"},{"v":1.9938600000000005E-3,"d":"0.001994"},{"v":3.8675899350000015E-5,"d":"0.000039"},{"v":2.3996820879050738,"d":"2.399682"},null,{"v":1.0176E-5,"d":"0.000010"},{"v":0.016291431720999998,"d":"0.016291"},{"v":81109.26109587266,"d":"81109.261096"},{"v":0.7649999211724252,"d":"0.765000"},null,{"v":64722,"d":"64722.000000"},{"v":0,"d":"0.000000"},{"v":0.0338679274435277,"d":"0.033868"},{"v":0.0338679274435277,"d":"0.033868"},{"v":66830,"d":"66830.000000"},{"v":0,"d":"0.000000"}]
[{"$nulls":8},{"v":69,"d":"69.000000"},{"v":51,"d":"51.000000"},0.023387,{"v":73792,"d":"73792.000000"},{"v":14.4,"d":"14.400000"},0.015526,{"v":83236,"d":"83236.000000"},{"v":16.79,"d":"16.790000"},{"v":0.0194565,"d":"0.019457"},{"v":78376.46613876068,"d":"78376.466139"},null,{"v":0,"d":"0.000000"},0.023387,{"v":73792.08446819519,"d":"73792.084468"},{"v":0,"d":"0.000000"},{"v":80,"d":"80.000000"},{"v":62,"d":"62.000000"},{"v":7700.85,"d":"7700.850000"},{"v":411.20000000000005,"d":"411.200000"},{"v":0.07700850000000001,"d":"0.077009"},0.004112,{"v":47459.24098204661,"d":"47459.240982"},{"v":2.1687600000000005E-3,"d":"0.002169"},{"v":4.4589705600000015E-5,"d":"0.000045"},{"$f":"AD253*AF253","v":{"v":2.116193583388914,"d":"2.116194"}},null,{"v":1.0958439000000002E-5,"d":"0.000011"},{"v":0.017795676,"d":"0.017796"},{"v":79787.87510678849,"d":"79787.875107"},{"v":0.8119214170866796,"d":"0.811921"},null,{"v":62530,"d":"62530.000000"},{"v":0,"d":"0.000000"},{"v":0.036750359827282905,"d":"0.036750"},{"v":0.036750359827282905,"d":"0.036750"},{"v":64722,"d":"64722.000000"},{"v":0,"d":"0.000000"}]
[{"$nulls":8},{"v":70,"d":"70.000000"},{"v":52,"d":"52.000000"},0.025579,{"v":72066,"d":"72066.000000"},{"v":13.73,"d":"13.730000"},0.017163,{"v":81944,"d":"81944.000000"},{"v":16.05,"d":"16.050000"},0.021371,{"v":76851.53442533188,"d":"76851.534425"},null,{"v":0,"d":"0.000000"},0.025579,{"v":72066.30898873751,"d":"72066.308989"},{"v":0,"d":"0.000000"},{"v":85,"d":"85.000000"},{"v":67,"d":"67.000000"},{"v":15687,"d":"15687.000000"},{"v":356.25,"d":"356.250000"},{"v":0.15687,"d":"0.156870"},{"v":0.0035625,"d":"0.003563"},{"v":29185.416186216928,"d":"29185.416186"},{"v":2.3436600000000004E-3,"d":"0.002344"},{"v":4.1746443750000012E-5,"d":"0.000042"},{"v":1.2183873351382448,"d":"1.218387"},null,{"v":1.1779992000000002E-5,"d":"0.000012"},{"v":0.019467458439000003,"d":"0.019467"},{"v":78367.99593265961,"d":"78367.995933"},{"v":0.8587909029802986,"d":"0.858791"},null,{"v":60232,"d":"60232.000000"},{"v":0,"d":"0.000000"},{"v":0.04012817107185549,"d":"0.040128"},{"v":0.04012817107185549,"d":"0.040128"},{"v":62530,"d":"62530.000000"},{"v":0,"d":"0.000000"}]
[{"$nulls":8},{"v":71,"d":"71.000000"},{"v":53,"d":"53.000000"},0.028032,{"v":70223,"d":"70223.000000"},{"v":13.08,"d":"13.080000"},0.018987,{"v":80537,"d":"80537.000000"},{"v":15.32,"d":"15.320000"},{"v":0.023509500000000003,"d":"0.023510"},{"v":75209.14028312812,"d":"75209.140283"},null,{"v":0,"d":"0.000000"},0.028032,{"v":70222.92487111459,"d":"70222.924871"},{"v":0,"d":"0.000000"},{"$nulls":11},{"v":1.2641613000000002E-5,"d":"0.000013"},{"v":0.021382779992,"d":"0.021383"},{"v":76842.37022889285,"d":"76842.370229"},{"v":0.9052025065573961,"d":"0.905203"},null,{"v":57815,"d":"57815.000000"},{"v":0,"d":"0.000000"},{"v":0.04377756637550809,"d":"0.043778"},{"v":0.04377756637550809,"d":"0.043778"},{"v":60232,"d":"60232.000000"},{"v":0,"d":"0.000000"}]
[{"$nulls":8},{"v":72,"d":"72.000000"},{"v":54,"d":"54.000000"},0.030665,{"v":68254,"d":"68254.000000"},{"v":12.44,"d":"12.440000"},0.020922,{"v":79008,"d":"79008.000000"},{"v":14.61,"d":"14.610000"},{"v":0.0257935,"d":"0.025794"},{"v":73441.01099964192,"d":"73441.011000"},null,{"v":0,"d":"0.000000"},0.030665,{"v":68254.4358411275,"d":"68254.435841"},{"v":0,"d":"0.000000"},{"$nulls":11},{"v":1.3544256000000001E-5,"d":"0.000014"},{"v":0.023522141613,"d":"0.023522"},{"v":75199.26673222463,"d":"75199.266732"},{"v":0.9506400279125585,"d":"0.950640"},null,{"v":55284,"d":"55284.000000"},{"v":0,"d":"0.000000"},{"v":0.04760871138123146,"d":"0.047609"},{"v":0.04760871138123146,"d":"0.047609"},{"v":57815,"d":"57815.000000"},{"v":0,"d":"0.000000"}]
[{"$nulls":8},{"v":73,"d":"73.000000"},{"v":55,"d":"55.000000"},0.033467,{"v":66161,"d":"66161.000000"},{"v":11.82,"d":"11.820000"},0.022951,{"v":77355,"d":"77355.000000"},{"v":13.91,"d":"13.910000"},{"v":0.028208999999999998,"d":"0.028209"},{"v":71546.71028242266,"d":"71546.710282"},null,{"v":0,"d":"0.000000"},0.033467,{"v":66161.41356605933,"d":"66161.413566"},{"v":0,"d":"0.000000"},{"$nulls":9},{"$f":"SUM(AG236:AG254)/100000*1000000","v":{"v":103.47852259383268,"d":"103.478523"}},null,{"v":1.4488875000000001E-5,"d":"0.000014"},{"v":0.025807044256,"d":"0.025807"},{"v":73430.41893095548,"d":"73430.418931"},{"v":0.9945603921881074,"d":"0.994560"},null,{"v":52652,"d":"52652.000000"},{"v":0,"d":"0.000000"},{"v":0.05183088961482945,"d":"0.051831"},{"v":0.05183088961482945,"d":"0.051831"},{"v":55284,"d":"55284.000000"},{"v":0,"d":"0.000000"}]
[{"$nulls":8},{"v":74,"d":"74.000000"},{"v":56,"d":"56.000000"},0.036519,{"v":63947,"d":"63947.000000"},{"v":11.21,"d":"11.210000"},0.025147,{"v":75580,"d":"75580.000000"},{"v":13.22,"d":"13.220000"},0.030833,{"v":69528.4491320658,"d":"69528.449132"},null,{"v":0,"d":"0.000000"},0.036519,{"v":63947.18953824403,"d":"63947.189538"},{"v":0,"d":"0.000000"},{"$nulls":11},{"v":1.5476265E-5,"d":"0.000015"},{"v":0.028223488874999998,"d":"0.028223"},{"v":71535.39685986769,"d":"71535.396860"},{"v":1.0364674231780155,"d":"1.036467"},null,{"v":49923,"d":"49923.000000"},{"v":0,"d":"0.000000"},{"v":0.0564869899645454,"d":"0.056487"},{"v":0.0564869899645454,"d":"0.056487"},{"v":52652,"d":"52652.000000"},{"v":0,"d":"0.000000"}]
[{"$nulls":8},{"v":75,"d":"75.000000"},{"v":57,"d":"57.000000"},{"v":0.04001,"d":"0.040010"},{"v":61612,"d":"61612.000000"},{"v":10.62,"d":"10.620000"},0.027709,{"v":73679,"d":"73679.000000"},{"v":12.55,"d":"12.550000"},{"v":0.0338595,"d":"0.033860"},{"v":67384.67845997681,"d":"67384.678460"},null,{"v":0,"d":"0.000000"},{"v":0.04001,"d":"0.040010"},{"v":61611.9021234969,"d":"61611.902123"},{"v":0,"d":"0.000000"},{"$nulls":11},{"v":1.6506585e-05,"d":"0.000017"},{"v":0.030848476265,"d":"0.030848"},{"v":69516.4183824245,"d":"69516.418382"},{"v":1.075854512737273,"d":"1.075855"},null,{"v":47103,"d":"47103.000000"},{"v":0,"d":"0.000000"},{"v":0.061567203787444534,"d":"0.061567"},{"v":0.061567203787444534,"d":"0.061567"},{"v":49923,"d":"49923.000000"},{"v":0,"d":"0.000000"}]
[{"$nulls":8},{"v":76,"d":"76.000000"},{"v":58,"d":"58.000000"},0.043987,{"v":59147,"d":"59147.000000"},{"v":10.04,"d":"10.040000"},0.030659,{"v":71638,"d":"71638.000000"},{"v":11.9,"d":"11.900000"},{"v":0.037322999999999995,"d":"0.037323"},{"v":65103.06693966123,"d":"65103.066940"},null,{"v":0,"d":"0.000000"},0.043987,{"v":59146.809919535786,"d":"59146.809920"},{"v":0,"d":"0.000000"},{"$nulls":11},{"v":1.7579835000000003E-5,"d":"0.000018"},{"v":0.033876006585,"d":"0.033876"},{"v":67371.94279992646,"d":"67371.942800"},{"v":1.1120807004421243,"d":"1.112081"},null,{"v":44203,"d":"44203.000000"},{"v":0,"d":"0.000000"},{"v":0.06703164943555867,"d":"0.067032"},{"v":0.06703164943555867,"d":"0.067032"},{"v":47103,"d":"47103.000000"},{"v":0,"d":"0.000000"}]
[{"$nulls":8},{"v":77,"d":"77.000000"},{"v":59,"d":"59.000000"},0.048359,{"v":56545,"d":"56545.000000"},{"v":9.48,"d":"9.480000"},0.033861,{"v":69441,"d":"69441.000000"},{"v":11.26,"d":"11.260000"},{"v":0.04111,"d":"0.041110"},{"v":62673.22517227225,"d":"62673.225172"},null,{"v":0,"d":"0.000000"},0.048359,{"v":56545.11919160517,"d":"56545.119192"},{"v":0,"d":"0.000000"},{"$nulls":11},{"v":1.8696015000000003E-5,"d":"0.000019"},{"v":0.037340579835,"d":"0.037341"},{"v":65089.65042199191,"d":"65089.650422"},{"v":1.1442653146262982,"d":"1.144265"},null,{"v":41240,"d":"41240.000000"},{"v":0,"d":"0.000000"},{"v":0.07286614936954414,"d":"0.072866"},{"v":0.07286614936954414,"d":"0.072866"},{"v":44203,"d":"44203.000000"},{"v":0,"d":"0.000000"}]
[{"$nulls":8},{"v":78,"d":"78.000000"},{"v":60,"d":"60.000000"},{"v":0.05314,"d":"0.053140"},{"v":53811,"d":"53811.000000"},{"v":8.94,"d":"8.940000"},0.037311,{"v":67090,"d":"67090.000000"},{"v":10.63,"d":"10.630000"},{"v":0.0452255,"d":"0.045226"},{"v":60096.72888544014,"d":"60096.728885"},null,{"v":0,"d":"0.000000"},{"v":0.05314,"d":"0.053140"},{"v":53810.65377261833,"d":"53810.653773"},{"v":0,"d":"0.000000"},{"$nulls":11},{"v":1.9855125e-05,"d":"0.000020"},{"v":0.041128696015,"d":"0.041129"},{"v":62659.16513397728,"d":"62659.165134"},{"v":1.1714766912323165,"d":"1.171477"},null,{"v":38235,"d":"38235.000000"},{"v":0,"d":"0.000000"},{"v":0.0790113770105924,"d":"0.079011"},{"v":0.0790113770105924,"d":"0.079011"},{"v":41240,"d":"41240.000000"},{"v":0,"d":"0.000000"}]
[{"$nulls":8},{"v":79,"d":"79.000000"},{"v":61,"d":"61.000000"},0.058434,{"v":50951,"d":"50951.000000"},{"v":8.41,"d":"8.410000"},0.041132,{"v":64587,"d":"64587.000000"},{"v":10.03,"d":"10.030000"},0.049783,{"v":57378.824273231665,"d":"57378.824273"},null,{"v":0,"d":"0.000000"},0.058434,{"v":50951.155631141395,"d":"50951.155631"},{"v":0,"d":"0.000000"},{"$nulls":11},{"v":2.1057165000000003E-5,"d":"0.000021"},{"v":0.045245355125000004,"d":"0.045245"},{"v":60082.075378628244,"d":"60082.075379"},{"v":1.1929371169020861,"d":"1.192937"},null,{"v":35214,"d":"35214.000000"},{"v":0,"d":"0.000000"},{"v":0.08539217356733117,"d":"0.085392"},{"v":0.08539217356733117,"d":"0.085392"},{"v":38235,"d":"38235.000000"},{"v":0,"d":"0.000000"}]
[{"$nulls":8},{"v":80,"d":"80.000000"},{"v":62,"d":"62.000000"},0.064457,{"v":47974,"d":"47974.000000"},{"v":7.9,"d":"7.900000"},0.045561,{"v":61930,"d":"61930.000000"},{"v":9.43,"d":"9.430000"},0.055009,{"v":54522.33426443737,"d":"54522.334264"},null,{"v":0,"d":"0.000000"},0.064457,{"v":47973.87580299128,"d":"47973.875803"},{"v":0,"d":"0.000000"},{"$nulls":11},{"v":2.2302135000000004E-5,"d":"0.000022"},{"v":0.049804057165,"d":"0.049804"},{"v":57363.64054147519,"d":"57363.640541"},{"v":1.2079156438825327,"d":"1.207916"},null,{"v":32207,"d":"32207.000000"},{"v":0,"d":"0.000000"},{"v":0.0919365355357531,"d":"0.091937"},{"v":0.0919365355357531,"d":"0.091937"},{"v":35214,"d":"35214.000000"},{"v":0,"d":"0.000000"}]
[{"$nulls":8},{"v":81,"d":"81.000000"},{"v":63,"d":"63.000000"},0.071259,{"v":44882,"d":"44882.000000"},{"v":7.41,"d":"7.410000"},0.050698,{"v":59109,"d":"59109.000000"},{"v":8.86,"d":"8.860000"},{"v":0.060978500000000005,"d":"0.060979"},{"v":51523.11517888493,"d":"51523.115179"},null,{"v":0,"d":"0.000000"},0.071259,{"v":44881.62369035787,"d":"44881.623690"},{"v":0,"d":"0.000000"},{"$nulls":11},{"v":2.3590035000000002E-5,"d":"0.000024"},{"v":0.055031302135,"d":"0.055031"},{"v":54506.69850875505,"d":"54506.698509"},{"v":1.215615748546554,"d":"1.215616"},null,{"v":29246,"d":"29246.000000"},{"v":0,"d":"0.000000"},{"v":0.09850919783902072,"d":"0.098509"},{"v":0.09850919783902072,"d":"0.098509"},{"v":32207,"d":"32207.000000"},{"v":0,"d":"0.000000"}]
[{"$nulls":8},{"v":82,"d":"82.000000"},{"v":64,"d":"64.000000"},0.078741,{"v":41683,"d":"41683.000000"},{"v":6.94,"d":"6.940000"},0.056486,{"v":56112,"d":"56112.000000"},{"v":8.31,"d":"8.310000"},{"v":0.0676135,"d":"0.067614"},{"v":48381.3128999493,"d":"48381.312900"},null,{"v":0,"d":"0.000000"},0.078741,{"v":41683.40406780666,"d":"41683.404068"},{"v":0,"d":"0.000000"},{"$nulls":11},{"v":2.4920865e-05,"d":"0.000025"},{"v":0.061002090035000005,"d":"0.061002"},{"v":51507.1239147384,"d":"51507.123915"},{"v":1.2150548558980159,"d":"1.215055"},null,{"v":26365,"d":"26365.000000"},{"v":0,"d":"0.000000"},{"v":0.10487388583349137,"d":"0.104874"},{"v":0.10487388583349137,"d":"0.104874"},{"v":29246,"d":"29246.000000"},{"v":0,"d":"0.000000"}]
[{"$nulls":8},{"v":83,"d":"83.000000"},{"v":65,"d":"65.000000"},0.086923,{"v":38401,"d":"38401.000000"},{"v":6.49,"d":"6.490000"},0.062971,{"v":52942,"d":"52942.000000"},{"v":7.77,"d":"7.770000"},0.074947,{"v":45110.08300018858,"d":"45110.083000"},null,{"v":0,"d":"0.000000"},0.086923,{"v":38401.211148103495,"d":"38401.211148"},{"v":0,"d":"0.000000"},{"$nulls":11},{"v":2.6294625000000002E-5,"d":"0.000026"},{"v":0.067638420865,"d":"0.067638"},{"v":48365.08170424763,"d":"48365.081704"},{"v":1.2052996718655251,"d":"1.205300"},null,{"v":23600,"d":"23600.000000"},{"v":0,"d":"0.000000"},{"v":0.11059322033898306,"d":"0.110593"},{"v":0.11059322033898306,"d":"0.110593"},{"v":26365,"d":"26365.000000"},{"v":0,"d":"0.000000"}]
[{"$nulls":8},{"v":84,"d":"84.000000"},{"v":66,"d":"66.000000"},0.095935,{"v":35063,"d":"35063.000000"},{"v":6.06,"d":"6.060000"},0.070259,{"v":49608,"d":"49608.000000"},{"v":7.26,"d":"7.260000"},0.083097,{"v":41729.21760957345,"d":"41729.217610"},null,{"v":0,"d":"0.000000"},0.095935,{"v":35063.26267147689,"d":"35063.262671"},{"v":0,"d":"0.000000"},{"$nulls":11},{"v":2.7711315000000005E-5,"d":"0.000028"},{"v":0.074973294625,"d":"0.074973"},{"v":45093.74395276562,"d":"45093.743953"},{"v":1.1857230870839897,"d":"1.185723"},null,{"v":20990,"d":"20990.000000"},{"v":0,"d":"0.000000"},{"v":0.11495950452596475,"d":"0.114960"},{"v":0.11495950452596475,"d":"0.114960"},{"v":23600,"d":"23600.000000"},{"v":0,"d":"0.000000"}]
[{"$nulls":8},{"v":85,"d":"85.000000"},{"v":67,"d":"67.000000"},0.105937,{"v":31699,"d":"31699.000000"},{"v":5.65,"d":"5.650000"},0.078471,{"v":46123,"d":"46123.000000"},{"v":6.77,"d":"6.770000"},{"v":0.09220400000000001,"d":"0.092204"},{"v":38261.64481387072,"d":"38261.644814"},null,{"v":0,"d":"0.000000"},0.105937,{"v":31699.468567088756,"d":"31699.468567"},{"v":0,"d":"0.000000"},{"$nulls":11},{"v":2.9170935000000005E-5,"d":"0.000029"},{"v":0.083124711315,"d":"0.083125"},{"v":41712.91740165061,"d":"41712.917402"},{"v":1.1559197936861216,"d":"1.155920"},null,{"v":18577,"d":"18577.000000"},{"v":0,"d":"0.000000"},{"v":0.11702643053237875,"d":"0.117026"},{"v":0.11702643053237875,"d":"0.117026"},{"v":20990,"d":"20990.000000"},{"v":0,"d":"0.000000"}]
[{"$nulls":8},{"v":86,"d":"86.000000"},{"v":68,"d":"68.000000"},0.117063,{"v":28341,"d":"28341.000000"},{"v":5.26,"d":"5.260000"},0.087713,{"v":42504,"d":"42504.000000"},{"v":6.31,"d":"6.310000"},0.102388,{"v":34733.768115452585,"d":"34733.768115"},null,{"v":0,"d":"0.000000"},0.117063,{"v":28341.321965497074,"d":"28341.321965"},{"v":0,"d":"0.000000"},{"$nulls":11},{"v":3.0673485e-05,"d":"0.000031"},{"v":0.09223317093500001,"d":"0.092233"},{"v":38245.54318453196,"d":"38245.543185"},{"v":1.115658254275675,"d":"1.115658"},null,{"v":16403,"d":"16403.000000"},{"v":0,"d":"0.000000"},{"v":1,"d":"1.000000"},{"v":1,"d":"1.000000"},{"v":18577,"d":"18577.000000"},{"v":0,"d":"0.000000"}]
[{"$nulls":8},{"v":87,"d":"87.000000"},{"v":69,"d":"69.000000"},0.129407,{"v":25024,"d":"25024.000000"},{"v":4.89,"d":"4.890000"},0.098064,{"v":38776,"d":"38776.000000"},{"v":5.87,"d":"5.870000"},{"v":0.11373549999999999,"d":"0.113736"},{"v":31177.447065647626,"d":"31177.447066"},null,{"v":0,"d":"0.000000"},0.129407,{"v":25023.60179225009,"d":"25023.601792"},{"v":0,"d":"0.000000"},{"$nulls":11},{"v":3.2218965e-05,"d":"0.000032"},{"v":0.102418673485,"d":"0.102419"},{"v":34718.0354624911,"d":"34718.035462"},{"v":1.0649231399881889,"d":"1.064923"},{"$nulls":5},{"v":16403,"d":"16403.000000"},{"v":0,"d":"0.000000"}]
[{"$nulls":8},{"v":88,"d":"88.000000"},{"v":70,"d":"70.000000"},0.143015,{"v":21785,"d":"21785.000000"},{"v":4.55,"d":"4.550000"},0.109578,{"v":34973,"d":"34973.000000"},{"v":5.45,"d":"5.450000"},{"v":0.1262965,"d":"0.126297"},{"v":27631.464534912662,"d":"27631.464535"},null,{"v":0,"d":"0.000000"},0.143015,{"v":21785.372555120382,"d":"21785.372555"},{"v":0,"d":"0.000000"},{"$nulls":11},{"v":3.3807375e-05,"d":"0.000034"},{"v":0.11376771896499999,"d":"0.113768"},{"v":31162.26032441757,"d":"31162.260324"},{"v":1.0040157747132983,"d":"1.004016"}]
[{"$nulls":8},{"v":89,"d":"89.000000"},{"v":71,"d":"71.000000"},0.157889,{"v":18670,"d":"18670.000000"},{"v":4.22,"d":"4.220000"},0.122283,{"v":31141,"d":"31141.000000"},{"v":5.06,"d":"5.060000"},0.140086,{"v":24141.707274279066,"d":"24141.707274"},null,{"v":0,"d":"0.000000"},0.157889,{"v":18669.73749914984,"d":"18669.737499"},{"v":0,"d":"0.000000"},{"$nulls":11},{"v":3.5438715000000004E-5,"d":"0.000035"},{"v":0.126330307375,"d":"0.126330"},{"v":27617.001049515064,"d":"27617.001050"},{"v":0.9336583108563494,"d":"0.933658"}]
[{"$nulls":8},{"v":90,"d":"90.000000"},{"v":72,"d":"72.000000"},0.174013,{"v":15722,"d":"15722.000000"},{"v":3.92,"d":"3.920000"},{"v":0.13619,"d":"0.136190"},{"v":27333,"d":"27333.000000"},{"v":4.69,"d":"4.690000"},{"v":0.1551015,"d":"0.155102"},{"v":20759.79206905441,"d":"20759.792069"},null,{"v":0,"d":"0.000000"},0.174013,{"v":15721.99131514657,"d":"15721.991315"},{"v":0,"d":"0.000000"},{"$nulls":11},{"v":3.7112985000000008E-5,"d":"0.000037"},{"v":0.140121438715,"d":"0.140121"},{"v":24128.13681815413,"d":"24128.136818"},{"v":0.8550701641795712,"d":"0.855070"}]
[{"$nulls":8},{"v":91,"d":"91.000000"},{"v":73,"d":"73.000000"},0.191354,{"v":12986,"d":"12986.000000"},{"v":3.64,"d":"3.640000"},{"v":0.1513,"d":"0.151300"},{"v":23610,"d":"23610.000000"},{"v":4.36,"d":"4.360000"},0.171327,{"v":17539.917179455966,"d":"17539.917179"},null,{"v":0,"d":"0.000000"},0.191354,{"v":12986.16044042397,"d":"12986.160440"},{"v":0,"d":"0.000000"},{"$nulls":11},{"v":3.8830185000000005E-5,"d":"0.000039"},{"v":0.155138612985,"d":"0.155139"},{"v":20747.26757368201,"d":"20747.267574"},{"v":0.769993030253047,"d":"0.769993"}]
[{"$nulls":8},{"v":92,"d":"92.000000"},{"v":74,"d":"74.000000"},0.209867,{"v":10501,"d":"10501.000000"},{"v":3.38,"d":"3.380000"},0.167602,{"v":20038,"d":"20038.000000"},{"v":4.04,"d":"4.040000"},{"v":0.1887345,"d":"0.188735"},{"v":14534.855788851313,"d":"14534.855789"},null,{"v":0,"d":"0.000000"},0.209867,{"v":10501.20669550708,"d":"10501.206696"},{"v":0,"d":"0.000000"},{"$nulls":11},{"v":4.0590315000000004E-5,"d":"0.000041"},{"v":0.171365830185,"d":"0.171366"},{"v":17528.565259072315,"d":"17528.565259"},{"v":0.680637431794351,"d":"0.680637"}]
[{"$nulls":8},{"v":93,"d":"93.000000"},{"v":75,"d":"75.000000"},0.229502,{"v":8297,"d":"8297.000000"},{"v":3.15,"d":"3.150000"},0.185078,{"v":16680,"d":"16680.000000"},{"v":3.76,"d":"3.760000"},{"v":0.20729,"d":"0.207290"},{"v":11791.627048970355,"d":"11791.627049"},null,{"v":0,"d":"0.000000"},0.229502,{"v":8297.349949941095,"d":"8297.349950"},{"v":0,"d":"0.000000"},{"$nulls":11},{"v":4.2393375000000005E-5,"d":"0.000042"},{"v":0.188775090315,"d":"0.188775"},{"v":14524.768121499437,"d":"14524.768121"},{"v":0.5895649133536205,"d":"0.589565"}]
[{"$nulls":8},{"v":94,"d":"94.000000"},{"v":76,"d":"76.000000"},0.250198,{"v":6393,"d":"6393.000000"},{"v":2.93,"d":"2.930000"},{"v":0.2037,"d":"0.203700"},{"v":13593,"d":"13593.000000"},{"v":3.5,"d":"3.500000"},{"v":0.22694899999999998,"d":"0.226949"},{"v":9347.34067798929,"d":"9347.340678"},null,{"v":0,"d":"0.000000"},0.250198,{"v":6393.091541729714,"d":"6393.091542"},{"v":0,"d":"0.000000"},{"$nulls":11},{"v":4.4239365000000006E-5,"d":"0.000044"},{"v":0.207332393375,"d":"0.207332"},{"v":11782.853707558948,"d":"11782.853708"},{"v":0.49951493579468687,"d":"0.499515"}]
[{"$nulls":8},{"v":95,"d":"95.000000"},{"v":77,"d":"77.000000"},{"v":0.27075,"d":"0.270750"},{"v":4794,"d":"4794.000000"},{"v":2.75,"d":"2.750000"},0.222541,{"v":10824,"d":"10824.000000"},{"v":3.26,"d":"3.260000"},{"v":0.2466455,"d":"0.246646"},{"v":7225.971058460299,"d":"7225.971058"},null,{"v":0,"d":"0.000000"},{"v":0.27075,"d":"0.270750"},{"v":4793.552824172023,"d":"4793.552824"},{"v":0,"d":"0.000000"},{"$nulls":11},{"v":4.6128285e-05,"d":"0.000046"},{"v":0.226993239365,"d":"0.226993"},{"v":9339.88644758326,"d":"9339.886448"},{"v":0.41319064561318924,"d":"0.413191"}]
[{"$nulls":8},{"v":96,"d":"96.000000"},{"$f":"I280-$O$41","v":{"v":78,"d":"78.000000"}},0.290814,{"v":3496,"d":"3496.000000"},{"v":2.58,"d":"2.580000"},0.241317,{"v":8415,"d":"8415.000000"},{"v":3.05,"d":"3.050000"},{"v":0.2660655,"d":"0.266066"},{"v":5443.71781376083,"d":"5443.717814"},null,{"$f":"IF($J280<10,0, IF(AND(OR($J280>10, $J280=10),$J280<10+$H$53),$H$51*$H$52*(($J280-10)^3), $H$51*$H$52*(($J280-10)^3-($J280-10-$H$53)^3)))","v":{"v":0,"d":"0.000000"}},0.290814,{"v":3495.6983970274478,"d":"3495.698397"},{"v":0,"d":"0.000000"},{"$nulls":11},{"$f":"IF(J280<10,0, IF(AND(OR(J280>10, J280=10),J280<10+$H$186),$H$184*$H$185*((J280-10)^3), $H$184*$H$185*((J280-10)^3-(J280-10-$H$186)^3)))","v":{"v":4.8060135000000007E-5,"d":"0.000048"}},{"v":0.246691628285,"d":"0.246692"},{"v":7219.7953675450735,"d":"7219.795368"},{"v":0.3330367783557989,"d":"0.333037"}]
[{"$nulls":8},{"v":97,"d":"97.000000"},{"v":79,"d":"79.000000"},0.310029,{"v":2479,"d":"2479.000000"},{"v":2.44,"d":"2.440000"},0.259716,{"v":6384,"d":"6384.000000"},{"v":2.87,"d":"2.870000"},{"v":0.2848725,"d":"0.284873"},{"v":3995.3323117836476,"d":"3995.332312"},null,{"v":0,"d":"0.000000"},0.310029,{"v":2479.1003633943074,"d":"2479.100363"},{"v":0,"d":"0.000000"},{"$nulls":11},{"v":5.0034915000000005E-5,"d":"0.000050"},{"$f":"Q280+AI280","v":{"v":0.26611356013500004,"d":"0.266114"}},{"v":5438.732292440879,"d":"5438.732292"},{"$f":"AK281*AI280","v":{"v":0.26138620820356817,"d":"0.261386"}}]
[{"$nulls":8},{"v":98,"d":"98.000000"},{"v":80,"d":"80.000000"},0.328021,{"v":1711,"d":"1711.000000"},{"v":2.3,"d":"2.300000"},0.277409,{"v":4726,"d":"4726.000000"},{"v":2.7,"d":"2.700000"},0.302715,{"v":2857.1720077950604,"d":"2857.172008"},null,{"v":0,"d":"0.000000"},0.328021,{"v":1710.5073568315338,"d":"1710.507357"},{"v":0,"d":"0.000000"},{"$nulls":11},{"v":5.2052625000000005E-5,"d":"0.000052"},{"v":0.28492253491499997,"d":"0.284923"},{"v":3991.4118794782466,"d":"3991.411879"},{"v":0.19970995411968434,"d":"0.199710"}]
[{"$nulls":8},{"v":99,"d":"99.000000"},{"v":81,"d":"81.000000"},0.344422,{"v":1149,"d":"1149.000000"},{"v":2.19,"d":"2.190000"},0.294054,{"v":3415,"d":"3415.000000"},{"v":2.54,"d":"2.540000"},0.319238,{"v":1992.2631834553786,"d":"1992.263183"},null,{"v":0,"d":"0.000000"},0.344422,{"v":1149.425023136297,"d":"1149.425023"},{"v":0,"d":"0.000000"},{"$nulls":11},{"v":5.4113265000000007E-5,"d":"0.000054"},{"v":0.30276705262500003,"d":"0.302767"},{"v":2854.16868888746,"d":"2854.168689"},{"v":0.14856697244940065,"d":"0.148567"}]
[{"$nulls":8},{"v":100,"d":"100.000000"},{"v":82,"d":"82.000000"},0.361644,{"v":754,"d":"754.000000"},{"v":2.07,"d":"2.070000"},0.311697,{"v":2411,"d":"2411.000000"},{"v":2.39,"d":"2.390000"},{"v":0.3366705,"d":"0.336671"},{"v":1356.2570692954505,"d":"1356.257069"},null,{"v":0,"d":"0.000000"},0.361644,{"v":753.5377578176474,"d":"753.537758"},{"v":0,"d":"0.000000"},{"$nulls":11},{"v":5.6216835000000009E-5,"d":"0.000056"},{"v":0.319292113265,"d":"0.319292"},{"v":1990.0204472584433,"d":"1990.020447"},{"v":0.10768650381791468,"d":"0.107687"}]
[{"$nulls":8},{"v":101,"d":"101.000000"},{"v":83,"d":"83.000000"},0.379726,{"v":481,"d":"481.000000"},{"v":1.96,"d":"1.960000"},0.330399,{"v":1659,"d":"1659.000000"},{"v":2.25,"d":"2.250000"},{"v":0.3550625,"d":"0.355063"},{"v":899.6453236472166,"d":"899.645324"},null,{"v":0,"d":"0.000000"},0.379726,{"v":481.0253489294421,"d":"481.025349"},{"v":0,"d":"0.000000"},{"$nulls":11},{"v":5.8363335000000007E-5,"d":"0.000058"},{"v":0.336726716835,"d":"0.336727"},{"v":1354.6226132127344,"d":"1354.622613"},{"v":0.07615259593424913,"d":"0.076153"}]
[{"$nulls":8},{"v":102,"d":"102.000000"},{"v":84,"d":"84.000000"},0.398712,{"v":298,"d":"298.000000"},{"v":1.85,"d":"1.850000"},0.350223,{"v":1111,"d":"1111.000000"},{"v":2.11,"d":"2.110000"},{"v":0.3744675,"d":"0.374468"},{"v":580.2150059197268,"d":"580.215006"},null,{"v":0,"d":"0.000000"},0.398712,{"v":298.3675172818607,"d":"298.367517"},{"v":0,"d":"0.000000"},{"$nulls":11},{"v":6.0552765000000005E-5,"d":"0.000061"},{"v":0.355120863335,"d":"0.355121"},{"v":898.4849881151623,"d":"898.484988"},{"v":0.052438580353836244,"d":"0.052439"}]
[{"$nulls":8},{"v":103,"d":"103.000000"},{"v":85,"d":"85.000000"},0.418648,{"v":179,"d":"179.000000"},{"v":1.75,"d":"1.750000"},0.371236,{"v":722,"d":"722.000000"},{"v":1.98,"d":"1.980000"},0.394942,{"v":362.94334319048147,"d":"362.943343"},null,{"v":0,"d":"0.000000"},0.418648,{"v":179.40480773137546,"d":"179.404808"},{"v":0,"d":"0.000000"},{"$nulls":11},{"v":6.2785125e-05,"d":"0.000063"},{"v":0.374528052765,"d":"0.374528"},{"v":579.4142234421687,"d":"579.414223"},{"v":0.03508513330975113,"d":"0.035085"}]
[{"$nulls":8},{"v":104,"d":"104.000000"},{"v":86,"d":"86.000000"},{"v":0.43958,"d":"0.439580"},{"v":104,"d":"104.000000"},{"v":1.66,"d":"1.660000"},{"v":0.39351,"d":"0.393510"},{"v":454,"d":"454.000000"},{"v":1.86,"d":"1.860000"},{"v":0.41654500000000005,"d":"0.416545"},{"v":219.60177334414632,"d":"219.601773"},null,{"v":0,"d":"0.000000"},{"v":0.43958,"d":"0.439580"},{"v":104.29734378425059,"d":"104.297344"},{"v":0,"d":"0.000000"},{"$nulls":11},{"v":6.5060415000000013E-5,"d":"0.000065"},{"v":0.39500478512500004,"d":"0.395005"},{"v":362.4073425920286,"d":"362.407343"},{"v":0.022753790305558342,"d":"0.022754"}]
[{"$nulls":8},{"v":105,"d":"105.000000"},{"v":87,"d":"87.000000"},0.461559,{"v":58,"d":"58.000000"},{"v":1.56,"d":"1.560000"},0.417121,{"v":275,"d":"275.000000"},{"v":1.74,"d":"1.740000"},{"v":0.43934,"d":"0.439340"},{"v":128.12775266650888,"d":"128.127753"},null,{"v":0,"d":"0.000000"},0.461559,{"v":58.45031740356971,"d":"58.450317"},{"v":0,"d":"0.000000"},{"$nulls":11},{"v":6.7378635000000015E-5,"d":"0.000067"},{"v":0.41661006041500004,"d":"0.416610"},{"v":219.25470810374208,"d":"219.254708"},{"v":0.014264802299933325,"d":"0.014265"}]
[{"$nulls":8},{"v":106,"d":"106.000000"},{"v":88,"d":"88.000000"},0.484637,{"v":31,"d":"31.000000"},{"v":1.47,"d":"1.470000"},0.442148,{"v":160,"d":"160.000000"},{"v":1.62,"d":"1.620000"},{"v":0.4633925,"d":"0.463393"},{"v":71.83610581000487,"d":"71.836106"},null,{"v":0,"d":"0.000000"},0.484637,{"v":31.47204735309548,"d":"31.472047"},{"v":0,"d":"0.000000"},{"$nulls":11},{"v":6.9739785000000012E-5,"d":"0.000070"},{"v":0.439407378635,"d":"0.439407"},{"v":127.9109909143689,"d":"127.910991"},{"v":0.00861846796930758,"d":"0.008618"}]
[{"$nulls":8},{"v":107,"d":"107.000000"},{"v":89,"d":"89.000000"},0.508869,{"v":16,"d":"16.000000"},{"v":1.39,"d":"1.390000"},0.468677,{"v":90,"d":"90.000000"},{"v":1.52,"d":"1.520000"},0.488773,{"v":38.54779314844219,"d":"38.547793"},null,{"v":0,"d":"0.000000"},0.508869,{"v":16.219528740033347,"d":"16.219529"},{"v":0,"d":"0.000000"},{"$nulls":11},{"v":7.2143865e-05,"d":"0.000072"},{"v":0.463462239785,"d":"0.463462"},{"v":71.70595769808077,"d":"71.705958"},{"v":0.005000758073083249,"d":"0.005001"}]
[{"$nulls":8},{"v":108,"d":"108.000000"},{"v":90,"d":"90.000000"},0.534312,{"v":8,"d":"8.000000"},{"v":1.3,"d":"1.300000"},0.496798,{"v":48,"d":"48.000000"},{"v":1.41,"d":"1.410000"},0.515555,{"v":19.706672647898653,"d":"19.706673"},null,{"v":0,"d":"0.000000"},0.534312,{"v":7.965913369621317,"d":"7.965913"},{"v":0,"d":"0.000000"},{"$nulls":11},{"v":7.4590875e-05,"d":"0.000075"},{"v":0.488845143865,"d":"0.488845"},{"v":38.472953937399794,"d":"38.472954"},{"v":0.002775587595010989,"d":"0.002776"}]
[{"$nulls":8},{"v":109,"d":"109.000000"},{"v":91,"d":"91.000000"},0.561028,{"v":4,"d":"4.000000"},{"v":1.22,"d":"1.220000"},0.526605,{"v":24,"d":"24.000000"},{"v":1.31,"d":"1.310000"},{"v":0.5438164999999999,"d":"0.543817"},{"v":9.546799030911263,"d":"9.546799"},null,{"v":0,"d":"0.000000"},0.561028,{"v":3.709630265272212,"d":"3.709630"},{"v":0,"d":"0.000000"},{"$nulls":11},{"v":7.708081500000001E-5,"d":"0.000077"},{"v":0.5156295908749999,"d":"0.515630"},{"v":19.665637234960073,"d":"19.665637"},{"v":1.4668770887882525E-3,"d":"0.001467"}]
[{"$nulls":8},{"v":110,"d":"110.000000"},{"v":92,"d":"92.000000"},0.589079,{"v":2,"d":"2.000000"},{"v":1.15,"d":"1.150000"},0.558202,{"v":11,"d":"11.000000"},{"v":1.22,"d":"1.220000"},{"v":0.5736405,"d":"0.573641"},{"v":4.355092195717709,"d":"4.355092"},null,{"v":0,"d":"0.000000"},0.589079,{"v":1.6284238168070737,"d":"1.628424"},{"v":0,"d":"0.000000"},{"$nulls":11},{"v":7.9613685000000012E-5,"d":"0.000080"},{"v":0.5438935808149999,"d":"0.543894"},{"v":9.525452753201446,"d":"9.525453"},{"v":7.3422966146076136E-4,"d":"0.000734"}]
[{"$nulls":8},{"v":111,"d":"111.000000"},{"v":93,"d":"93.000000"},0.618533,{"v":1,"d":"1.000000"},{"v":1.07,"d":"1.070000"},0.591694,{"v":5,"d":"5.000000"},{"v":1.13,"d":"1.130000"},{"v":0.6051135000000001,"d":"0.605114"},{"v":1.8568349310201042,"d":"1.856835"},null,{"v":0,"d":"0.000000"},0.618533,{"v":0.6691535432261795,"d":"0.669154"},{"v":0,"d":"0.000000"},{"$nulls":11},{"v":8.2189485000000009E-5,"d":"0.000082"},{"v":0.573720113685,"d":"0.573720"},{"v":4.344620146378611,"d":"4.344620"},{"v":3.458912197784407E-4,"d":"0.000346"}]
[{"$nulls":8},{"v":112,"d":"112.000000"},{"v":94,"d":"94.000000"},{"v":0.64946,"d":"0.649460"},{"v":0,"d":"0.000000"},{"v":1,"d":"1.000000"},0.627196,{"v":2,"d":"2.000000"},{"v":1.05,"d":"1.050000"},0.638328,{"v":0.7332390469882701,"d":"0.733239"},null,{"v":0,"d":"0.000000"},{"v":0.64946,"d":"0.649460"},{"v":0.255259994673861,"d":"0.255260"},{"v":0,"d":"0.000000"},{"$nulls":11},{"v":8.4808215000000013E-5,"d":"0.000085"},{"v":0.6051956894850001,"d":"0.605196"},{"v":1.8520241820801333,"d":"1.852024"},{"v":1.522169137327124E-4,"d":"0.000152"}]
[{"$nulls":8},{"v":113,"d":"113.000000"},{"v":95,"d":"95.000000"},0.681933,{"v":0,"d":"0.000000"},{"v":0.94,"d":"0.940000"},0.664827,{"v":1,"d":"1.000000"},{"v":0.97,"d":"0.970000"},{"v":0.67338,"d":"0.673380"},{"v":0.26519203260234164,"d":"0.265192"},null,{"v":0,"d":"0.000000"},0.681933,{"v":0.08947883853297522,"d":"0.089479"},{"v":0,"d":"0.000000"},{"$nulls":11},{"v":8.7469875000000013E-5,"d":"0.000087"},{"v":0.638412808215,"d":"0.638413"},{"v":0.7311871302632535,"d":"0.731187"},{"v":6.2010675348599022E-5,"d":"0.000062"}]
[{"$nulls":8},{"v":114,"d":"114.000000"},{"v":96,"d":"96.000000"},0.716029,{"v":0,"d":"0.000000"},{"v":0.87,"d":"0.870000"},0.704717,{"v":0,"d":"0.000000"},{"v":0.89,"d":"0.890000"},0.710373,{"v":0.08661702168857682,"d":"0.086617"},null,{"v":0,"d":"0.000000"},0.716029,{"v":0.02846026573566783,"d":"0.028460"},{"v":0,"d":"0.000000"},{"$nulls":11},{"v":9.0174465e-05,"d":"0.000090"},{"v":0.673467469875,"d":"0.673467"},{"v":0.26438790110122284,"d":"0.264388"},{"v":2.3125976660836328E-5,"d":"0.000023"}]
[{"$nulls":8},{"v":115,"d":"115.000000"},{"v":97,"d":"97.000000"},0.751831,{"v":0,"d":"0.000000"},{"v":0.81,"d":"0.810000"},{"v":0.747,"d":"0.747000"},{"v":0,"d":"0.000000"},{"v":0.82,"d":"0.820000"},{"v":0.7494155,"d":"0.749416"},{"v":0.025086628140597436,"d":"0.025087"},null,{"v":0,"d":"0.000000"},0.751831,{"v":0.008081890121223328,"d":"0.008082"},{"v":0,"d":"0.000000"},{"$nulls":11},{"v":9.2921985000000008E-5,"d":"0.000093"},{"v":0.7104631744650001,"d":"0.710463"},{"v":0.0863312502810206,"d":"0.086331"},{"v":7.7848743068721318E-6,"d":"0.000008"}]
[{"$nulls":8},{"v":116,"d":"116.000000"},{"v":98,"d":"98.000000"},0.789422,{"v":0,"d":"0.000000"},{"v":0.75,"d":"0.750000"},0.789422,{"v":0,"d":"0.000000"},{"v":0.75,"d":"0.750000"},0.789422,{"v":0.006286320169297539,"d":"0.006286"},null,{"v":0,"d":"0.000000"},0.789422,{"v":0.002005674589493872,"d":"0.002006"},{"v":0,"d":"0.000000"},{"$nulls":11},{"v":9.5712435000000018E-5,"d":"0.000096"},{"v":0.749508421985,"d":"0.749508"},{"v":0.024996076150834275,"d":"0.024996"},{"v":2.3226850131466802E-6,"d":"0.000002"}]
[{"$nulls":8},{"v":117,"d":"117.000000"},{"v":99,"d":"99.000000"},0.828894,{"v":0,"d":"0.000000"},{"v":0.7,"d":"0.700000"},0.828894,{"v":0,"d":"0.000000"},{"v":0.7,"d":"0.700000"},0.828894,{"v":1.3237607286103372E-3,"d":"0.001324"},null,{"v":0,"d":"0.000000"},0.828894,{"v":4.2235094370644062E-4,"d":"0.000422"},{"v":0,"d":"0.000000"},{"$nulls":11},{"v":9.8545815000000009E-5,"d":"0.000099"},{"v":0.7895177124349999,"d":"0.789518"},{"v":0.006261306559205586,"d":"0.006261"},{"v":5.992848970630384E-7,"d":"0.000001"}]
[{"$nulls":8},{"v":118,"d":"118.000000"},{"v":100,"d":"100.000000"},0.870338,{"v":0,"d":"0.000000"},{"v":0.64,"d":"0.640000"},0.870338,{"v":0,"d":"0.000000"},{"v":0.64,"d":"0.640000"},0.870338,{"v":2.2650340322960039E-4,"d":"0.000227"},null,{"v":0,"d":"0.000000"},0.870338,{"v":7.2266780573834223E-5,"d":"0.000072"},{"v":0,"d":"0.000000"},{"$nulls":11},{"v":1.0142212500000001E-4,"d":"0.000101"},{"v":0.828992545815,"d":"0.828993"},{"v":1.3178941277273313E-3,"d":"0.001318"},{"v":1.29872950900604e-07,"d":"0.000000"}]
[{"$nulls":8},{"v":119,"d":"119.000000"},{"v":101,"d":"101.000000"},0.913855,{"v":0,"d":"0.000000"},{"v":0.59,"d":"0.590000"},0.913855,{"v":0,"d":"0.000000"},{"v":0.59,"d":"0.590000"},0.913855,{"v":2.9368884269556471E-5,"d":"0.000029"},null,{"v":0,"d":"0.000000"},0.913855,{"v":9.3702553027644978E-6,"d":"0.000009"},{"v":0,"d":"0.000000"},{"$nulls":11},{"v":1.0434136500000001E-4,"d":"0.000104"},{"v":0.8704394221249999,"d":"0.870439"},{"v":2.2536971966801204E-4,"d":"0.000225"},{"v":2.2857475879384077E-8,"d":"0.000000"}]
[{"$nulls":35},{"v":0.913959341365,"d":"0.913959"},{"v":2.9199031115714405E-5,"d":"0.000029"},{"v":3.0466667632911145E-9,"d":"0.000000"}]
[]
[{"$nulls":22},{"$f":"SUM(W184:W303)/100000*1000000","v":{"v":0,"d":"0.000000"}},{"$nulls":14},"Both genders mesothelioma"]
[{"$nulls":37},{"$f":"SUM(AL185:AL304)/100000*1000000","v":{"v":361.00932638808956,"d":"361.009326"}},{"$nulls":6},"Male mesethelioma 1977"]
[{"$nulls":44},{"$f":"SUM(AS186:AS305)/100000*1000000","v":{"v":0,"d":"0.000000"}}]
[]
[]
["Hodgson and Darnton, 2000 for Amosite, Adjusted to Libby Amphibole Data","Occupational Equivalent, Total Exposure, F/CC Years","Lung Cancer Lifetime Excess Risk, per 1,000000","Age at Onset Correction Factor","Pleural Mesothelioma Lifetime Excess Risk, per 1,000,000","Peritoneal Mesothelioma Lifetime Excess Risk, per 1,000,000","Total Excess Risk, per 1,000,000"]
[null,{"$f":"IF($N$41>0,$N$41,0)","v":{"v":1.431,"d":"1.431000"}},{"$f":"1.6*(B312^1.3)*58/100000*1000000/100*0.11/0.36","v":{"v":4.518244041125129,"d":"4.518244"}},{"$f":"($R$41-0.01)/(0.0562-0.01)","v":{"v":1.6904843656718993,"d":"1.690484"}},{"$f":"D312*0.13*(B312^0.75)*1000000/100*0.5/3.9","v":{"v":368.62911492003127,"d":"368.629115"}},{"$f":"0.0006*(B312^2.1)*1000000/100*0.5/3.9","v":{"v":1.6326755106446487,"d":"1.632676"}},{"$f":"C312+E312+F312","v":{"v":374.78003447180106,"d":"374.780034"}}]
[]
[]
[]
["NICHOLSON CALCULATIONS:",{"v":1,"d":"1.000000"}]
[]
["PARAMETERS:",{"$nulls":3},"Both genders",{"$nulls":14},"LUNG CANCER CALCULATIONS"]
["Kl",{"$f":"U41","v":{"v":0.01,"d":"0.010000"}},"AGE","AGE CORRECTED ON ONSET TIME","Death Rate per 100,000",null,null,"Number of death","Number of lung cancer deaths","Lung cancer death rate, per 100,000",{"$nulls":4},"MESOTHELIOMA CALCULATIONS",{"$nulls":3},"Asbestos RR of Lung Cancer-1)","Probability of Death Corrected for Asb.-Related Lung Cancer","Number of Survivals From 100,000 Corrected for Asbestos-Related Lung Cancer","Number of Lung Cancer Cases in Surviving Population (Original 100000)"]
["Km",{"$f":"V41","v":{"v":1E-8,"d":"0.000000"}},{"v":0,"d":"0.000000"},{"$f":"C320-$O$41","v":{"v":-18,"d":"-18.000000"}},{"v":1420,"d":"1420.000000"},null,null,{"v":46975,"d":"46975.000000"},{"v":1,"d":"1.000000"},{"$f":"E320*I320/H320","v":{"v":0.030228845130388503,"d":"0.030229"}},{"$nulls":3},{"$f":"IF($D320<10,0, IF(AND(OR($D320>10, $D320=10),$D320<10+$B$322),$B$320*$B$321*(($D320-10)^3), $B$320*$B$321*(($D320-10)^3-($D320-10-$B$322)^3)))","v":{"v":0,"d":"0.000000"}},{"$f":"E320/100000","v":{"v":0.0142,"d":"0.014200"}},{"$f":"100000","v":{"v":100000,"d":"100000.000000"}},{"$f":"P320*N320","v":{"v":0,"d":"0.000000"}},null,{"$f":"IF($D320<10,0, IF(AND(OR($D320>10, $D320=10),$D320<10+$B$322),$B$319*$B$321*(($D320-10)), $B$319*$B$321*(($D320-10)-($D320-10-$B$322))))","v":{"v":0,"d":"0.000000"}},{"$f":"E320/100000","v":{"v":0.0142,"d":"0.014200"}},{"$f":"100000","v":{"v":100000,"d":"100000.000000"}},{"$f":"U320*S320*J320/100000","v":{"v":0,"d":"0.000000"}}]
["f",{"$f":"M41*2.8","v":{"v":0.0318,"d":"0.031800"}},{"v":1,"d":"1.000000"},{"$f":"C321-$O$41","v":{"v":-17,"d":"-17.000000"}},{"v":270,"d":"270.000000"},null,null,{"$f":"3157+2188+1601+1361","v":{"v":8307,"d":"8307.000000"}},{"v":2,"d":"2.000000"},{"$f":"E321*I321/H321","v":{"v":0.06500541711809317,"d":"0.065005"}},{"$nulls":3},{"$f":"IF($D321<10,0, IF(AND(OR($D321>10, $D321=10),$D321<10+$B$322),$B$320*$B$321*(($D321-10)^3), $B$320*$B$321*(($D321-10)^3-($D321-10-$B$322)^3)))","v":{"v":0,"d":"0.000000"}},{"$f":"E321/100000","v":{"v":0.0027,"d":"0.002700"}},{"$f":"P320-P320*O320","v":{"v":98580,"d":"98580.000000"}},{"$f":"P321*4*N321","v":{"v":0,"d":"0.000000"}},null,{"$f":"IF($D321<10,0, IF(AND(OR($D321>10, $D321=10),$D321<10+$B$322),$B$319*$B$321*(($D321-10)), $B$319*$B$321*(($D321-10)-($D321-10-$B$322))))","v":{"v":0,"d":"0.000000"}},{"$f":"E321/100000","v":{"v":0.0027,"d":"0.002700"}},{"$f":"U320-U320*T320","v":{"v":98580,"d":"98580.000000"}},{"$f":"U321*S321*J321/100000","v":{"v":0,"d":"0.000000"}}]
["d",{"$f":"$H$41","v":{"v":45,"d":"45.000000"}},{"v":2,"d":"2.000000"},{"v":-16,"d":"-16.000000"},{"$nulls":9},{"v":0,"d":"0.000000"},null,null,{"$f":"P322*N322","v":{"v":0,"d":"0.000000"}},null,{"v":0,"d":"0.000000"},null,null,{"v":0,"d":"0.000000"}]
[null,null,{"v":3,"d":"3.000000"},{"v":-15,"d":"-15.000000"},{"$nulls":9},{"v":0,"d":"0.000000"},null,null,{"v":0,"d":"0.000000"},null,{"v":0,"d":"0.000000"},null,null,{"v":0,"d":"0.000000"}]
[null,null,{"v":4,"d":"4.000000"},{"v":-14,"d":"-14.000000"},{"$nulls":9},{"v":0,"d":"0.000000"},null,null,{"v":0,"d":"0.000000"},null,{"v":0,"d":"0.000000"},null,null,{"v":0,"d":"0.000000"}]
[null,null,{"v":5,"d":"5.000000"},{"v":-13,"d":"-13.000000"},{"v":170,"d":"170.000000"},null,null,{"v":5834,"d":"5834.000000"},{"v":5,"d":"5.000000"},{"$f":"E325*I325/H325","v":{"v":0.14569763455605073,"d":"0.145698"}},{"$nulls":3},{"v":0,"d":"0.000000"},{"$f":"E325/100000","v":{"v":0.0017,"d":"0.001700"}},{"$f":"P321-P321*O321","v":{"v":98313.834,"d":"98313.834000"}},{"$f":"P325*5*N325","v":{"v":0,"d":"0.000000"}},null,{"v":0,"d":"0.000000"},{"$f":"E325/100000","v":{"v":0.0017,"d":"0.001700"}},{"$f":"U321-U321*T321","v":{"v":98313.834,"d":"98313.834000"}},{"v":0,"d":"0.000000"}]
[null,null,{"v":6,"d":"6.000000"},{"v":-12,"d":"-12.000000"},{"$nulls":9},{"v":0,"d":"0.000000"},null,null,{"v":0,"d":"0.000000"},null,{"v":0,"d":"0.000000"},null,null,{"v":0,"d":"0.000000"}]
[null,null,{"v":7,"d":"7.000000"},{"v":-11,"d":"-11.000000"},{"$nulls":9},{"v":0,"d":"0.000000"},null,null,{"v":0,"d":"0.000000"},null,{"v":0,"d":"0.000000"},null,null,{"v":0,"d":"0.000000"}]
[null,null,{"v":8,"d":"8.000000"},{"v":-10,"d":"-10.000000"},{"$nulls":9},{"v":0,"d":"0.000000"},null,null,{"v":0,"d":"0.000000"},null,{"v":0,"d":"0.000000"},null,null,{"v":0,"d":"0.000000"}]
[null,null,{"v":9,"d":"9.000000"},{"v":-9,"d":"-9.000000"},{"$nulls":9},{"v":0,"d":"0.000000"},null,null,{"v":0,"d":"0.000000"},null,{"v":0,"d":"0.000000"},null,null,{"v":0,"d":"0.000000"}]
[null,null,{"v":10,"d":"10.000000"},{"v":-8,"d":"-8.000000"},{"v":180,"d":"180.000000"},null,null,{"v":6745,"d":"6745.000000"},{"v":2,"d":"2.000000"},{"$f":"E330*I330/H330","v":{"v":0.05337286879169755,"d":"0.053373"}},{"$nulls":3},{"v":0,"d":"0.000000"},{"$f":"E330/100000","v":{"v":1.8E-3,"d":"0.001800"}},{"$f":"P325-P325*O325","v":{"v":98146.7004822,"d":"98146.700482"}},{"$f":"P330*5*N330","v":{"v":0,"d":"0.000000"}},null,{"v":0,"d":"0.000000"},{"$f":"E330/100000","v":{"v":1.8E-3,"d":"0.001800"}},{"$f":"U325-U325*T325","v":{"v":98146.7004822,"d":"98146.700482"}},{"v":0,"d":"0.000000"}]
[null,null,{"v":11,"d":"11.000000"},{"v":-7,"d":"-7.000000"},{"$nulls":9},{"v":0,"d":"0.000000"},null,null,{"v":0,"d":"0.000000"},null,{"v":0,"d":"0.000000"},null,null,{"v":0,"d":"0.000000"}]
[null,null,{"v":12,"d":"12.000000"},{"v":-6,"d":"-6.000000"},{"$nulls":9},{"v":0,"d":"0.000000"},null,null,{"v":0,"d":"0.000000"},null,{"v":0,"d":"0.000000"},null,null,{"v":0,"d":"0.000000"}]
[null,null,{"v":13,"d":"13.000000"},{"v":-5,"d":"-5.000000"},{"$nulls":9},{"v":0,"d":"0.000000"},null,null,{"v":0,"d":"0.000000"},null,{"v":0,"d":"0.000000"},null,null,{"v":0,"d":"0.000000"}]
[null,null,{"v":14,"d":"14.000000"},{"v":-4,"d":"-4.000000"},{"$nulls":9},{"v":0,"d":"0.000000"},null,null,{"v":0,"d":"0.000000"},null,{"v":0,"d":"0.000000"},null,null,{"v":0,"d":"0.000000"}]
[null,null,{"v":15,"d":"15.000000"},{"v":-3,"d":"-3.000000"},{"v":510,"d":"510.000000"},null,null,{"v":21443,"d":"21443.000000"},{"v":10,"d":"10.000000"},{"$f":"E335*I335/H335","v":{"v":0.23783985449797138,"d":"0.237840"}},{"$nulls":3},{"v":0,"d":"0.000000"},{"$f":"E335/100000","v":{"v":0.0051,"d":"0.005100"}},{"$f":"P330-P330*O330","v":{"v":97970.03642133204,"d":"97970.036421"}},{"$f":"P335*5*N335","v":{"v":0,"d":"0.000000"}},null,{"v":0,"d":"0.000000"},{"$f":"E335/100000","v":{"v":0.0051,"d":"0.005100"}},{"$f":"U330-U330*T330","v":{"v":97970.03642133204,"d":"97970.036421"}},{"$f":"U335*S335*J335/100000","v":{"v":0,"d":"0.000000"}}]
[null,null,{"v":16,"d":"16.000000"},{"v":-2,"d":"-2.000000"},{"$nulls":9},{"v":0,"d":"0.000000"},null,null,{"v":0,"d":"0.000000"},null,{"v":0,"d":"0.000000"},null,null,{"v":0,"d":"0.000000"}]
[null,null,{"v":17,"d":"17.000000"},{"v":-1,"d":"-1.000000"},{"$nulls":9},{"v":0,"d":"0.000000"},null,null,{"v":0,"d":"0.000000"},null,{"v":0,"d":"0.000000"},null,null,{"v":0,"d":"0.000000"}]
[null,null,{"v":18,"d":"18.000000"},{"v":0,"d":"0.000000"},{"$nulls":9},{"v":0,"d":"0.000000"},null,null,{"v":0,"d":"0.000000"},null,{"v":0,"d":"0.000000"},null,null,{"v":0,"d":"0.000000"}]
[null,null,{"v":19,"d":"19.000000"},{"v":1,"d":"1.000000"},{"$nulls":9},{"v":0,"d":"0.000000"},null,null,{"v":0,"d":"0.000000"},null,{"v":0,"d":"0.000000"},null,null,{"v":0,"d":"0.000000"}]
[null,null,{"v":20,"d":"20.000000"},{"v":2,"d":"2.000000"},{"v":670,"d":"670.000000"},null,null,{"v":26543,"d":"26543.000000"},{"v":16,"d":"16.000000"},{"$f":"E340*I340/H340","v":{"v":0.4038729608559696,"d":"0.403873"}},{"$nulls":3},{"v":0,"d":"0.000000"},{"$f":"E340/100000","v":{"v":0.0067,"d":"0.006700"}},{"$f":"P335-P335*O335","v":{"v":97470.38923558325,"d":"97470.389236"}},{"$f":"P340*5*N340","v":{"v":0,"d":"0.000000"}},null,{"v":0,"d":"0.000000"},{"$f":"E340/100000","v":{"v":0.0067,"d":"0.006700"}},{"$f":"U335-U335*T335","v":{"v":97470.38923558325,"d":"97470.389236"}},{"v":0,"d":"0.000000"}]
[null,null,{"v":21,"d":"21.000000"},{"v":3,"d":"3.000000"},{"$nulls":9},{"v":0,"d":"0.000000"},null,null,{"v":0,"d":"0.000000"},null,{"v":0,"d":"0.000000"},null,null,{"v":0,"d":"0.000000"}]
[null,null,{"v":22,"d":"22.000000"},{"v":4,"d":"4.000000"},{"$nulls":9},{"v":0,"d":"0.000000"},null,null,{"v":0,"d":"0.000000"},null,{"v":0,"d":"0.000000"},null,null,{"v":0,"d":"0.000000"}]
[null,null,{"v":23,"d":"23.000000"},{"v":5,"d":"5.000000"},{"$nulls":9},{"v":0,"d":"0.000000"},null,null,{"v":0,"d":"0.000000"},null,{"v":0,"d":"0.000000"},null,null,{"v":0,"d":"0.000000"}]
[null,null,{"v":24,"d":"24.000000"},{"v":6,"d":"6.000000"},{"$nulls":9},{"v":0,"d":"0.000000"},null,null,{"v":0,"d":"0.000000"},null,{"v":0,"d":"0.000000"},null,null,{"v":0,"d":"0.000000"}]
[null,null,{"v":25,"d":"25.000000"},{"v":7,"d":"7.000000"},{"v":660,"d":"660.000000"},null,null,{"v":23292,"d":"23292.000000"},{"v":66,"d":"66.000000"},{"$f":"E345*I345/H345","v":{"v":1.8701700154559506,"d":"1.870170"}},{"$nulls":3},{"v":0,"d":"0.000000"},{"$f":"E345/100000","v":{"v":6.6E-3,"d":"0.006600"}},{"$f":"P340-P340*O340","v":{"v":96817.33762770484,"d":"96817.337628"}},{"$f":"P345*5*N345","v":{"v":0,"d":"0.000000"}},null,{"v":0,"d":"0.000000"},{"$f":"E345/100000","v":{"v":6.6E-3,"d":"0.006600"}},{"$f":"U340-U340*T340","v":{"v":96817.33762770484,"d":"96817.337628"}},{"v":0,"d":"0.000000"}]
[null,null,{"v":26,"d":"26.000000"},{"v":8,"d":"8.000000"},{"$nulls":9},{"v":0,"d":"0.000000"},null,null,{"v":0,"d":"0.000000"},null,{"v":0,"d":"0.000000"},null,null,{"v":0,"d":"0.000000"}]
[null,null,{"v":27,"d":"27.000000"},{"v":9,"d":"9.000000"},{"$nulls":9},{"v":0,"d":"0.000000"},null,null,{"v":0,"d":"0.000000"},null,{"v":0,"d":"0.000000"},null,null,{"v":0,"d":"0.000000"}]
[null,null,{"v":28,"d":"28.000000"},{"v":10,"d":"10.000000"},{"$nulls":9},{"v":0,"d":"0.000000"},null,null,{"v":0,"d":"0.000000"},null,{"v":0,"d":"0.000000"},null,null,{"v":0,"d":"0.000000"}]
[null,null,{"v":29,"d":"29.000000"},{"v":11,"d":"11.000000"},{"$nulls":9},{"v":3.1800000000000004E-10,"d":"0.000000"},null,null,{"v":0,"d":"0.000000"},null,{"v":3.1800000000000003E-4,"d":"0.000318"},null,null,{"v":0,"d":"0.000000"}]
[null,null,{"v":30,"d":"30.000000"},{"v":12,"d":"12.000000"},{"v":700,"d":"700.000000"},null,null,{"v":21641,"d":"21641.000000"},{"v":205,"d":"205.000000"},{"$f":"E350*I350/H350","v":{"v":6.6309320271706484,"d":"6.630932"}},{"$nulls":3},{"v":2.5440000000000003E-9,"d":"0.000000"},{"$f":"E350/100000","v":{"v":0.007,"d":"0.007000"}},{"$f":"P345-P345*O345","v":{"v":96178.34319936199,"d":"96178.343199"}},{"$f":"P350*5*N350","v":{"v":1.2233885254958846E-3,"d":"0.001223"}},null,{"v":6.3600000000000006E-4,"d":"0.000636"},{"$f":"E350/100000","v":{"v":0.007,"d":"0.007000"}},{"$f":"U345-U345*T345","v":{"v":96178.34319936199,"d":"96178.343199"}},{"v":0.004056103077691869,"d":"0.004056"}]
[null,null,{"v":31,"d":"31.000000"},{"v":13,"d":"13.000000"},{"$nulls":9},{"v":8.5860000000000016E-9,"d":"0.000000"},null,null,{"v":0,"d":"0.000000"},null,{"v":9.540000000000001E-4,"d":"0.000954"},null,null,{"v":0,"d":"0.000000"}]
[null,null,{"v":32,"d":"32.000000"},{"v":14,"d":"14.000000"},{"$nulls":9},{"v":2.0352000000000003E-8,"d":"0.000000"},null,null,{"v":0,"d":"0.000000"},null,{"v":1.2720000000000001E-3,"d":"0.001272"},null,null,{"v":0,"d":"0.000000"}]
[null,null,{"v":33,"d":"33.000000"},{"v":15,"d":"15.000000"},{"$nulls":9},{"v":3.975e-08,"d":"0.000000"},null,null,{"v":0,"d":"0.000000"},null,{"v":1.5900000000000003E-3,"d":"0.001590"},null,null,{"v":0,"d":"0.000000"}]
[null,null,{"v":34,"d":"34.000000"},{"v":16,"d":"16.000000"},{"$nulls":9},{"v":6.8688000000000013E-8,"d":"0.000000"},null,null,{"v":0,"d":"0.000000"},null,{"v":1.9080000000000002E-3,"d":"0.001908"},null,null,{"v":0,"d":"0.000000"}]
[null,null,{"v":35,"d":"35.000000"},{"v":17,"d":"17.000000"},{"v":970,"d":"970.000000"},null,null,{"v":24036,"d":"24036.000000"},{"v":648,"d":"648.000000"},{"$f":"E355*I355/H355","v":{"v":26.15077383924114,"d":"26.150774"}},{"$nulls":3},{"v":1.0907400000000001E-7,"d":"0.000000"},{"$f":"E355/100000","v":{"v":0.0097,"d":"0.009700"}},{"$f":"P350-P350*O350","v":{"v":95505.09479696646,"d":"95505.094797"}},{"$f":"P355*5*N355","v":{"v":0.0520856135494216,"d":"0.052086"}},null,0.002226,{"$f":"E355/100000","v":{"v":0.0097,"d":"0.009700"}},{"$f":"U350-U350*T350","v":{"v":95505.09479696646,"d":"95505.094797"}},{"v":0.05559506531465462,"d":"0.055595"}]
[null,null,{"v":36,"d":"36.000000"},{"v":18,"d":"18.000000"},{"$nulls":9},{"v":1.6281600000000002E-7,"d":"0.000000"},null,null,{"v":0,"d":"0.000000"},null,{"v":2.5440000000000003E-3,"d":"0.002544"},null,null,{"v":0,"d":"0.000000"}]
[null,null,{"v":37,"d":"37.000000"},{"v":19,"d":"19.000000"},{"$nulls":9},{"v":2.3182200000000002E-7,"d":"0.000000"},null,null,{"v":0,"d":"0.000000"},null,{"v":2.8620000000000004E-3,"d":"0.002862"},null,null,{"v":0,"d":"0.000000"}]
[null,null,{"v":38,"d":"38.000000"},{"v":20,"d":"20.000000"},{"$nulls":9},{"v":3.18e-07,"d":"0.000000"},null,null,{"v":0,"d":"0.000000"},null,{"v":3.1800000000000005E-3,"d":"0.003180"},null,null,{"v":0,"d":"0.000000"}]
[null,null,{"v":39,"d":"39.000000"},{"v":21,"d":"21.000000"},{"$nulls":9},{"v":4.2325800000000004E-7,"d":"0.000000"},null,null,{"v":0,"d":"0.000000"},null,{"v":3.4980000000000002E-3,"d":"0.003498"},null,null,{"v":0,"d":"0.000000"}]
[null,null,{"v":40,"d":"40.000000"},{"v":22,"d":"22.000000"},{"v":1510,"d":"1510.000000"},null,null,{"v":34073,"d":"34073.000000"},{"v":1745,"d":"1745.000000"},{"$f":"E360*I360/H360","v":{"v":77.3324920024653,"d":"77.332492"}},{"$nulls":3},{"v":5.495040000000001E-7,"d":"0.000001"},{"$f":"E360/100000","v":{"v":0.0151,"d":"0.015100"}},{"$f":"P355-P355*O355","v":{"v":94578.69537743588,"d":"94578.695377"}},{"$f":"P360*5*N360","v":{"v":0.25985685712341267,"d":"0.259857"}},null,{"v":3.8160000000000004E-3,"d":"0.003816"},{"$f":"E360/100000","v":{"v":0.0151,"d":"0.015100"}},{"$f":"U355-U355*T355","v":{"v":94578.69537743588,"d":"94578.695377"}},{"v":0.27910247674002886,"d":"0.279102"}]
[null,null,{"v":41,"d":"41.000000"},{"v":23,"d":"23.000000"},{"$nulls":9},{"v":6.9864600000000007E-7,"d":"0.000001"},null,null,{"v":0,"d":"0.000000"},null,{"v":4.1340000000000005E-3,"d":"0.004134"},null,null,{"v":0,"d":"0.000000"}]
[null,null,{"v":42,"d":"42.000000"},{"v":24,"d":"24.000000"},{"$nulls":9},{"v":8.7259200000000012E-7,"d":"0.000001"},null,null,{"v":0,"d":"0.000000"},null,0.004452,null,null,{"v":0,"d":"0.000000"}]
[null,null,{"v":43,"d":"43.000000"},{"v":25,"d":"25.000000"},{"$nulls":9},{"v":1.07325e-06,"d":"0.000001"},null,null,{"v":0,"d":"0.000000"},null,{"v":0.004770000000000001,"d":"0.004770"},null,null,{"v":0,"d":"0.000000"}]
[null,null,{"v":44,"d":"44.000000"},{"v":26,"d":"26.000000"},{"$nulls":9},{"v":1.3025280000000002E-6,"d":"0.000001"},null,null,{"v":0,"d":"0.000000"},null,{"v":5.0880000000000005E-3,"d":"0.005088"},null,null,{"v":0,"d":"0.000000"}]
[null,null,{"v":45,"d":"45.000000"},{"v":27,"d":"27.000000"},{"v":2390,"d":"2390.000000"},null,null,{"v":55483,"d":"55483.000000"},{"v":4196,"d":"4196.000000"},{"$f":"E365*I365/H365","v":{"v":180.74797685777625,"d":"180.747977"}},{"$nulls":3},{"v":1.5623340000000002E-6,"d":"0.000002"},{"$f":"E365/100000","v":{"v":0.0239,"d":"0.023900"}},{"$f":"P360-P360*O360","v":{"v":93150.5570772366,"d":"93150.557077"}},{"$f":"P365*5*N365","v":{"v":0.7276614122035369,"d":"0.727661"}},null,0.005406,{"$f":"E365/100000","v":{"v":0.0239,"d":"0.023900"}},{"$f":"U360-U360*T360","v":{"v":93150.5570772366,"d":"93150.557077"}},{"v":0.9101960421679008,"d":"0.910196"}]
[null,null,{"v":46,"d":"46.000000"},{"v":28,"d":"28.000000"},{"$nulls":9},{"v":1.8545760000000002E-6,"d":"0.000002"},null,null,{"v":0,"d":"0.000000"},null,{"v":0.005724000000000001,"d":"0.005724"},null,null,{"v":0,"d":"0.000000"}]
[null,null,{"v":47,"d":"47.000000"},{"v":29,"d":"29.000000"},{"$nulls":9},{"v":2.181162e-06,"d":"0.000002"},null,null,{"v":0,"d":"0.000000"},null,{"v":6.0420000000000005E-3,"d":"0.006042"},null,null,{"v":0,"d":"0.000000"}]
[null,null,{"v":48,"d":"48.000000"},{"v":30,"d":"30.000000"},{"$nulls":9},{"v":2.544e-06,"d":"0.000003"},null,null,{"v":0,"d":"0.000000"},null,{"v":0.006360000000000001,"d":"0.006360"},null,null,{"v":0,"d":"0.000000"}]
[null,null,{"v":49,"d":"49.000000"},{"v":31,"d":"31.000000"},{"$nulls":9},{"v":2.9449980000000005E-6,"d":"0.000003"},null,null,{"v":0,"d":"0.000000"},null,{"v":0.006678000000000001,"d":"0.006678"},null,null,{"v":0,"d":"0.000000"}]
[null,null,{"v":50,"d":"50.000000"},{"v":32,"d":"32.000000"},{"v":3720,"d":"3720.000000"},null,null,{"v":89640,"d":"89640.000000"},{"v":8049,"d":"8049.000000"},{"$f":"E370*I370/H370","v":{"v":334.0281124497992,"d":"334.028112"}},{"$nulls":3},{"v":3.3860640000000003E-6,"d":"0.000003"},{"$f":"E370/100000","v":{"v":0.0372,"d":"0.037200"}},{"$f":"P365-P365*O365","v":{"v":90924.25876309065,"d":"90924.258763"}},{"$f":"P370*5*N370","v":{"v":1.539376796621929,"d":"1.539377"}},null,{"v":6.9960000000000005E-3,"d":"0.006996"},{"$f":"E370/100000","v":{"v":0.0372,"d":"0.037200"}},{"$f":"U365-U365*T365","v":{"v":90924.25876309065,"d":"90924.258763"}},{"v":2.1247732467960385,"d":"2.124773"}]
[null,null,{"v":51,"d":"51.000000"},{"v":33,"d":"33.000000"},{"$nulls":9},{"v":3.8691060000000005E-6,"d":"0.000004"},null,null,{"v":0,"d":"0.000000"},null,{"v":0.007314000000000001,"d":"0.007314"},null,null,{"v":0,"d":"0.000000"}]
[null,null,{"v":52,"d":"52.000000"},{"v":34,"d":"34.000000"},{"$nulls":9},{"v":4.3960320000000008E-6,"d":"0.000004"},null,null,{"v":0,"d":"0.000000"},null,{"v":0.007632000000000001,"d":"0.007632"},null,null,{"v":0,"d":"0.000000"}]
[null,null,{"v":53,"d":"53.000000"},{"v":35,"d":"35.000000"},{"$nulls":9},{"v":4.9687500000000005E-6,"d":"0.000005"},null,null,{"v":0,"d":"0.000000"},null,{"v":0.00795,"d":"0.007950"},null,null,{"v":0,"d":"0.000000"}]
[null,null,{"v":54,"d":"54.000000"},{"v":36,"d":"36.000000"},{"$nulls":9},{"v":5.5891680000000006E-6,"d":"0.000006"},null,null,{"v":0,"d":"0.000000"},null,{"v":8.268000000000001E-3,"d":"0.008268"},null,null,{"v":0,"d":"0.000000"}]
[null,null,{"v":55,"d":"55.000000"},{"v":37,"d":"37.000000"},{"v":5550,"d":"5550.000000"},null,null,{"v":125574,"d":"125574.000000"},{"v":11599,"d":"11599.000000"},{"$f":"E375*I375/H375","v":{"v":512.6415500023891,"d":"512.641550"}},{"$nulls":3},{"v":6.259194e-06,"d":"0.000006"},{"$f":"E375/100000","v":{"v":0.0555,"d":"0.055500"}},{"$f":"P370-P370*O370","v":{"v":87541.87633710368,"d":"87541.876337"}},{"$f":"P375*5*N375","v":{"v":2.7397079355897067,"d":"2.739708"}},null,{"v":0.008586000000000002,"d":"0.008586"},{"$f":"E375/100000","v":{"v":0.0555,"d":"0.055500"}},{"$f":"U370-U370*T370","v":{"v":87541.87633710368,"d":"87541.876337"}},{"v":3.8531910086544663,"d":"3.853191"}]
[null,null,{"v":56,"d":"56.000000"},{"v":38,"d":"38.000000"},{"$nulls":9},{"v":6.9807360000000009E-6,"d":"0.000007"},null,null,{"v":0,"d":"0.000000"},null,0.008904,null,null,{"v":0,"d":"0.000000"}]
[null,null,{"v":57,"d":"57.000000"},{"v":39,"d":"39.000000"},{"$nulls":9},{"v":7.7557020000000015E-6,"d":"0.000008"},null,null,{"v":0,"d":"0.000000"},null,{"v":9.222000000000001E-3,"d":"0.009222"},null,null,{"v":0,"d":"0.000000"}]
[null,null,{"v":58,"d":"58.000000"},{"v":40,"d":"40.000000"},{"$nulls":9},{"v":8.586e-06,"d":"0.000009"},null,null,{"v":0,"d":"0.000000"},null,{"v":0.009540000000000002,"d":"0.009540"},null,null,{"v":0,"d":"0.000000"}]
[null,null,{"v":59,"d":"59.000000"},{"v":41,"d":"41.000000"},{"$nulls":9},{"v":9.473538e-06,"d":"0.000009"},null,null,{"v":0,"d":"0.000000"},null,0.009858,null,null,{"v":0,"d":"0.000000"}]
[null,null,{"v":60,"d":"60.000000"},{"v":42,"d":"42.000000"},{"v":8580,"d":"8580.000000"},null,null,{"v":167098,"d":"167098.000000"},{"v":15002,"d":"15002.000000"},{"$f":"E380*I380/H380","v":{"v":770.3093992746772,"d":"770.309399"}},{"$nulls":3},{"v":1.0420224000000001E-5,"d":"0.000010"},{"$f":"E380/100000","v":{"v":0.0858,"d":"0.085800"}},{"$f":"P375-P375*O375","v":{"v":82683.30220039442,"d":"82683.302200"}},{"$f":"P380*5*N380","v":{"v":4.307892649939014,"d":"4.307893"}},null,{"v":0.010176000000000001,"d":"0.010176"},{"$f":"E380/100000","v":{"v":0.0858,"d":"0.085800"}},{"$f":"U375-U375*T375","v":{"v":82683.30220039442,"d":"82683.302200"}},{"v":6.481269920535779,"d":"6.481270"}]
[null,null,{"v":61,"d":"61.000000"},{"v":43,"d":"43.000000"},{"$nulls":9},{"v":1.1427966000000002E-5,"d":"0.000011"},null,null,{"v":0,"d":"0.000000"},null,{"v":0.010494000000000002,"d":"0.010494"},null,null,{"v":0,"d":"0.000000"}]
[null,null,{"v":62,"d":"62.000000"},{"v":44,"d":"44.000000"},{"$nulls":9},{"v":1.2498672000000001E-5,"d":"0.000012"},null,null,{"v":0,"d":"0.000000"},null,0.010812,null,null,{"v":0,"d":"0.000000"}]
[null,null,{"v":63,"d":"63.000000"},{"v":45,"d":"45.000000"},{"$nulls":9},{"v":1.3634250000000002E-5,"d":"0.000014"},null,null,{"v":0,"d":"0.000000"},null,{"v":0.011130000000000001,"d":"0.011130"},null,null,{"v":0,"d":"0.000000"}]
[null,null,{"v":64,"d":"64.000000"},{"v":46,"d":"46.000000"},{"$nulls":9},{"v":1.4836608000000001E-5,"d":"0.000015"},null,null,{"v":0,"d":"0.000000"},null,{"v":0.011448000000000002,"d":"0.011448"},null,null,{"v":0,"d":"0.000000"}]
[null,null,{"v":65,"d":"65.000000"},{"$f":"C385-$O$41","v":{"v":47,"d":"47.000000"}},{"v":11730,"d":"11730.000000"},null,null,{"v":209496,"d":"209496.000000"},{"v":16398,"d":"16398.000000"},{"$f":"E385*I385/H385","v":{"v":918.1489861381601,"d":"918.148986"}},{"$nulls":3},{"$f":"IF($D385<10,0, IF(AND(OR($D385>10, $D385=10),$D385<10+$B$322),$B$320*$B$321*(($D385-10)^3), $B$320*$B$321*(($D385-10)^3-($D385-10-$B$322)^3)))","v":{"v":1.6107654000000002E-5,"d":"0.000016"}},{"$f":"E385/100000","v":{"v":0.1173,"d":"0.117300"}},{"$f":"P380-P380*O380","v":{"v":75589.07487160058,"d":"75589.074872"}},{"$f":"P385*5*N385","v":{"v":6.087813321059184,"d":"6.087813"}},null,{"$f":"IF($D385<10,0, IF(AND(OR($D385>10, $D385=10),$D385<10+$B$322),$B$319*$B$321*(($D385-10)), $B$319*$B$321*(($D385-10)-($D385-10-$B$322))))","v":0.011766},{"$f":"E385/100000","v":{"v":0.1173,"d":"0.117300"}},{"$f":"U380-U380*T380","v":{"v":75589.07487160058,"d":"75589.074872"}},{"v":8.165843138829619,"d":"8.165843"}]
[null,null,{"v":66,"d":"66.000000"},{"v":48,"d":"48.000000"},{"$nulls":9},{"v":1.7449296e-05,"d":"0.000017"},null,null,{"$f":"P386*N386","v":{"v":0,"d":"0.000000"}},null,{"v":0.012084000000000001,"d":"0.012084"},null,null,{"$f":"U386*S386*J386/100000","v":{"v":0,"d":"0.000000"}}]
[null,null,{"v":67,"d":"67.000000"},{"v":49,"d":"49.000000"},{"$nulls":9},{"v":1.8863442e-05,"d":"0.000019"},null,null,{"v":0,"d":"0.000000"},null,{"v":0.012402000000000002,"d":"0.012402"},null,null,{"v":0,"d":"0.000000"}]
[null,null,{"v":68,"d":"68.000000"},{"v":50,"d":"50.000000"},{"$nulls":9},{"v":2.0352e-05,"d":"0.000020"},null,null,{"v":0,"d":"0.000000"},null,{"v":0.012720000000000002,"d":"0.012720"},null,null,{"v":0,"d":"0.000000"}]
[null,null,{"v":69,"d":"69.000000"},{"v":51,"d":"51.000000"},{"$nulls":9},{"v":2.1916878000000003E-5,"d":"0.000022"},null,null,{"v":0,"d":"0.000000"},null,{"v":0.013038000000000001,"d":"0.013038"},null,null,{"v":0,"d":"0.000000"}]
[null,null,{"v":70,"d":"70.000000"},{"v":52,"d":"52.000000"},{"v":17640,"d":"17640.000000"},null,null,{"v":236099,"d":"236099.000000"},{"v":14158,"d":"14158.000000"},{"$f":"E390*I390/H390","v":{"v":1057.806767500074,"d":"1057.806768"}},{"$nulls":3},{"v":2.3559984000000004E-5,"d":"0.000024"},{"$f":"E390/100000","v":{"v":0.1764,"d":"0.176400"}},{"$f":"P385-P385*O385","v":{"v":66722.47638916183,"d":"66722.476389"}},{"$f":"P390*5*N390","v":{"v":7.8599023808451545,"d":"7.859902"}},null,{"v":0.013356000000000002,"d":"0.013356"},{"$f":"E390/100000","v":{"v":0.1764,"d":"0.176400"}},{"$f":"U385-U385*T385","v":{"v":66722.47638916183,"d":"66722.476389"}},{"v":9.426596292911507,"d":"9.426596"}]
[null,null,{"v":71,"d":"71.000000"},{"v":53,"d":"53.000000"},{"$nulls":9},{"v":2.5283226000000003E-5,"d":"0.000025"},null,null,{"v":0,"d":"0.000000"},null,{"v":0.013674000000000002,"d":"0.013674"},null,null,{"v":0,"d":"0.000000"}]
[null,null,{"v":72,"d":"72.000000"},{"v":54,"d":"54.000000"},{"$nulls":9},{"v":2.7088512000000003E-5,"d":"0.000027"},null,null,{"v":0,"d":"0.000000"},null,{"v":0.013992000000000001,"d":"0.013992"},null,null,{"v":0,"d":"0.000000"}]
[null,null,{"v":73,"d":"73.000000"},{"v":55,"d":"55.000000"},{"$nulls":9},{"v":2.8977750000000002E-5,"d":"0.000029"},null,null,{"v":0,"d":"0.000000"},null,{"v":0.014310000000000002,"d":"0.014310"},null,null,{"v":0,"d":"0.000000"}]
[null,null,{"v":74,"d":"74.000000"},{"v":56,"d":"56.000000"},{"$nulls":9},{"v":3.095253e-05,"d":"0.000031"},null,null,{"v":0,"d":"0.000000"},null,{"v":0.014310000000000002,"d":"0.014310"},null,null,{"v":0,"d":"0.000000"}]
[null,null,{"v":75,"d":"75.000000"},{"v":57,"d":"57.000000"},{"v":26470,"d":"26470.000000"},null,null,{"v":247048,"d":"247048.000000"},{"v":9914,"d":"9914.000000"},{"$f":"E395*I395/H395","v":{"v":1062.2372170590331,"d":"1062.237217"}},{"$nulls":3},{"v":3.301317e-05,"d":"0.000033"},{"$f":"E395/100000","v":{"v":0.2647,"d":"0.264700"}},{"$f":"P390-P390*O390","v":{"v":54952.63155411369,"d":"54952.631554"}},{"$f":"P395*5*N395","v":{"v":9.070802837216597,"d":"9.070803"}},null,{"v":0.014310000000000002,"d":"0.014310"},{"$f":"E395/100000","v":{"v":0.2647,"d":"0.264700"}},{"$f":"U390-U390*T390","v":{"v":54952.63155411369,"d":"54952.631554"}},{"v":8.353137721973248,"d":"8.353138"}]
[null,null,{"v":76,"d":"76.000000"},{"v":58,"d":"58.000000"},{"$nulls":9},{"v":3.5159670000000006E-5,"d":"0.000035"},null,null,{"v":0,"d":"0.000000"},null,{"v":0.014310000000000002,"d":"0.014310"},null,null,{"v":0,"d":"0.000000"}]
[null,null,{"v":77,"d":"77.000000"},{"v":59,"d":"59.000000"},{"$nulls":9},{"v":3.7392030000000006E-5,"d":"0.000037"},null,null,{"v":0,"d":"0.000000"},null,{"v":0.014310000000000002,"d":"0.014310"},null,null,{"v":0,"d":"0.000000"}]
[null,null,{"v":78,"d":"78.000000"},{"v":60,"d":"60.000000"},{"$nulls":9},{"v":3.971025e-05,"d":"0.000040"},null,null,{"v":0,"d":"0.000000"},null,{"v":0.014310000000000002,"d":"0.014310"},null,null,{"v":0,"d":"0.000000"}]
[null,null,{"v":79,"d":"79.000000"},{"v":61,"d":"61.000000"},{"$nulls":9},{"v":4.2114330000000006E-5,"d":"0.000042"},null,null,{"v":0,"d":"0.000000"},null,{"v":0.014310000000000002,"d":"0.014310"},null,null,{"v":0,"d":"0.000000"}]
[null,null,{"v":80,"d":"80.000000"},{"v":62,"d":"62.000000"},{"v":36120,"d":"36120.000000"},null,null,{"v":243550,"d":"243550.000000"},{"v":5489,"d":"5489.000000"},{"$f":"E400*I400/H400","v":{"v":814.0532950112913,"d":"814.053295"}},{"$nulls":3},{"v":4.4604270000000007E-5,"d":"0.000045"},{"$f":"E400/100000","v":{"v":0.3612,"d":"0.361200"}},{"$f":"P395-P395*O395","v":{"v":40406.6699817398,"d":"40406.669982"}},{"$f":"P400*5*N400","v":{"v":9.011550088332086,"d":"9.011550"}},null,{"v":0.014310000000000002,"d":"0.014310"},{"$f":"E400/100000","v":{"v":0.3612,"d":"0.361200"}},{"$f":"U395-U395*T395","v":{"v":40406.6699817398,"d":"40406.669982"}},{"$f":"U400*S400*J400/100000","v":{"v":4.707014464270791,"d":"4.707014"}}]
[null,null,{"v":81,"d":"81.000000"},{"v":63,"d":"63.000000"},{"$nulls":9},{"v":4.7180070000000004E-5,"d":"0.000047"},null,null,{"v":0,"d":"0.000000"},null,{"v":0.014310000000000002,"d":"0.014310"},null,null,{"v":0,"d":"0.000000"}]
[null,null,{"v":82,"d":"82.000000"},{"v":64,"d":"64.000000"},{"$nulls":9},{"v":4.984173e-05,"d":"0.000050"},null,null,{"v":0,"d":"0.000000"},null,{"v":0.014310000000000002,"d":"0.014310"},null,null,{"v":0,"d":"0.000000"}]
[null,null,{"v":83,"d":"83.000000"},{"v":65,"d":"65.000000"},{"$nulls":9},{"v":5.2589250000000005E-5,"d":"0.000053"},null,null,{"v":0,"d":"0.000000"},null,{"v":0.014310000000000002,"d":"0.014310"},null,null,{"v":0,"d":"0.000000"}]
[null,null,{"v":84,"d":"84.000000"},{"v":66,"d":"66.000000"},{"$nulls":9},{"v":5.5422630000000009E-5,"d":"0.000055"},null,null,{"v":0,"d":"0.000000"},null,{"v":0.014310000000000002,"d":"0.014310"},null,null,{"v":0,"d":"0.000000"}]
[null,null,{"v":85,"d":"85.000000"},{"v":67,"d":"67.000000"},{"v":100000,"d":"100000.000000"},null,null,{"$f":"183971+91417+26134+4629","v":{"v":306151,"d":"306151.000000"}},{"$f":"2281+613+115+9","v":{"v":3018,"d":"3018.000000"}},{"$f":"E405*I405/H405","v":{"v":985.7880588337127,"d":"985.788059"}},{"$nulls":3},{"v":5.8341870000000009E-5,"d":"0.000058"},{"$f":"E405/100000","v":{"v":1,"d":"1.000000"}},{"$f":"P400-P400*O400","v":{"v":25811.78078433538,"d":"25811.780784"}},{"$f":"P405*6.5*N405","v":{"v":9.788399133423255,"d":"9.788399"}},null,{"v":0.014310000000000002,"d":"0.014310"},{"$f":"E405/100000","v":{"v":1,"d":"1.000000"}},{"$f":"U400-U400*T400","v":{"v":25811.78078433538,"d":"25811.780784"}},{"$f":"U405*S405*J405/100000*3.5","v":{"v":12.744100840698918,"d":"12.744101"}}]
[]
[]
[{"$nulls":16},{"$f":"SUM(Q320:Q405)/100000*1000000","v":{"v":514.4627241442879,"d":"514.462724"}},{"$nulls":4},{"$f":"SUM(V320:V405)/100000*1000000","v":{"v":571.0487632197064,"d":"571.048763"}}]
{"$rows_empty":33}
["NICHOLSON CALCULATIONS:",{"v":2,"d":"2.000000"}]
[]
["PARAMETERS:",{"$nulls":3},"Both genders",{"$nulls":14},"LUNG CANCER CALCULATIONS"]
["Kl",{"$f":"B319","v":{"v":0.01,"d":"0.010000"}},"AGE","AGE CORRECTED ON ONSET TIME","Death Rate per 100,000",null,null,"Number of death","Number of lung cancer deaths","Lung cancer death rate, per 100,000",{"$nulls":4},"MESOTHELIOMA CALCULATIONS",{"$nulls":3},"Asbestos RR of Lung Cancer-1)","Probability of Death Corrected for Asb.-Related Lung Cancer","Number of Survivals From 100,000 Corrected for Asbestos-Related Lung Cancer","Number of Lung Cancer Cases in Surviving Population (Original 100000)"]
["Km",{"$f":"B320","v":{"v":1E-8,"d":"0.000000"}},{"v":0,"d":"0.000000"},{"$f":"C446-$O$41","v":{"v":-18,"d":"-18.000000"}},{"v":637.2,"d":"637.200000"},null,null,{"v":26412,"d":"26412.000000"},{"v":4,"d":"4.000000"},{"$f":"E446*I446/H446","v":{"v":0.09650159018627898,"d":"0.096502"}},{"v":0.030228845130388503,"d":"0.030229"},null,null,{"$f":"IF($D446<10,0, IF(AND(OR($D446>10, $D446=10),$D446<10+$B$459),$B$457*$B$458*(($D446-10)^3), $B$457*$B$458*(($D446-10)^3-($D446-10-$B$459)^3)))","v":{"v":0,"d":"0.000000"}},{"$f":"E446/100000","v":0.006372},{"$f":"100000","v":{"v":100000,"d":"100000.000000"}},{"$f":"P446*N446","v":{"v":0,"d":"0.000000"}},null,{"$f":"IF($D446<10,0, IF(AND(OR($D446>10, $D446=10),$D446<10+$B$459),$B$456*$B$458*(($D446-10)), $B$456*$B$458*(($D446-10)-($D446-10-$B$459))))","v":{"v":0,"d":"0.000000"}},{"$f":"E446/100000","v":0.006372},{"$f":"100000","v":{"v":100000,"d":"100000.000000"}},{"$f":"U446*S446*J446/100000","v":{"v":0,"d":"0.000000"}}]
["f",{"$f":"B321","v":{"v":0.0318,"d":"0.031800"}},{"v":1,"d":"1.000000"},{"$f":"C447-$O$41","v":{"v":-17,"d":"-17.000000"}},{"$f":"(F447+F448+F449+F450)*100000","v":{"v":110.39999999999999,"d":"110.400000"}},0.000429,null,{"v":4450,"d":"4450.000000"},{"v":3,"d":"3.000000"},{"$f":"E447*I447/H447","v":{"v":0.07442696629213483,"d":"0.074427"}},{"v":0.06500541711809317,"d":"0.065005"},null,null,{"$f":"IF($D447<10,0, IF(AND(OR($D447>10, $D447=10),$D447<10+$B$459),$B$457*$B$458*(($D447-10)^3), $B$457*$B$458*(($D447-10)^3-($D447-10-$B$459)^3)))","v":{"v":0,"d":"0.000000"}},{"$f":"E447/100000","v":0.001104},{"$f":"P446-P446*O446","v":{"v":99362.8,"d":"99362.800000"}},{"$f":"P447*4*N447","v":{"v":0,"d":"0.000000"}},null,{"$f":"IF($D447<10,0, IF(AND(OR($D447>10, $D447=10),$D447<10+$B$459),$B$456*$B$458*(($D447-10)), $B$456*$B$458*(($D447-10)-($D447-10-$B$459))))","v":{"v":0,"d":"0.000000"}},{"$f":"E447/100000","v":0.001104},{"$f":"U446-U446*T446","v":{"v":99362.8,"d":"99362.800000"}},{"$f":"U447*S447*J447/100000","v":{"v":0,"d":"0.000000"}}]
["d",{"$f":"B322","v":{"v":45,"d":"45.000000"}},{"v":2,"d":"2.000000"},{"v":-16,"d":"-16.000000"},null,0.000288,{"$nulls":7},{"v":0,"d":"0.000000"},null,null,{"$f":"P448*N448","v":{"v":0,"d":"0.000000"}},null,{"v":0,"d":"0.000000"},null,null,{"v":0,"d":"0.000000"}]
[null,null,{"v":3,"d":"3.000000"},{"v":-15,"d":"-15.000000"},null,0.000219,{"$nulls":7},{"v":0,"d":"0.000000"},null,null,{"v":0,"d":"0.000000"},null,{"v":0,"d":"0.000000"},null,null,{"v":0,"d":"0.000000"}]
[null,null,{"v":4,"d":"4.000000"},{"v":-14,"d":"-14.000000"},null,0.000168,{"$nulls":7},{"v":0,"d":"0.000000"},null,null,{"v":0,"d":"0.000000"},null,{"v":0,"d":"0.000000"},null,null,{"v":0,"d":"0.000000"}]
[null,null,{"v":5,"d":"5.000000"},{"v":-13,"d":"-13.000000"},{"$f":"(F451+F452+F453+F454+F455)*100000","v":{"v":62.5,"d":"62.500000"}},{"v":1.56E-4,"d":"0.000156"},null,{"$f":"5651/2","v":{"v":2825.5,"d":"2825.500000"}},{"$f":"5/2","v":{"v":2.5,"d":"2.500000"}},{"$f":"E451*I451/H451","v":{"v":0.055299946912050965,"d":"0.055300"}},{"v":0.14569763455605073,"d":"0.145698"},null,null,{"v":0,"d":"0.000000"},{"$f":"E451/100000","v":0.000625},{"$f":"P447-P447*O447","v":{"v":99253.1034688,"d":"99253.103469"}},{"$f":"P451*5*N451","v":{"v":0,"d":"0.000000"}},null,{"v":0,"d":"0.000000"},{"$f":"E451/100000","v":0.000625},{"$f":"U447-U447*T447","v":{"v":99253.1034688,"d":"99253.103469"}},{"v":0,"d":"0.000000"}]
[null,null,{"v":6,"d":"6.000000"},{"v":-12,"d":"-12.000000"},null,0.000139,{"$nulls":7},{"v":0,"d":"0.000000"},null,null,{"$f":"P452*N452","v":{"v":0,"d":"0.000000"}},null,{"v":0,"d":"0.000000"},null,null,{"v":0,"d":"0.000000"}]
[null,null,{"v":7,"d":"7.000000"},{"v":-11,"d":"-11.000000"},null,{"v":1.25E-4,"d":"0.000125"},{"$nulls":7},{"v":0,"d":"0.000000"},null,null,{"v":0,"d":"0.000000"},null,{"v":0,"d":"0.000000"},null,null,{"v":0,"d":"0.000000"}]
[null,null,{"v":8,"d":"8.000000"},{"v":-10,"d":"-10.000000"},null,{"v":1.1E-4,"d":"0.000110"},{"$nulls":7},{"v":0,"d":"0.000000"},null,null,{"v":0,"d":"0.000000"},null,{"v":0,"d":"0.000000"},null,null,{"v":0,"d":"0.000000"}]
[null,null,{"v":9,"d":"9.000000"},{"v":-9,"d":"-9.000000"},null,{"v":9.5e-05,"d":"0.000095"},{"$nulls":7},{"v":0,"d":"0.000000"},null,null,{"v":0,"d":"0.000000"},null,{"v":0,"d":"0.000000"},null,null,{"v":0,"d":"0.000000"}]
[null,{"$f":"B445","v":{"v":0.01,"d":"0.010000"}},{"v":10,"d":"10.000000"},{"v":-8,"d":"-8.000000"},{"$f":"(F456+F457+F458+F459+F460)*100000","v":{"v":75.1,"d":"75.100000"}},{"v":8.5e-05,"d":"0.000085"},null,{"$f":"5651/2","v":{"v":2825.5,"d":"2825.500000"}},{"$f":"5/2","v":{"v":2.5,"d":"2.500000"}},{"$f":"E456*I456/H456","v":{"v":0.06644841620952044,"d":"0.066448"}},{"v":0.05337286879169755,"d":"0.053373"},null,null,{"v":0,"d":"0.000000"},{"$f":"E456/100000","v":{"v":7.5099999999999993E-4,"d":"0.000751"}},{"$f":"P451-P451*O451","v":{"v":99191.070279132,"d":"99191.070279"}},{"$f":"P456*5*N456","v":{"v":0,"d":"0.000000"}},null,{"v":0,"d":"0.000000"},{"$f":"E456/100000","v":{"v":7.5099999999999993E-4,"d":"0.000751"}},{"$f":"U451-U451*T451","v":{"v":99191.070279132,"d":"99191.070279"}},{"v":0,"d":"0.000000"}]
[null,{"$f":"B446","v":{"v":1E-8,"d":"0.000000"}},{"v":11,"d":"11.000000"},{"v":-7,"d":"-7.000000"},null,{"v":9.1e-05,"d":"0.000091"},{"$nulls":7},{"v":0,"d":"0.000000"},null,null,{"$f":"P457*N457","v":{"v":0,"d":"0.000000"}},null,{"v":0,"d":"0.000000"},null,null,{"v":0,"d":"0.000000"}]
[null,{"v":0.0318,"d":"0.031800"},{"v":12,"d":"12.000000"},{"v":-6,"d":"-6.000000"},null,{"v":1.22E-4,"d":"0.000122"},{"$nulls":7},{"v":0,"d":"0.000000"},null,null,{"v":0,"d":"0.000000"},null,{"v":0,"d":"0.000000"},null,null,{"v":0,"d":"0.000000"}]
[null,{"v":45,"d":"45.000000"},{"v":13,"d":"13.000000"},{"v":-5,"d":"-5.000000"},null,{"v":1.85E-4,"d":"0.000185"},{"$nulls":7},{"v":0,"d":"0.000000"},null,null,{"v":0,"d":"0.000000"},null,{"v":0,"d":"0.000000"},null,null,{"v":0,"d":"0.000000"}]
[null,null,{"v":14,"d":"14.000000"},{"v":-4,"d":"-4.000000"},null,0.000268,{"$nulls":7},{"v":0,"d":"0.000000"},null,null,{"v":0,"d":"0.000000"},null,{"v":0,"d":"0.000000"},null,null,{"v":0,"d":"0.000000"}]
[null,null,{"v":15,"d":"15.000000"},{"v":-3,"d":"-3.000000"},{"$f":"(F461+F462+F463+F464+F465)*100000","v":{"v":259.2,"d":"259.200000"}},0.000355,null,{"$f":"30416/2","v":{"v":15208,"d":"15208.000000"}},{"$f":"25/2","v":{"v":12.5,"d":"12.500000"}},{"$f":"E461*I461/H461","v":{"v":0.2130457653866386,"d":"0.213046"}},{"v":0.23783985449797138,"d":"0.237840"},null,null,{"v":0,"d":"0.000000"},{"$f":"E461/100000","v":{"v":2.5919999999999997E-3,"d":"0.002592"}},{"$f":"P456-P456*O456","v":{"v":99116.57778535238,"d":"99116.577785"}},{"$f":"P461*5*N461","v":{"v":0,"d":"0.000000"}},null,{"v":0,"d":"0.000000"},{"$f":"E461/100000","v":{"v":2.5919999999999997E-3,"d":"0.002592"}},{"$f":"U456-U456*T456","v":{"v":99116.57778535238,"d":"99116.577785"}},{"$f":"U461*S461*J461/100000","v":{"v":0,"d":"0.000000"}}]
[null,null,{"v":16,"d":"16.000000"},{"v":-2,"d":"-2.000000"},null,0.000438,{"$nulls":7},{"v":0,"d":"0.000000"},null,null,{"$f":"P462*N462","v":{"v":0,"d":"0.000000"}},null,{"v":0,"d":"0.000000"},null,null,{"$f":"U462*S462*J462/100000","v":{"v":0,"d":"0.000000"}}]
[null,null,{"v":17,"d":"17.000000"},{"v":-1,"d":"-1.000000"},null,{"v":0.00052,"d":"0.000520"},{"$nulls":7},{"v":0,"d":"0.000000"},null,null,{"v":0,"d":"0.000000"},null,{"v":0,"d":"0.000000"},null,null,{"v":0,"d":"0.000000"}]
[null,null,{"v":18,"d":"18.000000"},{"v":0,"d":"0.000000"},null,{"v":0.0006,"d":"0.000600"},{"$nulls":7},{"v":0,"d":"0.000000"},null,null,{"v":0,"d":"0.000000"},null,{"v":0,"d":"0.000000"},null,null,{"v":0,"d":"0.000000"}]
[null,null,{"v":19,"d":"19.000000"},{"v":1,"d":"1.000000"},null,0.000679,{"$nulls":7},{"v":0,"d":"0.000000"},null,null,{"v":0,"d":"0.000000"},null,{"v":0,"d":"0.000000"},null,null,{"v":0,"d":"0.000000"}]
[null,null,{"v":20,"d":"20.000000"},{"v":2,"d":"2.000000"},{"$f":"(F466+F467+F468+F469+F470)*100000","v":{"v":442.09999999999997,"d":"442.100000"}},0.000765,null,{"$f":"30416/2","v":{"v":15208,"d":"15208.000000"}},{"$f":"25/2","v":{"v":12.5,"d":"12.500000"}},{"$f":"E466*I466/H466","v":{"v":0.363377827459232,"d":"0.363378"}},{"v":0.4038729608559696,"d":"0.403873"},null,null,{"v":0,"d":"0.000000"},{"$f":"E466/100000","v":0.004421},{"$f":"P461-P461*O461","v":{"v":98859.66761573275,"d":"98859.667616"}},{"$f":"P466*5*N466","v":{"v":0,"d":"0.000000"}},null,{"v":0,"d":"0.000000"},{"$f":"E466/100000","v":0.004421},{"$f":"U461-U461*T461","v":{"v":98859.66761573275,"d":"98859.667616"}},{"v":0,"d":"0.000000"}]
[null,null,{"v":21,"d":"21.000000"},{"v":3,"d":"3.000000"},null,0.000848,{"$nulls":7},{"v":0,"d":"0.000000"},null,null,{"$f":"P467*N467","v":{"v":0,"d":"0.000000"}},null,{"v":0,"d":"0.000000"},null,null,{"v":0,"d":"0.000000"}]
[null,null,{"v":22,"d":"22.000000"},{"v":4,"d":"4.000000"},null,0.000911,{"$nulls":7},{"v":0,"d":"0.000000"},null,null,{"v":0,"d":"0.000000"},null,{"v":0,"d":"0.000000"},null,null,{"v":0,"d":"0.000000"}]
[null,null,{"v":23,"d":"23.000000"},{"v":5,"d":"5.000000"},null,0.000944,{"$nulls":7},{"v":0,"d":"0.000000"},null,null,{"v":0,"d":"0.000000"},null,{"v":0,"d":"0.000000"},null,null,{"v":0,"d":"0.000000"}]
[null,null,{"v":24,"d":"24.000000"},{"v":6,"d":"6.000000"},null,0.000953,{"$nulls":7},{"v":0,"d":"0.000000"},null,null,{"v":0,"d":"0.000000"},null,{"v":0,"d":"0.000000"},null,null,{"v":0,"d":"0.000000"}]
[null,null,{"v":25,"d":"25.000000"},{"v":7,"d":"7.000000"},{"$f":"(F471+F472+F473+F474+F475)*100000","v":{"v":488.9000000000001,"d":"488.900000"}},0.000956,null,{"$f":"42502/2","v":{"v":21251,"d":"21251.000000"}},{"$f":"146/2","v":{"v":73,"d":"73.000000"}},{"$f":"E471*I471/H471","v":{"v":1.6794362618229732,"d":"1.679436"}},{"v":1.8701700154559506,"d":"1.870170"},null,null,{"v":0,"d":"0.000000"},{"$f":"E471/100000","v":{"v":4.889000000000001E-3,"d":"0.004889"}},{"$f":"P466-P466*O466","v":{"v":98422.6090252036,"d":"98422.609025"}},{"$f":"P471*5*N471","v":{"v":0,"d":"0.000000"}},null,{"v":0,"d":"0.000000"},{"$f":"E471/100000","v":{"v":4.889000000000001E-3,"d":"0.004889"}},{"$f":"U466-U466*T466","v":{"v":98422.6090252036,"d":"98422.609025"}},{"v":0,"d":"0.000000"}]
[null,null,{"v":26,"d":"26.000000"},{"v":8,"d":"8.000000"},null,0.000963,{"$nulls":7},{"v":0,"d":"0.000000"},null,null,{"$f":"P472*N472","v":{"v":0,"d":"0.000000"}},null,{"v":0,"d":"0.000000"},null,null,{"v":0,"d":"0.000000"}]
[null,null,{"v":27,"d":"27.000000"},{"v":9,"d":"9.000000"},null,0.000972,{"$nulls":7},{"v":0,"d":"0.000000"},null,null,{"v":0,"d":"0.000000"},null,{"v":0,"d":"0.000000"},null,null,{"v":0,"d":"0.000000"}]
[null,null,{"v":28,"d":"28.000000"},{"v":10,"d":"10.000000"},null,0.000988,{"$nulls":7},{"v":0,"d":"0.000000"},null,null,{"v":0,"d":"0.000000"},null,{"v":0,"d":"0.000000"},null,null,{"v":0,"d":"0.000000"}]
[null,null,{"v":29,"d":"29.000000"},{"v":11,"d":"11.000000"},null,{"v":1.01E-3,"d":"0.001010"},{"$nulls":7},{"v":3.1800000000000004E-10,"d":"0.000000"},null,null,{"v":0,"d":"0.000000"},null,{"v":3.1800000000000003E-4,"d":"0.000318"},null,null,{"v":0,"d":"0.000000"}]
[null,null,{"v":30,"d":"30.000000"},{"v":12,"d":"12.000000"},{"$f":"(F476+F477+F478+F479+F480)*100000","v":{"v":557.3,"d":"557.300000"}},0.001038,null,{"$f":"42502/2","v":{"v":21251,"d":"21251.000000"}},{"$f":"146/2","v":{"v":73,"d":"73.000000"}},{"$f":"E476*I476/H476","v":{"v":1.9143993223848286,"d":"1.914399"}},{"v":6.6309320271706484,"d":"6.630932"},null,null,{"v":2.5440000000000003E-9,"d":"0.000000"},{"$f":"E476/100000","v":0.005573},{"$f":"P471-P471*O471","v":{"v":97941.42088967937,"d":"97941.420890"}},{"$f":"P476*5*N476","v":{"v":1.2458148737167216E-3,"d":"0.001246"}},null,{"v":6.3600000000000006E-4,"d":"0.000636"},{"$f":"E476/100000","v":0.005573},{"$f":"U471-U471*T471","v":{"v":97941.42088967937,"d":"97941.420890"}},{"v":1.1924935750301164E-3,"d":"0.001192"}]
[null,null,{"v":31,"d":"31.000000"},{"v":13,"d":"13.000000"},null,{"v":1.07E-3,"d":"0.001070"},{"$nulls":7},{"v":8.5860000000000016E-9,"d":"0.000000"},null,null,{"$f":"P477*N477","v":{"v":0,"d":"0.000000"}},null,{"v":9.540000000000001E-4,"d":"0.000954"},null,null,{"v":0,"d":"0.000000"}]
[null,null,{"v":32,"d":"32.000000"},{"v":14,"d":"14.000000"},null,{"v":1.111E-3,"d":"0.001111"},{"$nulls":7},{"v":2.0352000000000003E-8,"d":"0.000000"},null,null,{"v":0,"d":"0.000000"},null,{"v":1.2720000000000001E-3,"d":"0.001272"},null,null,{"v":0,"d":"0.000000"}]
[null,null,{"v":33,"d":"33.000000"},{"v":15,"d":"15.000000"},null,{"v":1.152E-3,"d":"0.001152"},{"$nulls":7},{"v":3.975e-08,"d":"0.000000"},null,null,{"v":0,"d":"0.000000"},null,{"v":1.5900000000000003E-3,"d":"0.001590"},null,null,{"v":0,"d":"0.000000"}]
[null,null,{"v":34,"d":"34.000000"},{"v":16,"d":"16.000000"},null,0.001202,{"$nulls":7},{"v":6.8688000000000013E-8,"d":"0.000000"},null,null,{"v":0,"d":"0.000000"},null,{"v":1.9080000000000002E-3,"d":"0.001908"},null,null,{"v":0,"d":"0.000000"}]
[null,null,{"v":35,"d":"35.000000"},{"v":17,"d":"17.000000"},{"$f":"(F481+F482+F483+F484+F485)*100000","v":{"v":718.3000000000001,"d":"718.300000"}},0.001262,null,{"$f":"74665/2","v":{"v":37332.5,"d":"37332.500000"}},{"$f":"1517/2","v":{"v":758.5,"d":"758.500000"}},{"$f":"E481*I481/H481","v":{"v":14.59400120538405,"d":"14.594001"}},{"v":26.15077383924114,"d":"26.150774"},null,null,{"v":1.0907400000000001E-7,"d":"0.000000"},{"$f":"E481/100000","v":{"v":7.183000000000001E-3,"d":"0.007183"}},{"$f":"P476-P476*O476","v":{"v":97395.5933510612,"d":"97395.593351"}},{"$f":"P481*5*N481","v":{"v":0.05311663474586825,"d":"0.053117"}},null,0.002226,{"$f":"E481/100000","v":{"v":7.183000000000001E-3,"d":"0.007183"}},{"$f":"U476-U476*T476","v":{"v":97395.5933510612,"d":"97395.593351"}},{"v":0.031640172714577364,"d":"0.031640"}]
[null,null,{"v":36,"d":"36.000000"},{"v":18,"d":"18.000000"},null,{"v":1.335E-3,"d":"0.001335"},{"$nulls":7},{"v":1.6281600000000002E-7,"d":"0.000000"},null,null,{"$f":"P482*N482","v":{"v":0,"d":"0.000000"}},null,{"v":2.5440000000000003E-3,"d":"0.002544"},null,null,{"v":0,"d":"0.000000"}]
[null,null,{"v":37,"d":"37.000000"},{"v":19,"d":"19.000000"},null,{"v":1.421E-3,"d":"0.001421"},{"$nulls":7},{"v":2.3182200000000002E-7,"d":"0.000000"},null,null,{"v":0,"d":"0.000000"},null,{"v":2.8620000000000004E-3,"d":"0.002862"},null,null,{"v":0,"d":"0.000000"}]
[null,null,{"v":38,"d":"38.000000"},{"v":20,"d":"20.000000"},null,0.001522,{"$nulls":7},{"v":3.18e-07,"d":"0.000000"},null,null,{"v":0,"d":"0.000000"},null,{"v":3.1800000000000005E-3,"d":"0.003180"},null,null,{"v":0,"d":"0.000000"}]
[null,null,{"v":39,"d":"39.000000"},{"v":21,"d":"21.000000"},null,0.001643,{"$nulls":7},{"v":4.2325800000000004E-7,"d":"0.000000"},null,null,{"v":0,"d":"0.000000"},null,{"v":3.4980000000000002E-3,"d":"0.003498"},null,null,{"v":0,"d":"0.000000"}]
[null,null,{"v":40,"d":"40.000000"},{"v":22,"d":"22.000000"},{"$f":"(F486+F487+F488+F489+F490)*100000","v":{"v":1072.5,"d":"1072.500000"}},0.001778,null,{"$f":"74665/2","v":{"v":37332.5,"d":"37332.500000"}},{"$f":"1517/2","v":{"v":758.5,"d":"758.500000"}},{"$f":"E486*I486/H486","v":{"v":21.790430589968526,"d":"21.790431"}},{"v":77.3324920024653,"d":"77.332492"},null,null,{"v":5.495040000000001E-7,"d":"0.000001"},{"$f":"E486/100000","v":0.010725},{"$f":"P481-P481*O481","v":{"v":96696.00080402053,"d":"96696.000804"}},{"$f":"P486*5*N486","v":{"v":0.26567419612906257,"d":"0.265674"}},null,{"v":3.8160000000000004E-3,"d":"0.003816"},{"$f":"E486/100000","v":0.010725},{"$f":"U481-U481*T481","v":{"v":96696.00080402053,"d":"96696.000804"}},{"v":0.08040493236522252,"d":"0.080405"}]
[null,null,{"v":41,"d":"41.000000"},{"v":23,"d":"23.000000"},null,{"v":1.933E-3,"d":"0.001933"},{"$nulls":7},{"v":6.9864600000000007E-7,"d":"0.000001"},null,null,{"$f":"P487*N487","v":{"v":0,"d":"0.000000"}},null,{"v":4.1340000000000005E-3,"d":"0.004134"},null,null,{"v":0,"d":"0.000000"}]
[null,null,{"v":42,"d":"42.000000"},{"v":24,"d":"24.000000"},null,0.002118,{"$nulls":7},{"v":8.7259200000000012E-7,"d":"0.000001"},null,null,{"v":0,"d":"0.000000"},null,0.004452,null,null,{"v":0,"d":"0.000000"}]
[null,null,{"v":43,"d":"43.000000"},{"v":25,"d":"25.000000"},null,0.002332,{"$nulls":7},{"v":1.07325e-06,"d":"0.000001"},null,null,{"v":0,"d":"0.000000"},null,{"v":0.004770000000000001,"d":"0.004770"},null,null,{"v":0,"d":"0.000000"}]
[null,null,{"v":44,"d":"44.000000"},{"v":26,"d":"26.000000"},null,0.002564,{"$nulls":7},{"v":1.3025280000000002E-6,"d":"0.000001"},null,null,{"v":0,"d":"0.000000"},null,{"v":5.0880000000000005E-3,"d":"0.005088"},null,null,{"v":0,"d":"0.000000"}]
[null,null,{"v":45,"d":"45.000000"},{"v":27,"d":"27.000000"},{"$f":"(F491+F492+F493+F494+F495)*100000","v":{"v":1666.5,"d":"1666.500000"}},0.002796,null,{"$f":"187568/2","v":{"v":93784,"d":"93784.000000"}},{"$f":"12488/2","v":{"v":6244,"d":"6244.000000"}},{"$f":"E491*I491/H491","v":{"v":110.9531050072507,"d":"110.953105"}},{"v":180.74797685777625,"d":"180.747977"},null,null,{"v":1.5623340000000002E-6,"d":"0.000002"},{"$f":"E491/100000","v":0.016665},{"$f":"P486-P486*O486","v":{"v":95658.93619539741,"d":"95658.936195"}},{"$f":"P491*5*N491","v":{"v":0.7472560421095001,"d":"0.747256"}},null,0.005406,{"$f":"E491/100000","v":0.016665},{"$f":"U486-U486*T486","v":{"v":95658.93619539741,"d":"95658.936195"}},{"v":0.5737742429583248,"d":"0.573774"}]
[null,null,{"v":46,"d":"46.000000"},{"v":28,"d":"28.000000"},null,0.003034,{"$nulls":7},{"v":1.8545760000000002E-6,"d":"0.000002"},null,null,{"$f":"P492*N492","v":{"v":0,"d":"0.000000"}},null,{"v":0.005724000000000001,"d":"0.005724"},null,null,{"v":0,"d":"0.000000"}]
[null,null,{"v":47,"d":"47.000000"},{"v":29,"d":"29.000000"},null,{"v":3.297E-3,"d":"0.003297"},{"$nulls":7},{"v":2.181162e-06,"d":"0.000002"},null,null,{"v":0,"d":"0.000000"},null,{"v":6.0420000000000005E-3,"d":"0.006042"},null,null,{"v":0,"d":"0.000000"}]
[null,null,{"v":48,"d":"48.000000"},{"v":30,"d":"30.000000"},null,{"v":0.0036,"d":"0.003600"},{"$nulls":7},{"v":2.544e-06,"d":"0.000003"},null,null,{"v":0,"d":"0.000000"},null,{"v":0.006360000000000001,"d":"0.006360"},null,null,{"v":0,"d":"0.000000"}]
[null,null,{"v":49,"d":"49.000000"},{"v":31,"d":"31.000000"},null,0.003938,{"$nulls":7},{"v":2.9449980000000005E-6,"d":"0.000003"},null,null,{"v":0,"d":"0.000000"},null,{"v":0.006678000000000001,"d":"0.006678"},null,null,{"v":0,"d":"0.000000"}]
[null,null,{"v":50,"d":"50.000000"},{"v":32,"d":"32.000000"},{"$f":"(F496+F497+F498+F499+F500)*100000","v":{"v":2526.4,"d":"2526.400000"}},0.004306,null,{"$f":"187568/2","v":{"v":93784,"d":"93784.000000"}},{"$f":"12488/2","v":{"v":6244,"d":"6244.000000"}},{"$f":"E496*I496/H496","v":{"v":168.2039750917001,"d":"168.203975"}},{"v":334.0281124497992,"d":"334.028112"},null,null,{"v":3.3860640000000003E-6,"d":"0.000003"},{"$f":"E496/100000","v":0.025264},{"$f":"P491-P491*O491","v":{"v":94064.78002370111,"d":"94064.780024"}},{"$f":"P496*5*N496","v":{"v":1.5925468265308675,"d":"1.592547"}},null,{"v":6.9960000000000005E-3,"d":"0.006996"},{"$f":"E496/100000","v":0.025264},{"$f":"U491-U491*T491","v":{"v":94064.78002370111,"d":"94064.780024"}},{"v":1.1069120113312565,"d":"1.106912"}]
[null,null,{"v":51,"d":"51.000000"},{"v":33,"d":"33.000000"},null,0.004682,{"$nulls":7},{"v":3.8691060000000005E-6,"d":"0.000004"},null,null,{"$f":"P497*N497","v":{"v":0,"d":"0.000000"}},null,{"v":0.007314000000000001,"d":"0.007314"},null,null,{"v":0,"d":"0.000000"}]
[null,null,{"v":52,"d":"52.000000"},{"v":34,"d":"34.000000"},null,{"v":5.058E-3,"d":"0.005058"},{"$nulls":7},{"v":4.3960320000000008E-6,"d":"0.000004"},null,null,{"v":0,"d":"0.000000"},null,{"v":0.007632000000000001,"d":"0.007632"},null,null,{"v":0,"d":"0.000000"}]
[null,null,{"v":53,"d":"53.000000"},{"v":35,"d":"35.000000"},null,{"v":5.424E-3,"d":"0.005424"},{"$nulls":7},{"v":4.9687500000000005E-6,"d":"0.000005"},null,null,{"v":0,"d":"0.000000"},null,{"v":0.00795,"d":"0.007950"},null,null,{"v":0,"d":"0.000000"}]
[null,null,{"v":54,"d":"54.000000"},{"v":36,"d":"36.000000"},null,0.005794,{"$nulls":7},{"v":5.5891680000000006E-6,"d":"0.000006"},null,null,{"v":0,"d":"0.000000"},null,{"v":8.268000000000001E-3,"d":"0.008268"},null,null,{"v":0,"d":"0.000000"}]
[null,null,{"v":55,"d":"55.000000"},{"v":37,"d":"37.000000"},{"$f":"(F501+F502+F503+F504+F505)*100000","v":{"v":3574.5,"d":"3574.500000"}},0.006186,null,{"$f":"303307/2","v":{"v":151653.5,"d":"151653.500000"}},{"$f":"30964/2","v":{"v":15482,"d":"15482.000000"}},{"$f":"E501*I501/H501","v":{"v":364.9134968859934,"d":"364.913497"}},{"v":512.6415500023891,"d":"512.641550"},null,null,{"v":6.259194e-06,"d":"0.000006"},{"$f":"E501/100000","v":0.035745},{"$f":"P496-P496*O496","v":{"v":91688.32742118233,"d":"91688.327421"}},{"$f":"P501*5*N501","v":{"v":2.8694751443234994,"d":"2.869475"}},null,{"v":0.008586000000000002,"d":"0.008586"},{"$f":"E501/100000","v":0.035745},{"$f":"U496-U496*T496","v":{"v":91688.32742118233,"d":"91688.327421"}},{"v":2.87273034058307,"d":"2.872730"}]
[null,null,{"v":56,"d":"56.000000"},{"v":38,"d":"38.000000"},null,0.006622,{"$nulls":7},{"v":6.9807360000000009E-6,"d":"0.000007"},null,null,{"$f":"P502*N502","v":{"v":0,"d":"0.000000"}},null,0.008904,null,null,{"v":0,"d":"0.000000"}]
[null,null,{"v":57,"d":"57.000000"},{"v":39,"d":"39.000000"},null,0.007102,{"$nulls":7},{"v":7.7557020000000015E-6,"d":"0.000008"},null,null,{"v":0,"d":"0.000000"},null,{"v":9.222000000000001E-3,"d":"0.009222"},null,null,{"v":0,"d":"0.000000"}]
[null,null,{"v":58,"d":"58.000000"},{"v":40,"d":"40.000000"},null,{"v":0.00763,"d":"0.007630"},{"$nulls":7},{"v":8.586e-06,"d":"0.000009"},null,null,{"v":0,"d":"0.000000"},null,{"v":0.009540000000000002,"d":"0.009540"},null,null,{"v":0,"d":"0.000000"}]
[null,null,{"v":59,"d":"59.000000"},{"v":41,"d":"41.000000"},null,0.008205,{"$nulls":7},{"v":9.473538e-06,"d":"0.000009"},null,null,{"v":0,"d":"0.000000"},null,0.009858,null,null,{"v":0,"d":"0.000000"}]
[null,null,{"v":60,"d":"60.000000"},{"v":42,"d":"42.000000"},{"$f":"(F506+F507+F508+F509+F510)*100000","v":{"v":5144.400000000001,"d":"5144.400000"}},0.008826,null,{"$f":"303307/2","v":{"v":151653.5,"d":"151653.500000"}},{"$f":"30964/2","v":{"v":15482,"d":"15482.000000"}},{"$f":"E506*I506/H506","v":{"v":525.1814221234591,"d":"525.181422"}},{"v":770.3093992746772,"d":"770.309399"},null,null,{"v":1.0420224000000001E-5,"d":"0.000010"},{"$f":"E506/100000","v":{"v":0.051444000000000004,"d":"0.051444"}},{"$f":"P501-P501*O501","v":{"v":88410.92815751217,"d":"88410.928158"}},{"$f":"P506*5*N506","v":{"v":4.606308377245921,"d":"4.606308"}},null,{"v":0.010176000000000001,"d":"0.010176"},{"$f":"E506/100000","v":{"v":0.051444000000000004,"d":"0.051444"}},{"$f":"U501-U501*T501","v":{"v":88410.92815751217,"d":"88410.928158"}},{"v":4.724897625588312,"d":"4.724898"}]
[null,null,{"v":61,"d":"61.000000"},{"v":43,"d":"43.000000"},null,{"v":9.495E-3,"d":"0.009495"},{"$nulls":7},{"v":1.1427966000000002E-5,"d":"0.000011"},null,null,{"$f":"P507*N507","v":{"v":0,"d":"0.000000"}},null,{"v":0.010494000000000002,"d":"0.010494"},null,null,{"v":0,"d":"0.000000"}]
[null,null,{"v":62,"d":"62.000000"},{"v":44,"d":"44.000000"},null,0.010217,{"$nulls":7},{"v":1.2498672000000001E-5,"d":"0.000012"},null,null,{"v":0,"d":"0.000000"},null,0.010812,null,null,{"v":0,"d":"0.000000"}]
[null,null,{"v":63,"d":"63.000000"},{"v":45,"d":"45.000000"},null,{"v":0.01101,"d":"0.011010"},{"$nulls":7},{"v":1.3634250000000002E-5,"d":"0.000014"},null,null,{"v":0,"d":"0.000000"},null,{"v":0.011130000000000001,"d":"0.011130"},null,null,{"v":0,"d":"0.000000"}]
[null,null,{"v":64,"d":"64.000000"},{"v":46,"d":"46.000000"},null,0.011896,{"$nulls":7},{"v":1.4836608000000001E-5,"d":"0.000015"},null,null,{"v":0,"d":"0.000000"},null,{"v":0.011448000000000002,"d":"0.011448"},null,null,{"v":0,"d":"0.000000"}]
[null,null,{"v":65,"d":"65.000000"},{"$f":"C511-$O$41","v":{"v":47,"d":"47.000000"}},{"$f":"(F511+F512+F513+F514+F515)*100000","v":{"v":7712.8,"d":"7712.800000"}},0.012923,null,{"$f":"401032/2","v":{"v":200516,"d":"200516.000000"}},{"$f":"48536/2","v":{"v":24268,"d":"24268.000000"}},{"$f":"E511*I511/H511","v":{"v":933.4628179297413,"d":"933.462818"}},{"v":918.1489861381601,"d":"918.148986"},null,null,{"$f":"IF($D511<10,0, IF(AND(OR($D511>10, $D511=10),$D511<10+$B$459),$B$457*$B$458*(($D511-10)^3), $B$457*$B$458*(($D511-10)^3-($D511-10-$B$459)^3)))","v":{"v":1.6107654000000002E-5,"d":"0.000016"}},{"$f":"E511/100000","v":0.077128},{"$f":"P506-P506*O506","v":{"v":83862.71636937711,"d":"83862.716369"}},{"$f":"P511*5*N511","v":{"v":6.7541580938903145,"d":"6.754158"}},null,{"$f":"IF($D511<10,0, IF(AND(OR($D511>10, $D511=10),$D511<10+$B$459),$B$456*$B$458*(($D511-10)), $B$456*$B$458*(($D511-10)-($D511-10-$B$459))))","v":0.011766},{"$f":"E511/100000","v":0.077128},{"$f":"U506-U506*T506","v":{"v":83862.71636937711,"d":"83862.716369"}},{"v":9.21074572252129,"d":"9.210746"}]
[null,null,{"v":66,"d":"66.000000"},{"v":48,"d":"48.000000"},null,0.014095,{"$nulls":7},{"v":1.7449296e-05,"d":"0.000017"},null,null,{"$f":"P512*N512","v":{"v":0,"d":"0.000000"}},null,{"v":0.012084000000000001,"d":"0.012084"},null,null,{"v":0,"d":"0.000000"}]
[null,null,{"v":67,"d":"67.000000"},{"v":49,"d":"49.000000"},null,0.015356,{"$nulls":7},{"v":1.8863442e-05,"d":"0.000019"},null,null,{"v":0,"d":"0.000000"},null,{"v":0.012402000000000002,"d":"0.012402"},null,null,{"v":0,"d":"0.000000"}]
[null,null,{"v":68,"d":"68.000000"},{"v":50,"d":"50.000000"},null,0.016682,{"$nulls":7},{"v":2.0352e-05,"d":"0.000020"},null,null,{"v":0,"d":"0.000000"},null,{"v":0.012720000000000002,"d":"0.012720"},null,null,{"v":0,"d":"0.000000"}]
[null,null,{"v":69,"d":"69.000000"},{"v":51,"d":"51.000000"},null,0.018072,{"$nulls":7},{"v":2.1916878000000003E-5,"d":"0.000022"},null,null,{"v":0,"d":"0.000000"},null,{"v":0.013038000000000001,"d":"0.013038"},null,null,{"v":0,"d":"0.000000"}]
[null,null,{"v":70,"d":"70.000000"},{"v":52,"d":"52.000000"},{"$f":"(F516+F517+F518+F519+F520)*100000","v":{"v":11861.8,"d":"11861.800000"}},{"v":0.01963,"d":"0.019630"},null,{"$f":"401032/2","v":{"v":200516,"d":"200516.000000"}},{"$f":"48536/2","v":{"v":24268,"d":"24268.000000"}},{"$f":"E516*I516/H516","v":{"v":1435.6069460791157,"d":"1435.606946"}},{"v":1057.806767500074,"d":"1057.806768"},null,null,{"v":2.3559984000000004E-5,"d":"0.000024"},{"$f":"E516/100000","v":{"v":0.11861799999999999,"d":"0.118618"}},{"$f":"P511-P511*O511","v":{"v":77394.55278123979,"d":"77394.552781"}},{"$f":"P516*5*N516","v":{"v":9.117072126065827,"d":"9.117072"}},null,{"v":0.013356000000000002,"d":"0.013356"},{"$f":"E516/100000","v":{"v":0.11861799999999999,"d":"0.118618"}},{"$f":"U511-U511*T511","v":{"v":77394.55278123979,"d":"77394.552781"}},{"v":14.839605523905204,"d":"14.839606"}]
[null,null,{"v":71,"d":"71.000000"},{"v":53,"d":"53.000000"},null,{"v":0.02143,"d":"0.021430"},{"$nulls":7},{"v":2.5283226000000003E-5,"d":"0.000025"},null,null,{"$f":"P517*N517","v":{"v":0,"d":"0.000000"}},null,{"v":0.013674000000000002,"d":"0.013674"},null,null,{"v":0,"d":"0.000000"}]
[null,null,{"v":72,"d":"72.000000"},{"v":54,"d":"54.000000"},null,0.023431,{"$nulls":7},{"v":2.7088512000000003E-5,"d":"0.000027"},null,null,{"v":0,"d":"0.000000"},null,{"v":0.013992000000000001,"d":"0.013992"},null,null,{"v":0,"d":"0.000000"}]
[null,null,{"v":73,"d":"73.000000"},{"v":55,"d":"55.000000"},null,0.025763,{"$nulls":7},{"v":2.8977750000000002E-5,"d":"0.000029"},null,null,{"v":0,"d":"0.000000"},null,{"v":0.014310000000000002,"d":"0.014310"},null,null,{"v":0,"d":"0.000000"}]
[null,null,{"v":74,"d":"74.000000"},{"v":56,"d":"56.000000"},null,0.028364,{"$nulls":7},{"v":3.095253e-05,"d":"0.000031"},null,null,{"v":0,"d":"0.000000"},null,{"v":0.014310000000000002,"d":"0.014310"},null,null,{"v":0,"d":"0.000000"}]
[null,null,{"v":75,"d":"75.000000"},{"v":57,"d":"57.000000"},{"$f":"(F521+F522+F523+F524+F525)*100000","v":{"v":18984.100000000002,"d":"18984.100000"}},{"v":0.03106,"d":"0.031060"},null,{"$f":"627727/2","v":{"v":313863.5,"d":"313863.500000"}},{"$f":"46860/2","v":{"v":23430,"d":"23430.000000"}},{"$f":"E521*I521/H521","v":{"v":1417.1684920355506,"d":"1417.168492"}},{"v":1062.2372170590331,"d":"1062.237217"},null,null,{"v":3.301317e-05,"d":"0.000033"},{"$f":"E521/100000","v":0.189841},{"$f":"P516-P516*O516","v":{"v":68214.16571943469,"d":"68214.165719"}},{"$f":"P521*5*N521","v":{"v":11.259829246519349,"d":"11.259829"}},null,{"v":0.014310000000000002,"d":"0.014310"},{"$f":"E521/100000","v":0.189841},{"$f":"U516-U516*T516","v":{"v":68214.16571943469,"d":"68214.165719"}},{"v":13.83361528727145,"d":"13.833615"}]
[null,null,{"v":76,"d":"76.000000"},{"v":58,"d":"58.000000"},null,0.034041,{"$nulls":7},{"v":3.5159670000000006E-5,"d":"0.000035"},null,null,{"$f":"P522*N522","v":{"v":0,"d":"0.000000"}},null,{"v":0.014310000000000002,"d":"0.014310"},null,null,{"v":0,"d":"0.000000"}]
[null,null,{"v":77,"d":"77.000000"},{"v":59,"d":"59.000000"},null,0.037491,{"$nulls":7},{"v":3.7392030000000006E-5,"d":"0.000037"},null,null,{"v":0,"d":"0.000000"},null,{"v":0.014310000000000002,"d":"0.014310"},null,null,{"v":0,"d":"0.000000"}]
[null,null,{"v":78,"d":"78.000000"},{"v":60,"d":"60.000000"},null,0.041456,{"$nulls":7},{"v":3.971025e-05,"d":"0.000040"},null,null,{"v":0,"d":"0.000000"},null,{"v":0.014310000000000002,"d":"0.014310"},null,null,{"v":0,"d":"0.000000"}]
[null,null,{"v":79,"d":"79.000000"},{"v":61,"d":"61.000000"},null,0.045793,{"$nulls":7},{"v":4.2114330000000006E-5,"d":"0.000042"},null,null,{"v":0,"d":"0.000000"},null,{"v":0.014310000000000002,"d":"0.014310"},null,null,{"v":0,"d":"0.000000"}]
[null,null,{"v":80,"d":"80.000000"},{"v":62,"d":"62.000000"},{"$f":"(F526+F527+F528+F529+F530)*100000","v":{"v":31110.699999999997,"d":"31110.700000"}},0.050433,null,{"$f":"627727/2","v":{"v":313863.5,"d":"313863.500000"}},{"$f":"46860/2","v":{"v":23430,"d":"23430.000000"}},{"$f":"E526*I526/H526","v":{"v":2322.422648699195,"d":"2322.422649"}},{"v":814.0532950112913,"d":"814.053295"},null,null,{"v":4.4604270000000007E-5,"d":"0.000045"},{"$f":"E526/100000","v":{"v":0.31110699999999997,"d":"0.311107"}},{"$f":"P521-P521*O521","v":{"v":55264.32028509149,"d":"55264.320285"}},{"$f":"P526*5*N526","v":{"v":12.32512331681349,"d":"12.325123"}},null,{"v":0.014310000000000002,"d":"0.014310"},{"$f":"E526/100000","v":{"v":0.31110699999999997,"d":"0.311107"}},{"$f":"U521-U521*T521","v":{"v":55264.32028509149,"d":"55264.320285"}},{"$f":"U526*S526*J526/100000","v":{"v":18.366471311503496,"d":"18.366471"}}]
[null,null,{"v":81,"d":"81.000000"},{"v":63,"d":"63.000000"},null,0.055465,{"$nulls":7},{"v":4.7180070000000004E-5,"d":"0.000047"},null,null,{"$f":"P527*N527","v":{"v":0,"d":"0.000000"}},null,{"v":0.014310000000000002,"d":"0.014310"},null,null,{"$f":"U527*S527*J527/100000","v":{"v":0,"d":"0.000000"}}]
[null,null,{"v":82,"d":"82.000000"},{"v":64,"d":"64.000000"},null,0.061442,{"$nulls":7},{"v":4.984173e-05,"d":"0.000050"},null,null,{"v":0,"d":"0.000000"},null,{"v":0.014310000000000002,"d":"0.014310"},null,null,{"v":0,"d":"0.000000"}]
[null,null,{"v":83,"d":"83.000000"},{"v":65,"d":"65.000000"},null,0.068173,{"$nulls":7},{"v":5.2589250000000005E-5,"d":"0.000053"},null,null,{"v":0,"d":"0.000000"},null,{"v":0.014310000000000002,"d":"0.014310"},null,null,{"v":0,"d":"0.000000"}]
[null,null,{"v":84,"d":"84.000000"},{"v":66,"d":"66.000000"},null,0.075594,{"$nulls":7},{"v":5.5422630000000009E-5,"d":"0.000055"},null,null,{"v":0,"d":"0.000000"},null,{"v":0.014310000000000002,"d":"0.014310"},null,null,{"v":0,"d":"0.000000"}]
[null,null,{"v":85,"d":"85.000000"},{"v":67,"d":"67.000000"},{"v":100000,"d":"100000.000000"},null,null,{"v":733178,"d":"733178.000000"},{"v":17605,"d":"17605.000000"},{"$f":"E531*I531/H531","v":{"v":2401.1904339737416,"d":"2401.190434"}},{"v":985.7880588337127,"d":"985.788059"},null,null,{"v":5.8341870000000009E-5,"d":"0.000058"},{"$f":"E531/100000","v":{"v":1,"d":"1.000000"}},{"$f":"P526-P526*O526","v":{"v":38071.203394157536,"d":"38071.203394"}},{"$f":"P531*6.5*N531","v":{"v":14.437443794575737,"d":"14.437444"}},null,{"v":0.014310000000000002,"d":"0.014310"},{"$f":"E531/100000","v":{"v":1,"d":"1.000000"}},{"$f":"U526-U526*T526","v":{"v":38071.203394157536,"d":"38071.203394"}},{"$f":"U531*S531*J531/100000*3.5","v":{"v":45.7858084779498,"d":"45.785808"}}]
{"$rows_empty":36}
[{"$nulls":16},{"$f":"SUM(Q446:Q565)/100000*1000000","v":{"v":640.2924961382315,"d":"640.292496"}},{"$nulls":4},{"$f":"SUM(V446:V565)/100000*1000000","v":{"v":1114.2779814226706,"d":"1114.277981"}}]

{"sheet":"Scenario 2","index":1,"n_rows":1318,"n_cols":45,"rows_kept":1318,"merged":[[2,3,2,10],[3,0,3,1],[3,3,3,4],[3,6,3,7],[3,9,3,10]]}
["SCENARIO 2.","PCME RESULTS ARE KNOWN"]
[]
[{"$nulls":3},"RISK ASSESSMENT RESULTS:"]
["OCCUPATIONAL EXPOSURE DATA:",null,null,"Total Cancer, per 1,000,000",null,null,"Lung Cancer, per 1,000,000",null,null,"Mesothelioma, per 1,000,000"]
[{"$nulls":3},"Berman, Crump 2008:","Hodgson, Darnton:",null,"Berman, Crump 2008:","Hodgson, Darnton:",null,"Berman, Crump 2008:","Hodgson, Darnton:"]
["Chrysotile  Asbestos Concentration, PCME (f/cc)",0.5,"Best Estimate: ",{"$f":"G6+J6","v":{"v":3594.6262382040586,"d":"3595"}},{"$f":"G189","v":{"v":1063.3448435661815,"d":"1063"}},"Best Estimate: ",{"$f":"Z53","v":{"v":3504.018809505252,"d":"3504"}},{"$f":"C189","v":{"v":599.6952639725117,"d":"600"}},"Best Estimate: ",{"$f":"Y53","v":{"v":90.60742869880632,"d":"91"}},{"$f":"E189+F189","v":{"v":463.6495795936697,"d":"464"}}]
[null,null,"Upper Bolund:",null,null,"Upper Bolund:",null,null,"Upper Bolund:"]
["Tremolite Concentration, PCME (f/cc)",0.1,"Best Estimate: ",{"$f":"X54","v":{"v":22020.36286530411,"d":"22020"}},{"$f":"G188","v":{"v":7004.719414951108,"d":"7005"}},"Best Estimate: ",{"$f":"Z54","v":{"v":4905.626333307354,"d":"4906"}},{"$f":"C188","v":{"v":4228.9404021012,"d":"4229"}},"Best Estimate: ",{"$f":"Y54","v":{"v":17114.736531996754,"d":"17115"}},{"$f":"E188+F188","v":{"v":2775.779012849908,"d":"2776"}}]
[null,null,"Upper Bound:",{"$f":"G9+J9","v":{"v":11246.850458562669,"d":"11247"}},null,"Upper Bound:",{"$f":"G6/0.2*0.55","v":{"v":9636.051726139445,"d":"9636"}},null,"Upper Bound:",{"$f":"J6/0.009*0.16","v":{"v":1610.7987324232236,"d":"1611"}}]
[]
[]
["Crocidolite Concentration, PCME (f/cc)",0.005,"Best Estimate: ",{"$f":"J12+G12","v":{"v":1101.0181432652055,"d":"1101"}},{"$f":"G190","v":{"v":2180.8794812552655,"d":"2181"}},"Best Estimate: ",{"$f":"V838","v":{"v":245.28131666536768,"d":"245"}},{"$f":"C190","v":{"v":86.07807980646336,"d":"86"}},"Best Estimate: ",{"$f":"Q838","v":{"v":855.7368265998377,"d":"856"}},{"$f":"E190+F190","v":{"v":2094.801401448802,"d":"2095"}}]
[null,null,"Upper Bound:",{"$f":"G13+J13","v":{"v":2946.509043556628,"d":"2947"}},null,"Upper Bound:",{"$f":"G12/1.4*5.9","v":{"v":1033.6855488040496,"d":"1034"}},null,"Upper Bound:",{"$f":"J12/8.5*19","v":{"v":1912.8234947525784,"d":"1913"}}]
[]
["Amosite Concentration, PCME (f/cc)",0.014,"Best Estimate: ",{"$f":"G15+J15","v":{"v":3082.8508011425747,"d":"3083"}},{"$f":"G191","v":{"v":955.8402025107413,"d":"956"}},"Best Estimate: ",{"$f":"V968","v":{"v":686.7876866630293,"d":"687"}},{"$f":"C191","v":{"v":328.24491815037715,"d":"328"}},"Best Estimate: ",{"$f":"Q968","v":{"v":2396.063114479545,"d":"2396"}},{"$f":"E191+F191","v":{"v":627.5952843603641,"d":"628"}}]
[null,null,"Upper Bound:",{"$f":"G16+J16","v":{"v":8250.225321958556,"d":"8250"}},null,"Upper Bound:",{"$f":"G15/1.4*5.9","v":{"v":2894.319536651338,"d":"2894"}},null,"Upper Bound:",{"$f":"J15/8.5*19","v":{"v":5355.905785307218,"d":"5356"}}]
[]
["Duration (years)",45]
[]
["Onset age (years)",18]
[]
["Exposure duration during the shift (hours)",8]
[]
["Shift duration (hour)",8]
["Protection factor",1]
{"$rows_empty":17}
["EPA, IRIS Method (Current USEPA Asbestos Risk Assessment Method)"]
[{"$nulls":7},"Duration of exposure",{"$nulls":4},"Average PCME Receptor Asbestos Concentration Exposure, Ambient Equivalent (f/cc)","Total Lifetime Exposure (f/cc years, work place equivalent)","Onset time, years","K1, coefficient for UNIT risk calculation","K2, coefficient for UNIT risk calculation","Unit Risk (EPA, duraion and onset time adjusted)","Excess Lifetime Cancer Risk (ELCR) (Cases per million)",null,"Lung cancer potency factor, Kl","Mesothelioma potency factor, Km",null,"Excess Lifetime Cancer Risk (ELCR) (Cases per million)","Excess Lifetime Mesothelioma Risk (cases per million)","Excess Lifetime Lung Cancer Risk (Cases per million)",null,"Calculated Unit Risk"]
[{"$nulls":14},"Range"]
[]
[{"$nulls":14},"Lower"]
[]
[{"$nulls":14},"Upper"]
[]
[{"$nulls":6},{"$f":"#REF!*(B22/B24)/B25","v":{"$error":"#REF!"}},{"$f":"B18","v":45},{"$f":"1","v":1},{"$f":"1-I51","v":0},{"v":1,"d":"100%"},{"$f":"K51*J51+I51","v":{"v":1,"d":"100%"}},{"$f":"G51*L51/2.8*B24/8","v":{"$error":"#REF!"}},{"$f":"H51*M51*2.8","v":{"$error":"#REF!"}},{"$f":"B20","v":18},{"$f":"-0.0176401+0.2492567*EXP(-O51/24.7806941)","v":{"v":0.10291553930588737,"d":"0.103"}},{"$f":"0.0415839+0.0039973*EXP(O51/-18.2212632)","v":{"v":0.04307239012159984,"d":"0.043"}},{"$f":"P51*(1-EXP(-1*Q51*H51))","v":{"v":0.08810037769404173,"d":"0.088"}},{"$f":"M51*R51*1000000","v":{"$error":"#REF!"}},"Total:",{"$f":"1*10^-2","v":0.01},{"$f":"1*10^-8","v":1E-8},null,{"$f":"Q452+V452","v":{"$error":"#REF!"}},{"$f":"Q452","v":{"$error":"#REF!"}},{"$f":"V452","v":{"$error":"#REF!"}},null,{"$f":"X51/M51/1000000","v":{"$error":"#REF!"}}]
[{"$nulls":6},"including:",{"$nulls":5},"including:"]
[{"$nulls":5},"TWA  Asbestos Concentration (f/cc) (PCME, chrysotile):",{"$f":"B6*B22/B24/B25","v":0.5},{"$nulls":4},"Average PCME Chrysotile Receptor Asbestos Concentration Exposure (f/cc)",{"$f":"G53*(L51/2.8)*B24/8","v":0.17857142857142858},{"$f":"H51*M53*2.8","v":{"v":22.5,"d":"2.25E+01"}},null,null,"\"","\"",null,"Chrysotile:",{"$f":"0.2*10^-2","v":2E-3},{"$f":"0.009*10^-8","v":9e-11},null,{"$f":"Y53+Z53","v":3594.6262382040586},{"$f":"Q581","v":90.60742869880632},{"$f":"V581","v":3504.018809505252}]
[{"$nulls":5},"TWA  Asbestos Concentration (f/cc) (PCME, tremolite-actinolite)",{"$f":"B8*B22/B24/B25","v":0.1},{"$nulls":4},"Average PCME Tremolite-Actinolite Receptor Asbestos Concentration Exposure (f/cc)",{"$f":"G54*L51/2.8*B24/8","v":0.03571428571428572},{"$f":"H51*M54*2.8","v":{"v":4.500000000000001,"d":"4.50E+00"}},{"$nulls":5},"Tremolite-Actinolite (as amosite for mesothelioma):",{"$f":"1.4*10^-2","v":0.013999999999999999},{"$f":"8.5*10^-8","v":8.5000000000000007E-8},null,{"$f":"Y54+Z54","v":22020.36286530411},{"$f":"Q710","v":17114.736531996754},{"$f":"V710","v":4905.626333307354}]
[]
[{"$nulls":5},"TWA  Asbestos Concentration (f/cc) (PCME, tremolite-actinolite)",{"$f":"B12*$B$22/$B$24/$B$25","v":{"v":0.005,"d":"0.005000"}},{"$nulls":4},"Average PCME Crocidolite Receptor Asbestos concentration Exposure (f/cc)",{"$f":"G56*$L$51/2.8*$B$24/8","v":1.7857142857142859E-3},{"$f":"$H$51*M56*2.8","v":{"v":0.225,"d":"2.25E-01"}},{"$nulls":4},"Crocidolite",null,{"$f":"1.4*10^-2","v":0.013999999999999999},{"$f":"8.5*10^-8","v":8.5000000000000007E-8}]
[{"$nulls":18},"Amosite",null,{"$f":"1.4*10^-2","v":0.013999999999999999},{"$f":"8.5*10^-8","v":8.5000000000000007E-8}]
[{"$nulls":5},"TWA Asbestos Concentration (f/cc), (PCME, amosite)",{"$f":"B15*$B$22/$B$24/$B$25","v":{"v":0.014,"d":"0.014000"}},{"$nulls":4},"Amosite ",{"$f":"G58*$L$51/2.8*$B$24/8","v":0.005},{"$f":"H51*M58*2.8","v":0.63}]
[]
[{"$nulls":24},"Lung cancer male",{"$nulls":5},"P",{"$nulls":3},"Mesothelioma both genders",{"$nulls":4},"mesothelioma male 1977 ",null,"Death rate"]
[{"$nulls":24},{"v":0,"d":"0.00"},799.9,0,{"$f":"Z61/100000","v":0.007999},{"$f":"AA61/100000","v":0},{"$f":"100000","v":100000},{"$f":"IF(Y61<10,0,IF(AND(OR(Y61>10,Y61=10),Y61<10+$H$63),$H$60*$H$62*(Y61-10),$H$60*$H$62*Y61))","v":0},{"$f":"AC61*AE61","v":0},{"$f":"AD61*AF61","v":0},null,{"$f":"IF(J61<10,0, IF(AND(OR(J61>10, J61=10),J61<10+$H$63),$H$61*$H$62*((J61-10)^3), $H$61*$H$62*((J61-10)^3-(J61-10-$H$63)^3)))","v":0},{"$f":"Q61+AI61","v":0},{"$f":"100000","v":100000},{"$f":"AK61*AI61","v":0},null,100000,{"$f":"IF($J61<10,0, IF(AND(OR($J61>10, $J61=10),$J61<10+$H$63),$H$61*$H$62*(($J61-10)^3), $H$61*$H$62*(($J61-10)^3-($J61-10-$H$63)^3)))","v":0},{"$f":"(AN61-AN62)/AN61","v":0.01586},{"$f":"AP61+AO61","v":0.01586},{"$f":"100000","v":100000},{"$f":"AR61*AO61","v":0}]
[{"$nulls":24},{"v":1,"d":"1.00"},36.5,0,{"$f":"Z62/100000","v":0.000365},0,{"$f":"AD61-AB61*AD61*2","v":98400.2},{"$f":"IF(Y62<10,0,IF(AND(OR(Y62>10,Y62=10),Y62<10+$H$63),$H$60*$H$62*(Y62-10),$H$60*$H$62*Y62))","v":0},{"$f":"AC62*AE62","v":0},0,null,{"$f":"IF(J62<10,0, IF(AND(OR(J62>10, J62=10),J62<10+$H$63),$H$61*$H$62*((J62-10)^3), $H$61*$H$62*((J62-10)^3-(J62-10-$H$63)^3)))","v":0},{"$f":"Q62+AI62","v":0},{"$f":"AK61-AK61*AJ61","v":100000},{"$f":"AK62*AI62","v":0},null,98414,{"$f":"IF($J62<10,0, IF(AND(OR($J62>10, $J62=10),$J62<10+$H$63),$H$61*$H$62*(($J62-10)^3), $H$61*$H$62*(($J62-10)^3-($J62-10-$H$63)^3)))","v":0},{"$f":"(AN62-AN63)/AN62","v":1.0364379051760928E-3},{"$f":"AP62+AO62","v":1.0364379051760928E-3},{"$f":"AR61-AR61*AQ61","v":98414},{"$f":"AR62*AO62","v":0}]
[{"$nulls":24},{"v":5,"d":"5.00"},18.3,0,1.83E-4,0,{"$f":"AD62-AB62*AD62*5","v":98220.619635},0,0,0,null,0,0,{"$f":"AK62-AK62*AJ62","v":100000},0,null,98312,0,8.0356416307266658E-4,8.0356416307266658E-4,{"$f":"AR62-AR62*AQ62","v":98312},0]
[{"$nulls":24},{"v":10,"d":"10.00"},25,0,0.00025,0,{"$f":"AD63-AB63*AD63*5","v":98130.74776803397},0,0,0,null,0,0,100000,0,null,98233,0,6.4133234249183068E-4,6.4133234249183068E-4,98233,0]
[{"$nulls":24},{"v":15,"d":"15.00"},94.9,0,9.4900000000000008E-4,0,98008.08433332392,0,0,0,null,0,0,100000,0,null,98170,0,0.000539879800346338,0.000539879800346338,98170,0]
[{"$nulls":24},{"v":20,"d":"20.00"},142,0,1.42E-3,0,97543.03597316229,0,0,0,null,0,0,100000,0,null,98117,0,4.8921185931082283E-4,4.8921185931082283E-4,98117,0]
[{"$nulls":24},{"v":25,"d":"25.00"},141.9,0.3,1.4190000000000001E-3,3e-06,96850.48041775284,0,{"$f":"AC67*AE67*5","v":0},0,null,0,0,100000,0,null,98069,0,4.4866369596916459E-4,4.4866369596916459E-4,98069,0]
[{"$nulls":24},{"v":30,"d":"30.00"},157.3,0.8,1.5730000000000002E-3,8e-06,96163.32625918889,0,0,0,null,0,0,100000,0,null,98025,0,4.1826064779393009E-4,4.1826064779393009E-4,98025,0]
[{"$nulls":24},{"v":35,"d":"35.00"},209.8,3.3,2.098E-3,3.2999999999999996E-5,95407.00169816037,0,0,0,null,0,0,100000,0,null,97984,0,3.6740692357935988E-4,3.6740692357935988E-4,97984,0]
[{"$nulls":24},{"v":40,"d":"40.00"},303.3,10.4,0.003033,1.0400000000000001E-4,94406.18225034667,0,0,0,null,0,0,100000,0,null,97948,0,3.1649446645158657E-4,3.1649446645158657E-4,97948,0]
[{"$nulls":24},{"v":45,"d":"45.00"},461.7,26,0.004617,0.00026,92974.51249652015,0,0,0,null,0,0,100000,0,null,97917,0,2.757437421489629E-4,2.757437421489629E-4,97917,0]
[{"$nulls":24},{"v":50,"d":"50.00"},658.3,54.6,6.5829999999999994E-3,0.000546,90828.19587553799,0,0,0,null,0,0,100000,0,null,97890,0,2.7581979773214831E-4,2.7581979773214831E-4,97890,0]
[{"$nulls":24},{"v":55,"d":"55.00"},1007.5,118,0.010075,0.00118,87838.58580829465,0,0,0,null,0,0,100000,0,null,97863,0,0.000357642827217641,0.000357642827217641,97863,0]
[{"$nulls":24},{"v":60,"d":"60.00"},1565.5,206.2,0.015655,2.062E-3,83413.71704820181,0,0,0,null,0,0,100000,0,null,97828,0,5.3154516089463141E-4,5.3154516089463141E-4,97828,0]
[{"$nulls":24},{"v":65,"d":"65.00"},2399.3,327.5,0.023993,0.003275,76884.50834625382,0,0,0,null,0,0,100000,0,null,97776,0,7.7728685976108651E-4,7.7728685976108651E-4,97776,0]
[{"$nulls":24},{"v":70,"d":"70.00"},3705.4,444,0.037054000000000004,0.00444,67661.05830249548,0,0,0,null,0,0,100000,0,null,97700,0,1.0440122824974412E-3,1.0440122824974412E-3,97700,0]
[{"$nulls":24},{"v":75,"d":"75.00"},5591.2,507.3,0.055911999999999996,0.005073,55125.49403079214,0,0,0,null,0,0,100000,0,null,97598,0,1.3012561732822395E-3,1.3012561732822395E-3,97598,0]
[{"$nulls":24},{"v":80,"d":"80.00"},8956.9,549.6,0.089569,5.496E-3,39714.61091954389,0,0,0,null,0,0,100000,0,null,97471,0,1.5184003447179161E-3,1.5184003447179161E-3,97471,0]
[{"$nulls":24},{"v":85,"d":"85.00"},16605.4,499,0.166054,0.00499,21928.620992280757,0,0,0,null,0,0,100000,0,null,97323,0,1.6851104055567543E-3,1.6851104055567543E-3,97323,0]
[{"$nulls":34},0,0,100000,0,null,97159,0,1.7908788686585905E-3,1.7908788686585905E-3,97159,0]
[{"$nulls":34},0,0,100000,0,null,96985,0,1.8972005980306232E-3,1.8972005980306232E-3,96985,0]
[{"$nulls":32},{"$f":"SUM(AG61:AG79)/100000*1000000","v":0},null,0,0,100000,0,null,96801,0,2.0041115277734736E-3,2.0041115277734736E-3,96801,0]
[{"$nulls":34},0,0,100000,0,null,96607,0,0.002070243357106628,0.002070243357106628,96607,0]
[{"$nulls":34},0,0,100000,0,null,96407,0,0.002074538155943033,0.002074538155943033,96407,0]
[{"$nulls":34},0,0,100000,0,null,96207,0,2.0476680491024564E-3,2.0476680491024564E-3,96207,0]
[{"$nulls":24},"Lung cancer female",{"$nulls":9},0,0,100000,0,null,96010,0,2.0102072700760336E-3,2.0102072700760336E-3,96010,0]
[{"$nulls":30},"P",{"$nulls":3},0,0,100000,0,null,95817,0,1.9725100973731176E-3,1.9725100973731176E-3,95817,0]
[{"$nulls":24},{"v":0,"d":"0.00"},654.3,0,{"$f":"Z88/100000","v":0.006542999999999999},{"$f":"AA88/100000","v":0},{"$f":"100000","v":100000},{"$f":"IF(Y88<10,0,IF(AND(OR(Y88>10,Y88=10),Y88<10+$H$63),$H$60*$H$62*(Y88-10),$H$60*$H$62*Y88))","v":0},{"$f":"AC88*AE88","v":0},{"$f":"AD88*AF88","v":0},null,0,0,100000,0,null,95628,0,1.9241226419040448E-3,1.9241226419040448E-3,95628,0]
[{"$nulls":24},{"v":1,"d":"1.00"},29.1,0,{"$f":"Z89/100000","v":0.000291},0,{"$f":"AD88-AB88*AD88*2","v":98691.4},{"$f":"IF(Y89<10,0,IF(AND(OR(Y89>10,Y89=10),Y89<10+$H$63),$H$60*$H$62*(Y89-10),$H$60*$H$62*Y89))","v":0},{"$f":"AC89*AE89","v":0},0,null,0,0,100000,0,null,95444,0,1.8963999832362433E-3,1.8963999832362433E-3,95444,0]
[{"$nulls":24},{"v":5,"d":"5.00"},14.5,0,1.45E-4,0,{"$f":"AD89-AB89*AD89*5","v":98547.804013},0,0,0,null,0,0,100000,0,null,95263,0,1.8790086392408386E-3,1.8790086392408386E-3,95263,0]
[{"$nulls":24},{"v":10,"d":"10.00"},16.6,0,1.6600000000000002E-4,0,{"$f":"AD90-AB90*AD90*5","v":98476.35685509058},0,0,0,null,0,0,100000,0,null,95084,0,1.8615119262967482E-3,1.8615119262967482E-3,95084,0]
[{"$nulls":24},{"v":15,"d":"15.00"},40,0,0.0004,0,98394.62147890085,0,0,0,null,0,0,100000,0,null,94907,0,1.8649836155394228E-3,1.8649836155394228E-3,94907,0]
[{"$nulls":24},{"v":20,"d":"20.00"},48.2,0,0.000482,0,98197.83223594305,0,0,0,null,0,0,100000,0,null,94730,0,1.8895809141771351E-3,1.8895809141771351E-3,94730,0]
[{"$nulls":24},{"v":25,"d":"25.00"},56.5,0,0.000565,0,97961.17546025442,0,0,0,null,0,0,100000,0,null,94551,0,1.9671923089126502E-3,1.9671923089126502E-3,94551,0]
[{"$nulls":24},{"v":30,"d":"30.00"},76,0.9,0.00076,9e-06,97684.4351395792,0,{"$f":"AC95*AE95*5","v":0},0,null,0,0,100000,0,null,94365,0,2.087638425263604E-3,2.087638425263604E-3,94365,0]
[{"$nulls":24},{"v":35,"d":"35.00"},115.1,2.6,0.001151,2.6000000000000002E-5,97313.2342860488,0,0,0,null,0,0,100000,0,null,94168,0,2.2300569195480417E-3,2.2300569195480417E-3,94168,0]
[{"$nulls":24},{"v":40,"d":"40.00"},172.2,8.1,1.7219999999999998E-3,8.099999999999999E-5,96753.19662273259,0,0,0,null,0,0,100000,0,null,93958,0,2.3840439345239363E-3,2.3840439345239363E-3,93958,0]
[{"$nulls":24},{"v":45,"d":"45.00"},254,16.6,0.00254,1.6600000000000002E-4,95920.15159981087,0,0,0,null,0,0,100000,0,null,93734,0,2.5711054686666525E-3,2.5711054686666525E-3,93734,0]
[{"$nulls":24},{"v":50,"d":"50.00"},386.3,35.1,0.003863,0.000351,94701.96567449327,0,0,0,null,0,0,100000,0,null,93493,0,0.002770260875145733,0.002770260875145733,93493,0]
[{"$nulls":24},{"v":55,"d":"55.00"},611.8,70.9,0.006117999999999999,7.090000000000001E-4,92872.79720749044,0,0,0,null,0,0,100000,0,null,93234,0,2.992470557950962E-3,2.992470557950962E-3,93234,0]
[{"$nulls":24},{"v":60,"d":"60.00"},982,122.3,0.00982,0.001223,90031.8183409133,0,0,0,null,0,0,100000,0,null,92955,0,3.2488838685385403E-3,3.2488838685385403E-3,92955,0]
[{"$nulls":24},{"v":65,"d":"65.00"},1527.5,181.6,0.015275,0.001816,85611.25606037446,0,0,0,null,0,0,100000,0,null,92653,0,3.5508834036674475E-3,3.5508834036674475E-3,92653,0]
[{"$nulls":24},{"v":70,"d":"70.00"},2381.8,238.7,0.023818000000000002,0.002387,79072.69637876336,0,0,0,null,0,0,100000,0,null,92324,0,3.8776482821368226E-3,3.8776482821368226E-3,92324,0]
[{"$nulls":24},{"v":75,"d":"75.00"},3812.6,268.6,0.038126,2.686E-3,69655.92896701643,0,0,0,null,0,0,100000,0,null,91966,0,0.004251571232846921,0.004251571232846921,91966,0]
[{"$nulls":24},{"v":80,"d":"80.00"},6444.8,272.8,0.064448,2.728E-3,56377.41922803409,0,0,0,null,0,0,100000,0,null,91575,0,0.004673764673764674,0.004673764673764674,91575,0]
[{"$nulls":24},{"v":85,"d":"85.00"},14768.6,213.5,0.147686,0.002135,38210.35965599238,0,0,0,null,0,0,100000,0,null,91147,0,0.005123591560885163,0.005123591560885163,91147,0]
[{"$nulls":34},0,0,100000,0,null,90680,0,5.6241729157476845E-3,5.6241729157476845E-3,90680,0]
[{"$nulls":34},0,0,100000,0,null,90170,0,6.177220805145836E-3,6.177220805145836E-3,90170,0]
[{"$nulls":32},{"$f":"SUM(AG88:AG106)/100000*1000000","v":0},null,0,0,100000,0,null,89613,0,0.006818207179761865,0.006818207179761865,89613,0]
[{"$nulls":34},0,0,100000,0,null,89002,0,0.007505449315745713,0.007505449315745713,89002,0]
[{"$nulls":24},"Lung cancer both genders",{"$nulls":9},0,0,100000,0,null,88334,0,0.0082754092421944,0.0082754092421944,88334,0]
[{"$nulls":25},"Total death/100,000","Lung cancer, per 100,000",{"$nulls":3},"P",{"$nulls":3},0,0,100000,0,null,87603,0,0.00910927707955207,0.00910927707955207,87603,0]
[{"$nulls":23},{"v":0,"d":"0.00"},{"$f":"X113-$O$51","v":{"v":-18,"d":"-18.00"}},{"$f":"(Z61+Z88)/2","v":727.0999999999999},{"$f":"(AA61+AA88)/2","v":0},{"$f":"Z113/100000","v":0.007270999999999999},{"$f":"AA113/100000","v":0},{"$f":"100000","v":100000},{"$f":"IF(Y113<10,0,IF(AND(OR(Y113>10,Y113=10),Y113<10+$H$63),$H$60*$H$62*(Y113-10),$H$60*$H$62*Y113))","v":0},{"$f":"AC113*AE113","v":0},{"$f":"AD113*AF113","v":0},null,0,0,100000,0,null,86805,0,0.009953343701399688,0.009953343701399688,86805,0]
[{"$nulls":23},{"v":1,"d":"1.00"},{"$f":"X114-$O$51","v":{"v":-17,"d":"-17.00"}},{"$f":"(Z62+Z89)/2","v":32.8},0,{"$f":"Z114/100000","v":3.2799999999999995E-4},0,{"$f":"AD113-AB113*AD113*2","v":98545.8},{"$f":"IF(Y114<10,0,IF(AND(OR(Y114>10,Y114=10),Y114<10+$H$63),$H$60*$H$62*(Y114-10),$H$60*$H$62*Y114))","v":0},{"$f":"AC114*AE114","v":0},0,null,0,0,100000,0,null,85941,0,0.010809741566888912,0.010809741566888912,85941,0]
[{"$nulls":23},{"v":5,"d":"5.00"},{"v":-13,"d":"-13.00"},16.4,0,1.6399999999999997E-4,0,{"$f":"AD114-AB114*AD114*5","v":98384.184888},0,0,0,null,0,0,100000,0,null,85012,0,0.011715993036277232,0.011715993036277232,85012,0]
[{"$nulls":23},{"v":10,"d":"10.00"},{"v":-8,"d":"-8.00"},20.8,0,2.0800000000000001E-4,0,{"$f":"AD115-AB115*AD115*5","v":98303.50985639184},0,0,0,null,0,0,100000,0,null,84016,0,0.012640449438202247,0.012640449438202247,84016,0]
[{"$nulls":23},{"v":15,"d":"15.00"},{"v":-3,"d":"-3.00"},67.45,0,6.7450000000000008E-4,0,98201.2742061412,0,0,0,null,0,0,100000,0,null,82954,0,0.013658171998939171,0.013658171998939171,82954,0]
[{"$nulls":23},{"v":20,"d":"20.00"},{"v":2,"d":"2.00"},95.1,0,9.5099999999999991E-4,0,97870.09040888099,0,0,0,null,0,0,100000,0,null,81821,0,0.014910597523863067,0.014910597523863067,81821,0]
[{"$nulls":23},{"v":25,"d":"25.00"},{"v":7,"d":"7.00"},99.2,0.15,0.000992,1.5E-6,97404.71812898676,0,{"$f":"AC119*AE119*5","v":0},0,null,0,0,100000,0,null,80601,0,0.016463815585414574,0.016463815585414574,80601,0]
[{"$nulls":23},{"v":30,"d":"30.00"},{"v":12,"d":"12.00"},116.65,0.8500000000000001,1.1665E-3,8.5000000000000016E-6,96921.59072706698,0,{"$f":"AC120*AE120*5","v":0},0,null,0,0,100000,0,null,79274,0,0.018265761788228172,0.018265761788228172,79274,0]
[{"$nulls":23},{"v":35,"d":"35.00"},{"v":17,"d":"17.00"},162.45,2.95,1.6244999999999999E-3,2.9500000000000002E-5,96356.29554915137,0,0,0,null,0,0,100000,0,null,77826,0,0.02025030195564464,0.02025030195564464,77826,0]
[{"$nulls":23},{"v":40,"d":"40.00"},{"v":22,"d":"22.00"},237.75,9.25,0.0023775,9.25e-05,95573.64153855339,0,0,0,null,0,0,100000,0,null,76250,0,0.022308196721311475,0.022308196721311475,76250,0]
[{"$nulls":23},{"v":45,"d":"45.00"},{"v":27,"d":"27.00"},357.85,21.3,0.0035785,2.13E-4,94437.50987476384,0,0,0,null,0,0,100000,0,null,74549,0,0.024292747052274345,0.024292747052274345,74549,0]
[{"$nulls":23},{"v":50,"d":"50.00"},{"v":32,"d":"32.00"},522.3,44.85,0.005222999999999999,0.0004485,92747.78672932963,0,0,0,null,0,0,100000,0,null,72738,0,0.026107399158624103,0.026107399158624103,72738,0]
[{"$nulls":23},{"v":55,"d":"55.00"},{"v":37,"d":"37.00"},809.65,94.45,0.0080965,0.0009445,90325.67827889319,0,0,0,null,0,0,100000,0,null,70839,0,0.027837772978161746,0.027837772978161746,70839,0]
[{"$nulls":23},{"v":60,"d":"60.00"},{"v":42,"d":"42.00"},1273.75,164.25,0.0127375,0.0016425,86669.06900796789,0,0,0,null,{"$f":"IF(J126<10,0, IF(AND(OR(J126>10, J126=10),J126<10+$H$63),$H$61*$H$62*((J126-10)^3), $H$61*$H$62*((J126-10)^3-(J126-10-$H$63)^3)))","v":0},{"$f":"Q126+AI126","v":0},100000,{"$f":"AK126*AI126","v":0},null,68867,{"$f":"IF($J126<10,0, IF(AND(OR($J126>10, $J126=10),$J126<10+$H$63),$H$61*$H$62*(($J126-10)^3), $H$61*$H$62*(($J126-10)^3-($J126-10-$H$63)^3)))","v":0},{"$f":"(AN126-AN127)/AN126","v":0.02957875324901622},{"$f":"AP126+AO126","v":0.02957875324901622},68867,{"$f":"AR126*AO126","v":0}]
[{"$nulls":23},{"v":65,"d":"65.00"},{"v":47,"d":"47.00"},1963.4,254.55,0.019634000000000002,2.5455E-3,81149.33267552294,0,0,0,null,0,0,{"$f":"AK126-AK126*AJ126","v":100000},0,null,66830,0,0.03154272033517881,0.03154272033517881,{"$f":"AR126-AR126*AQ126","v":66830},0]
[{"$nulls":23},{"v":70,"d":"70.00"},{"v":52,"d":"52.00"},3043.6000000000004,341.35,0.030436000000000005,3.4135000000000003E-3,73182.90268676684,0,0,0,null,0,0,100000,0,null,64722,0,0.0338679274435277,0.0338679274435277,64722,0]
[{"$nulls":23},{"v":75,"d":"75.00"},{"v":57,"d":"57.00"},4701.9,387.95000000000005,0.047019,3.8795000000000006E-3,62045.928555894665,0,0,0,null,0,0,100000,0,null,62530,0,0.036750359827282905,0.036750359827282905,62530,0]
[{"$nulls":23},{"v":80,"d":"80.00"},{"v":62,"d":"62.00"},7700.85,411.20000000000005,0.07700850000000001,0.004112,47459.24098204661,0,0,0,null,0,0,100000,0,null,60232,0,0.04012817107185549,0.04012817107185549,60232,0]
[{"$nulls":23},{"v":85,"d":"85.00"},{"v":67,"d":"67.00"},15687,356.25,0.15687,0.0035625,29185.416186216928,0,0,0,null,0,0,100000,0,null,57815,0,0.04377756637550809,0.04377756637550809,57815,0]
[{"$nulls":34},0,0,100000,0,null,55284,0,0.04760871138123146,0.04760871138123146,55284,0]
[{"$nulls":34},0,0,100000,0,null,52652,0,0.05183088961482945,0.05183088961482945,52652,0]
[{"$nulls":32},{"$f":"SUM(AG113:AG131)/100000*1000000","v":0},null,0,0,100000,0,null,49923,0,0.0564869899645454,0.0564869899645454,49923,0]
[{"$nulls":34},0,0,100000,0,null,47103,0,0.061567203787444534,0.061567203787444534,47103,0]
[{"$nulls":34},0,0,100000,0,null,44203,0,0.06703164943555867,0.06703164943555867,44203,0]
[{"$nulls":34},0,0,100000,0,null,41240,0,0.07286614936954414,0.07286614936954414,41240,0]
[{"$nulls":34},0,0,100000,0,null,38235,0,0.0790113770105924,0.0790113770105924,38235,0]
[{"$nulls":34},0,0,100000,0,null,35214,0,0.08539217356733117,0.08539217356733117,35214,0]
[{"$nulls":34},0,0,100000,0,null,32207,0,0.0919365355357531,0.0919365355357531,32207,0]
[{"$nulls":34},0,0,100000,0,null,29246,0,0.09850919783902072,0.09850919783902072,29246,0]
[{"$nulls":34},0,0,100000,0,null,26365,0,0.10487388583349137,0.10487388583349137,26365,0]
[{"$nulls":34},0,0,100000,0,null,23600,0,0.11059322033898306,0.11059322033898306,23600,0]
[{"$nulls":34},0,0,100000,0,null,20990,0,0.11495950452596475,0.11495950452596475,20990,0]
[{"$nulls":34},0,0,100000,0,null,18577,0,0.11702643053237875,0.11702643053237875,18577,0]
[{"$nulls":34},0,0,100000,0,null,16403,0,1,1,16403,0]
[{"$nulls":34},0,0,100000,0]
[{"$nulls":34},0,0,100000,0]
[{"$nulls":34},0,0,100000,0]
[{"$nulls":34},0,0,100000,0]
[{"$nulls":34},0,0,100000,0]
[{"$nulls":34},0,0,100000,0]
[{"$nulls":34},0,0,100000,0]
[{"$nulls":34},0,0,100000,0]
[{"$nulls":34},0,0,100000,0]
[{"$nulls":34},0,0,100000,0]
[{"$nulls":34},0,0,100000,0]
[{"$nulls":34},0,0,100000,0]
[{"$nulls":34},0,0,100000,0]
[{"$nulls":34},0,0,100000,0]
[{"$nulls":34},0,0,100000,0]
[{"$nulls":34},0,0,100000,0]
[{"$nulls":34},0,0,100000,0]
[{"$nulls":34},0,0,100000,0]
[{"$nulls":34},0,0,100000,0]
[{"$nulls":34},0,0,100000,0]
[{"$nulls":34},0,0,100000,0]
[{"$nulls":34},0,0,100000,0]
[{"$nulls":34},0,0,100000,0]
[{"$nulls":34},0,0,100000,0]
[{"$nulls":34},0,0,100000,0]
[{"$nulls":34},0,0,100000,0]
[{"$nulls":34},0,0,100000,0]
[{"$nulls":34},0,0,100000,0]
[{"$nulls":34},0,0,100000,0]
[{"$nulls":34},0,0,100000,0]
[{"$nulls":34},0,0,100000,0]
[{"$nulls":34},0,0,100000,0]
[{"$nulls":34},0,0,100000,0]
[{"$nulls":34},0,0,100000,0]
[]
[{"$nulls":37},"Both genders mesothelioma",{"$nulls":6},"Male mesethelioma 1977"]
[{"$nulls":37},{"$f":"SUM(AL61:AL180)/100000*1000000","v":0},{"$nulls":6},{"$f":"SUM(AS61:AS180)/100000*1000000","v":0}]
[]
[]
[]
["Hodgson and Darnton, 2000 ","Occupational Equivalent, Total Exposure, F/CC Years","Lung Cancer Lifetime Excess Risk, per 1,000000","Age at Onset Correction Factor","Pleural Mesothelioma Lifetime Excess Risk, per 1,000,000","Peritoneal Mesothelioma Lifetime Excess Risk, per 1,000,000","Total Excess Risk, per 1,000,000","LUNG CANCER RELATIVE RISK"]
["Tremolite",{"$f":"N54","v":{"v":4.500000000000001,"d":"4.50E+00"}},{"$f":"1.6*(B188^1.3)*54/1000*1000000/100/IF($O$51+$B$18>47,1+($O$51+$B$18-47)*((0.44)^($O$51/10)+0.0063*(3.13)^($O$51/10))/10,1)","v":{"v":4228.9404021012,"d":"4228.94"}},{"$f":"10^(1.0787-0.0368*O51)","v":{"v":2.6079544390266034,"d":"2.61"}},{"$f":"0.13*(B188^0.75)*1000000/100*D188*0.7/EXP(-0.0052565+0.0230034*$B$18-0.002521*$O$51)","v":{"v":2739.553750415997,"d":"2739.55"}},{"$f":"0.0006*(B188^2.1)*100000/100*10*D188*0.7/EXP(-0.1027213+0.0465332*$B$18-0.0016009*$O$51)","v":{"v":36.225262433911254,"d":"36.23"}},{"$f":"C188+E188+F188","v":{"v":7004.719414951108,"d":"7004.7194150"}},{"$f":"(1.6*(B188^1.3))/100+1","v":{"v":1.1130566858983844,"d":"1.11306"}},{"$f":"E188+F188","v":{"v":2775.779012849908,"d":"2775.78"}}]
["Chrysotile",{"$f":"N53","v":{"v":22.5,"d":"2.25E+01"}},{"$f":"0.028*(B189^1.3)*54/1000*1000000/100/IF(O51+B18>47,1+(O51+B18-47)*((0.44)^(O51/10)+0.0063*(3.13)^(O51/10))/10,1)","v":{"v":599.6952639725117,"d":"599.70"}},{"$f":"10^(1.0787-0.0368*O51)","v":{"v":2.6079544390266034,"d":"2.61"}},{"$f":"1.4*0.0047*(B189^0.75)*1000000/100*D189*0.7/EXP(-0.0052565+0.0230034*B18-0.002521*O51)","v":{"v":463.6495795936697,"d":"463.65"}},{"$f":"0*(B189^2.1)*100000/100*10*D189*0.7","v":{"v":0,"d":"0.00E+00"}},{"$f":"C189+E189+F189","v":{"v":1063.3448435661815,"d":"1063.3448436"}},{"$f":"(0.028*(B189^1.3))/100+1","v":{"v":1.0160322805826258,"d":"1.01603"}},{"$f":"E189+F189","v":{"v":463.6495795936697,"d":"463.65"}}]
["Crocidolite",{"$f":"N56","v":{"v":0.225,"d":"2.25E-01"}},{"$f":"1.6*(B190^1.3)*54/1000*1000000/100/IF(O51+B18>47,1+(O51+B18-47)*((0.44)^(O51/10)+0.0063*(3.13)^(O51/10))/10,1)","v":{"v":86.07807980646336,"d":"86.08"}},{"$f":"10^(1.0787-0.0368*O51)","v":{"v":2.6079544390266034,"d":"2.61"}},{"$f":"0.94*(B190^0.75)*1000000/100*D190*0.7/EXP(-0.0052565+0.0230034*B18-0.002521*O51)","v":{"v":2094.5552967078897,"d":"2094.56"}},{"$f":"0.0022*(B190^2.1)*100000/100*10*D190*0.7/EXP(-0.1027213+0.0465332*B18-0.0016009*O51)","v":{"v":0.2461047409123546,"d":"0.25"}},{"$f":"C190+E190+F190","v":{"v":2180.8794812552655,"d":"2180.8794813"}},{"$f":"(1.6*(B190^1.3))/100+1","v":{"v":1.0023012153178088,"d":"1.00230"}}]
["Amosite",{"$f":"N58","v":{"v":0.63,"d":"6.30E-01"}},{"$f":"1.6*(B191^1.3)*54/1000*1000000/100/IF($O$51+$B$18>47,1+($O$51+$B$18-47)*((0.44)^($O$51/10)+0.0063*(3.13)^($O$51/10))/10,1)","v":{"v":328.24491815037715,"d":"328.24"}},{"$f":"10^(1.0787-0.0368*O51)","v":{"v":2.6079544390266034,"d":"2.61"}},{"$f":"0.13*(B191^0.75)*1000000/100*D191*0.7/EXP(-0.0052565+0.0230034*$B$18-0.002521*$O$51)","v":{"v":627.0119998878528,"d":"627.01"}},{"$f":"0.0006*(B191^2.1)*100000/100*10*D191*0.7/EXP(-0.1027213+0.0465332*$B$18-0.0016009*$O$51)","v":{"v":0.5832844725113235,"d":"0.58"}},{"$f":"C191+E191+F191","v":{"v":955.8402025107413,"d":"955.8402025"}},{"$f":"(1.6*(B191^1.3))/100+1","v":{"v":1.0087753146368839,"d":"1.00878"}}]
["Moolgavkar, 2010 for Libby, Montana, Lifetable Method",{"$nulls":9},"Male",null,null,"Female ",null,null,"Total"]
[{"$nulls":6},"Kl",{"$f":"0.11*10^(-2)","v":0.0011},null,null,"Probability of death ",null,"LE","Probability of death","Sx (surviving till age x)","LE","Probability of death",null,null,"Mesothelioma male",{"$nulls":4},"Lung cancer male",{"$nulls":5},"P",{"$nulls":3},"Mesothelioma both genders",{"$nulls":4},"mesothelioma male 1977 ",null,"Death rate"]
[{"$nulls":6},"Km",{"$f":"0.5*10^(-8)","v":5e-09},0,{"$f":"I194-$O$51","v":-18},0.007379,{"v":100000,"d":"100,000"},75.38,0.006096,{"v":100000,"d":"100,000"},80.43,{"$f":"(K194+N194)/2","v":0.0067375},100000,null,{"$f":"IF($J194<10,0, IF(AND(OR($J194>10, $J194=10),$J194<10+$H$63),$H$61*$H$62*(($J194-10)^3), $H$61*$H$62*(($J194-10)^3-($J194-10-$H$63)^3)))","v":0},{"$f":"K194+T194","v":0.007379},{"$f":"100000","v":100000},{"$f":"V194*T194","v":0},null,{"v":0,"d":"0.00"},799.9,0,{"$f":"Z194/100000","v":0.007999},{"$f":"AA194/100000","v":0},{"$f":"100000","v":100000},{"$f":"IF(Y194<10,0,IF(AND(OR(Y194>10,Y194=10),Y194<10+$H$63),$H$60*$H$62*(Y194-10),$H$60*$H$62*Y194))","v":0},{"$f":"AC194*AE194","v":0},{"$f":"AD194*AF194","v":0},null,{"$f":"IF(J194<10,0, IF(AND(OR(J194>10, J194=10),J194<10+$H$196),$H$194*$H$195*((J194-10)^3), $H$194*$H$195*((J194-10)^3-(J194-10-$H$196)^3)))","v":0},{"$f":"Q194+AI194","v":0.0067375},{"$f":"100000","v":100000},{"$f":"AK194*AI194","v":0},null,100000,{"$f":"IF($J194<10,0, IF(AND(OR($J194>10, $J194=10),$J194<10+$H$63),$H$61*$H$62*(($J194-10)^3), $H$61*$H$62*(($J194-10)^3-($J194-10-$H$63)^3)))","v":0},{"$f":"(AN194-AN195)/AN194","v":0.01586},{"$f":"AP194+AO194","v":0.01586},{"$f":"100000","v":100000},{"$f":"AR194*AO194","v":0}]
[{"$nulls":6},"f",{"$f":"M51*2.8","v":{"$error":"#REF!"}},1,{"$f":"I195-$O$51","v":-17},0.000494,{"v":99262,"d":"99,262"},74.94,0.000434,{"v":99390,"d":"99,390"},79.92,{"$f":"(K195+N195)/2","v":4.64E-4},{"$f":"R194-Q194*R194","v":99326.25},null,{"$f":"IF($J195<10,0, IF(AND(OR($J195>10, $J195=10),$J195<10+$H$63),$H$61*$H$62*(($J195-10)^3), $H$61*$H$62*(($J195-10)^3-($J195-10-$H$63)^3)))","v":0},{"$f":"K195+T195","v":0.000494},{"$f":"V194-V194*U194","v":99262.1},{"$f":"V195*T195","v":0},null,{"v":1,"d":"1.00"},36.5,0,{"$f":"Z195/100000","v":0.000365},0,{"$f":"AD194-AB194*AD194*2","v":98400.2},{"$f":"IF(Y195<10,0,IF(AND(OR(Y195>10,Y195=10),Y195<10+$H$63),$H$60*$H$62*(Y195-10),$H$60*$H$62*Y195))","v":0},{"$f":"AC195*AE195","v":0},0,null,{"$f":"IF(J195<10,0, IF(AND(OR(J195>10, J195=10),J195<10+$H$196),$H$194*$H$195*((J195-10)^3), $H$194*$H$195*((J195-10)^3-(J195-10-$H$196)^3)))","v":0},{"$f":"Q195+AI195","v":4.64E-4},{"$f":"AK194-AK194*AJ194","v":99326.25},{"$f":"AK195*AI195","v":0},null,98414,{"$f":"IF($J195<10,0, IF(AND(OR($J195>10, $J195=10),$J195<10+$H$63),$H$61*$H$62*(($J195-10)^3), $H$61*$H$62*(($J195-10)^3-($J195-10-$H$63)^3)))","v":0},{"$f":"(AN195-AN196)/AN195","v":1.0364379051760928E-3},{"$f":"AP195+AO195","v":1.0364379051760928E-3},{"$f":"AR194-AR194*AQ194","v":98414},{"$f":"AR195*AO195","v":0}]
[{"$nulls":6},"d",{"$f":"H51","v":45},2,-16,0.000317,{"v":99213,"d":"99,213"},73.98,0.000256,{"v":99347,"d":"99,347"},78.95,2.8649999999999997E-4,{"$f":"R195-Q195*R195","v":99280.16262},null,0,0.000317,{"$f":"V195-V195*U195","v":99213.0645226},0,null,{"v":5,"d":"5.00"},18.3,0,1.83E-4,0,{"$f":"AD195-AB195*AD195*5","v":98220.619635},0,0,0,null,0,2.8649999999999997E-4,{"$f":"AK195-AK195*AJ195","v":99280.16262},0,null,98312,0,8.0356416307266658E-4,8.0356416307266658E-4,{"$f":"AR195-AR195*AQ195","v":98312},0]
[{"$nulls":8},3,-15,2.41E-4,{"v":99182,"d":"99,182"},73,1.92E-4,{"v":99322,"d":"99,322"},77.97,2.165E-4,99251.71885340937,null,0,2.41E-4,99181.61398114634,0,null,{"v":10,"d":"10.00"},25,0,0.00025,0,{"$f":"AD196-AB196*AD196*5","v":98130.74776803397},0,0,0,null,0,2.165E-4,99251.71885340937,0,null,98233,0,6.4133234249183068E-4,6.4133234249183068E-4,98233,0]
[{"$nulls":8},4,-14,0.0002,{"v":99158,"d":"99,158"},72.02,0.000148,{"v":99303,"d":"99,303"},76.99,1.74E-4,99230.23085627762,null,0,0.0002,99157.71121217687,0,null,{"v":15,"d":"15.00"},94.9,0,9.4900000000000008E-4,0,98008.08433332392,0,0,0,null,0,1.74E-4,99230.23085627762,0,null,98170,0,0.000539879800346338,0.000539879800346338,98170,0]
[{"$nulls":8},5,-13,0.000179,{"v":99138,"d":"99,138"},71.03,1.36E-4,{"v":99288,"d":"99,288"},76,1.5749999999999998E-4,99212.96479610863,null,0,0.000179,99137.87966993444,0,null,{"v":20,"d":"20.00"},142,0,1.42E-3,0,97543.03597316229,0,0,0,null,0,1.5749999999999998E-4,99212.96479610863,0,null,98117,0,4.8921185931082283E-4,4.8921185931082283E-4,98117,0]
[{"$nulls":8},6,-12,1.66E-4,{"v":99120,"d":"99,120"},70.04,0.000128,{"v":99275,"d":"99,275"},75.01,1.47E-4,99197.33875415324,null,0,1.66E-4,99120.13398947351,0,null,{"v":25,"d":"25.00"},141.9,0.3,1.4190000000000001E-3,3e-06,96850.48041775284,0,{"$f":"AC200*AE200*5","v":0},0,null,0,1.47E-4,99197.33875415324,0,null,98069,0,4.4866369596916459E-4,4.4866369596916459E-4,98069,0]
[{"$nulls":8},7,-11,0.000152,{"v":99104,"d":"99,104"},69.05,1.22E-4,{"v":99262,"d":"99,262"},74.02,1.37E-4,99182.75674535638,null,0,0.000152,99103.68004723126,0,null,{"v":30,"d":"30.00"},157.3,0.8,1.5730000000000002E-3,8e-06,96163.32625918889,0,0,0,null,0,1.37E-4,99182.75674535638,0,null,98025,0,4.1826064779393009E-4,4.1826064779393009E-4,98025,0]
[{"$nulls":6},"Libby Amphibole",{"$f":"AG267+AL316","v":{"$error":"#REF!"}},8,-10,0.000133,{"v":99089,"d":"99,089"},68.06,1.15E-4,{"v":99250,"d":"99,250"},73.03,0.000124,99169.16870768227,null,0,0.000133,99088.61628786408,0,null,{"v":35,"d":"35.00"},209.8,3.3,2.098E-3,3.2999999999999996E-5,95407.00169816037,0,0,0,null,0,0.000124,99169.16870768227,0,null,97984,0,3.6740692357935988E-4,3.6740692357935988E-4,97984,0]
[{"$nulls":8},9,-9,1.08E-4,{"v":99075,"d":"99,075"},67.07,1.06E-4,{"v":99238,"d":"99,238"},72.04,1.07E-4,99156.87173076252,null,0,1.08E-4,99075.43750189779,0,null,{"v":40,"d":"40.00"},303.3,10.4,0.003033,1.0400000000000001E-4,94406.18225034667,0,0,0,null,0,1.07E-4,99156.87173076252,0,null,97948,0,3.1649446645158657E-4,3.1649446645158657E-4,97948,0]
[{"$nulls":8},10,-8,8.9e-05,{"v":99065,"d":"99,065"},66.08,1E-4,{"v":99228,"d":"99,228"},71.04,9.4499999999999993E-5,99146.26194548733,null,0,8.9e-05,99064.73735464759,0,null,{"v":45,"d":"45.00"},461.7,26,0.004617,0.00026,92974.51249652015,0,0,0,null,0,9.4499999999999993E-5,99146.26194548733,0,null,97917,0,2.757437421489629E-4,2.757437421489629E-4,97917,0]
[{"$nulls":8},11,-7,9.4e-05,{"v":99056,"d":"99,056"},65.09,1.02E-4,{"v":99218,"d":"99,218"},70.05,9.8e-05,99136.89262373348,null,0,9.4e-05,99055.92059302302,0,null,{"v":50,"d":"50.00"},658.3,54.6,6.5829999999999994E-3,0.000546,90828.19587553799,0,0,0,null,0,9.8e-05,99136.89262373348,0,null,97890,0,2.7581979773214831E-4,2.7581979773214831E-4,97890,0]
[{"$nulls":8},12,-6,1.45E-4,{"v":99047,"d":"99,047"},64.09,1.2E-4,{"v":99208,"d":"99,208"},69.06,1.325E-4,99127.17720825635,null,0,1.45E-4,99046.60933648728,0,null,{"v":55,"d":"55.00"},1007.5,118,0.010075,0.00118,87838.58580829465,0,0,0,null,0,1.325E-4,99127.17720825635,0,null,97863,0,0.000357642827217641,0.000357642827217641,97863,0]
[{"$nulls":8},13,-5,2.52E-4,{"v":99032,"d":"99,032"},63.1,0.000157,{"v":99196,"d":"99,196"},68.07,2.0449999999999998E-4,99114.04285727626,null,0,2.52E-4,99032.2475781335,0,null,{"v":60,"d":"60.00"},1565.5,206.2,0.015655,2.062E-3,83413.71704820181,0,0,0,null,0,2.0449999999999998E-4,99114.04285727626,0,null,97828,0,5.3154516089463141E-4,5.3154516089463141E-4,97828,0]
[{"$nulls":8},14,-4,0.000401,{"v":99007,"d":"99,007"},62.12,0.000209,{"v":99180,"d":"99,180"},67.08,0.000305,99093.77403551195,null,0,0.000401,99007.2914517438,0,null,{"v":65,"d":"65.00"},2399.3,327.5,0.023993,0.003275,76884.50834625382,0,0,0,null,0,0.000305,99093.77403551195,0,null,97776,0,7.7728685976108651E-4,7.7728685976108651E-4,97776,0]
[{"$nulls":8},15,-3,0.000563,{"v":98968,"d":"98,968"},61.14,0.000267,{"v":99160,"d":"99,160"},66.09,4.15E-4,99063.55043443112,null,0,0.000563,98967.58952787165,0,null,{"v":70,"d":"70.00"},3705.4,444,0.037054000000000004,0.00444,67661.05830249548,0,0,0,null,0,4.15E-4,99063.55043443112,0,null,97700,0,1.0440122824974412E-3,1.0440122824974412E-3,97700,0]
[{"$nulls":8},16,-2,0.000719,{"v":98912,"d":"98,912"},60.18,0.000323,{"v":99133,"d":"99,133"},65.11,0.000521,99022.43906100083,null,0,0.000719,98911.87077496745,0,null,{"v":75,"d":"75.00"},5591.2,507.3,0.055911999999999996,0.005073,55125.49403079214,0,0,0,null,0,0.000521,99022.43906100083,0,null,97598,0,1.3012561732822395E-3,1.3012561732822395E-3,97598,0]
[{"$nulls":8},17,-1,0.000873,{"v":98841,"d":"98,841"},59.22,0.000369,{"v":99101,"d":"99,101"},64.13,0.000621,98970.84837025005,null,0,0.000873,98840.75313988025,0,null,{"v":80,"d":"80.00"},8956.9,549.6,0.089569,5.496E-3,39714.61091954389,0,0,{"$f":"AD211*AF211","v":0},null,0,0.000621,98970.84837025005,0,null,97471,0,1.5184003447179161E-3,1.5184003447179161E-3,97471,0]
[{"$nulls":8},18,0,0.001017,{"v":98754,"d":"98,754"},58.27,0.000401,{"v":99064,"d":"99,064"},63.15,0.000709,98909.38747341212,null,0,0.001017,98754.46516238914,0,null,{"v":85,"d":"85.00"},16605.4,499,0.166054,0.00499,21928.620992280757,0,0,0,null,0,0.000709,98909.38747341212,0,null,97323,0,1.6851104055567543E-3,1.6851104055567543E-3,97323,0]
[{"$nulls":8},19,1,0.001148,{"v":98654,"d":"98,654"},57.33,0.000422,{"v":99025,"d":"99,025"},62.18,7.85E-4,98839.26071769347,null,0,0.001148,98654.03187131899,0,{"$nulls":11},0,7.85E-4,98839.26071769347,0,null,97159,0,1.7908788686585905E-3,1.7908788686585905E-3,97159,0]
[{"$nulls":8},20,2,0.001285,{"v":98541,"d":"98,541"},56.4,0.000441,{"v":98983,"d":"98,983"},61.2,8.6299999999999994E-4,98761.67189803008,null,0,0.001285,98540.77704273071,0,{"$nulls":11},0,8.6299999999999994E-4,98761.67189803008,0,null,96985,0,1.8972005980306232E-3,1.8972005980306232E-3,96985,0]
[{"$nulls":8},21,3,0.001412,{"v":98414,"d":"98,414"},55.47,0.000463,{"v":98939,"d":"98,939"},60.23,0.0009375,98676.44057518207,null,0,0.001412,98414.1521442308,0,{"$nulls":9},{"$f":"SUM(AG194:AG212)/100000*1000000","v":0},null,0,0.0009375,98676.44057518207,0,null,96801,0,2.0041115277734736E-3,2.0041115277734736E-3,96801,0]
[{"$nulls":8},22,4,1.493E-3,{"v":98275,"d":"98,275"},54.54,0.000483,{"v":98894,"d":"98,894"},59.26,0.000988,98583.93141214285,null,0,1.493E-3,98275.19136140315,0,{"$nulls":11},0,0.000988,98583.93141214285,0,null,96607,0,0.002070243357106628,0.002070243357106628,96607,0]
[{"$nulls":8},23,5,1.513E-3,{"v":98128,"d":"98,128"},53.63,0.000499,{"v":98846,"d":"98,846"},58.29,0.001006,98486.53048790764,null,0,1.513E-3,98128.46650070058,0,{"$nulls":11},0,0.001006,98486.53048790764,0,null,96407,0,0.002074538155943033,0.002074538155943033,96407,0]
[{"$nulls":8},24,6,1.487E-3,{"v":97980,"d":"97,980"},52.71,5.13E-4,{"v":98796,"d":"98,796"},57.32,1E-3,98387.45303823681,null,0,1.487E-3,97979.99813088503,0,{"$nulls":11},0,1E-3,98387.45303823681,0,null,96207,0,2.0476680491024564E-3,2.0476680491024564E-3,96207,0]
[{"$nulls":8},25,7,1.446E-3,{"v":97834,"d":"97,834"},51.78,0.000528,{"v":98746,"d":"98,746"},56.35,0.000987,98289.06558519858,null,0,1.446E-3,97834.3018736644,0,null,"Lung cancer female",{"$nulls":9},0,0.000987,98289.06558519858,0,null,96010,0,2.0102072700760336E-3,2.0102072700760336E-3,96010,0]
[{"$nulls":8},26,8,0.001412,{"v":97693,"d":"97,693"},50.86,5.44E-4,{"v":98694,"d":"98,694"},55.38,9.7800000000000014E-4,98192.05427746598,null,0,0.001412,97692.83347315509,0,{"$nulls":7},"P",{"$nulls":3},0,9.7800000000000014E-4,98192.05427746598,0,null,95817,0,1.9725100973731176E-3,1.9725100973731176E-3,95817,0]
[{"$nulls":8},27,9,1.389E-3,{"v":97555,"d":"97,555"},49.93,0.000563,{"v":98640,"d":"98,640"},54.4,9.7600000000000009E-4,98096.02244838262,null,0,1.389E-3,97554.89119229099,0,null,{"v":0,"d":"0.00"},654.3,0,{"$f":"Z221/100000","v":0.006542999999999999},{"$f":"AA221/100000","v":0},{"$f":"100000","v":100000},{"$f":"IF(Y221<10,0,IF(AND(OR(Y221>10,Y221=10),Y221<10+$H$63),$H$60*$H$62*(Y221-10),$H$60*$H$62*Y221))","v":0},{"$f":"AC221*AE221","v":0},{"$f":"AD221*AF221","v":0},null,0,9.7600000000000009E-4,98096.02244838262,0,null,95628,0,1.9241226419040448E-3,1.9241226419040448E-3,95628,0]
[{"$nulls":8},28,10,0.001388,{"v":97419,"d":"97,419"},49,0.000585,{"v":98584,"d":"98,584"},53.44,0.0009865,98000.280730473,null,0,0.001388,97419.3874484249,0,null,{"v":1,"d":"1.00"},29.1,0,{"$f":"Z222/100000","v":0.000291},0,{"$f":"AD221-AB221*AD221*2","v":98691.4},{"$f":"IF(Y222<10,0,IF(AND(OR(Y222>10,Y222=10),Y222<10+$H$63),$H$60*$H$62*(Y222-10),$H$60*$H$62*Y222))","v":0},{"$f":"AC222*AE222","v":0},0,null,{"$error":"#REF!"},{"$error":"#REF!"},98000.280730473,{"$error":"#REF!"},null,95444,0,1.8963999832362433E-3,1.8963999832362433E-3,95444,0]
[{"$nulls":8},29,11,1.405E-3,{"v":97284,"d":"97,284"},48.07,0.000612,{"v":98527,"d":"98,527"},52.47,0.0010085,97903.60345353239,null,0,1.405E-3,97284.16933864648,0,null,{"v":5,"d":"5.00"},14.5,0,1.45E-4,0,{"$f":"AD222-AB222*AD222*5","v":98547.804013},0,0,0,null,{"$error":"#REF!"},{"$error":"#REF!"},{"$error":"#REF!"},{"$error":"#REF!"},null,95263,0,1.8790086392408386E-3,1.8790086392408386E-3,95263,0]
[{"$nulls":8},30,12,1.428E-3,{"v":97147,"d":"97,147"},47.13,0.000642,{"v":98466,"d":"98,466"},51.5,0.001035,97804.8676694495,null,0,1.428E-3,97147.48508072567,0,null,{"v":10,"d":"10.00"},16.6,0,1.6600000000000002E-4,0,{"$f":"AD223-AB223*AD223*5","v":98476.35685509058},0,0,0,null,{"$error":"#REF!"},{"$error":"#REF!"},{"$error":"#REF!"},{"$error":"#REF!"},null,95084,0,1.8615119262967482E-3,1.8615119262967482E-3,95084,0]
[{"$nulls":8},31,13,0.001453,{"v":97009,"d":"97,009"},46.2,6.78E-4,{"v":98403,"d":"98,403"},50.53,1.0655E-3,97703.63963141161,null,0,0.001453,97008.7584720304,0,null,{"v":15,"d":"15.00"},40,0,0.0004,0,98394.62147890085,0,0,0,null,{"$error":"#REF!"},{"$error":"#REF!"},{"$error":"#REF!"},{"$error":"#REF!"},null,94907,0,1.8649836155394228E-3,1.8649836155394228E-3,94907,0]
[{"$nulls":8},32,14,1.487E-3,{"v":96868,"d":"96,868"},45.27,0.000721,{"v":98336,"d":"98,336"},49.56,0.001104,97599.53640338435,null,0,1.487E-3,96867.80474597054,0,null,{"v":20,"d":"20.00"},48.2,0,0.000482,0,98197.83223594305,0,0,0,null,{"$error":"#REF!"},{"$error":"#REF!"},{"$error":"#REF!"},{"$error":"#REF!"},null,94730,0,1.8895809141771351E-3,1.8895809141771351E-3,94730,0]
[{"$nulls":8},33,15,1.529E-3,{"v":96724,"d":"96,724"},44.33,0.000771,{"v":98266,"d":"98,266"},48.6,1.15E-3,97491.78651519501,null,0,1.529E-3,96723.76232031328,0,null,{"v":25,"d":"25.00"},56.5,0,0.000565,0,97961.17546025442,0,0,0,null,{"$error":"#REF!"},{"$error":"#REF!"},{"$error":"#REF!"},{"$error":"#REF!"},null,94551,0,1.9671923089126502E-3,1.9671923089126502E-3,94551,0]
[{"$nulls":8},34,16,0.001584,{"v":96576,"d":"96,576"},43.4,0.00083,{"v":98190,"d":"98,190"},47.64,1.207E-3,97379.67096070254,null,0,0.001584,96575.87168772552,0,null,{"v":30,"d":"30.00"},76,0.9,0.00076,9e-06,97684.4351395792,0,{"$f":"AC228*AE228*5","v":0},0,null,{"$error":"#REF!"},{"$error":"#REF!"},{"$error":"#REF!"},{"$error":"#REF!"},null,94365,0,2.087638425263604E-3,2.087638425263604E-3,94365,0]
[{"$nulls":8},35,17,0.001651,{"v":96423,"d":"96,423"},42.47,0.000896,{"v":98108,"d":"98,108"},46.68,0.0012735,97262.13369785297,null,0,0.001651,96422.89550697217,0,null,{"v":35,"d":"35.00"},115.1,2.6,0.001151,2.6000000000000002E-5,97313.2342860488,0,0,0,null,{"$error":"#REF!"},{"$error":"#REF!"},{"$error":"#REF!"},{"$error":"#REF!"},null,94168,0,2.2300569195480417E-3,2.2300569195480417E-3,94168,0]
[{"$nulls":8},36,18,1.737E-3,{"v":96264,"d":"96,264"},41.54,0.000971,{"v":98020,"d":"98,020"},45.72,1.354E-3,97138.27037058875,null,0,1.737E-3,96263.70130649015,0,null,{"v":40,"d":"40.00"},172.2,8.1,1.7219999999999998E-3,8.099999999999999E-5,96753.19662273259,0,0,0,null,{"$error":"#REF!"},{"$error":"#REF!"},{"$error":"#REF!"},{"$error":"#REF!"},null,93958,0,2.3840439345239363E-3,2.3840439345239363E-3,93958,0]
[{"$nulls":8},37,19,0.001845,{"v":96096,"d":"96,096"},40.61,0.001056,{"v":97925,"d":"97,925"},44.76,1.4505E-3,97006.74515250698,null,0,0.001845,96096.49125732078,0,null,{"v":45,"d":"45.00"},254,16.6,0.00254,1.6600000000000002E-4,95920.15159981087,0,0,0,null,{"$error":"#REF!"},{"$error":"#REF!"},{"$error":"#REF!"},{"$error":"#REF!"},null,93734,0,2.5711054686666525E-3,2.5711054686666525E-3,93734,0]
[{"$nulls":8},38,20,0.001979,{"v":95919,"d":"95,919"},39.68,0.001153,{"v":97822,"d":"97,822"},43.81,0.001566,96866.03686866327,null,0,0.001979,95919.19323095103,0,null,{"v":50,"d":"50.00"},386.3,35.1,0.003863,0.000351,94701.96567449327,0,0,0,null,{"$error":"#REF!"},{"$error":"#REF!"},{"$error":"#REF!"},{"$error":"#REF!"},null,93493,0,0.002770260875145733,0.002770260875145733,93493,0]
[{"$nulls":8},39,21,2.14E-3,{"v":95729,"d":"95,729"},38.76,0.00126,{"v":97709,"d":"97,709"},42.86,1.7000000000000001E-3,96714.34465492694,null,0,2.14E-3,95729.36914754698,0,null,{"v":55,"d":"55.00"},611.8,70.9,0.006117999999999999,7.090000000000001E-4,92872.79720749044,0,0,0,null,{"$error":"#REF!"},{"$error":"#REF!"},{"$error":"#REF!"},{"$error":"#REF!"},null,93234,0,2.992470557950962E-3,2.992470557950962E-3,93234,0]
[{"$nulls":8},40,22,2.323E-3,{"v":95525,"d":"95,525"},37.84,1.377E-3,{"v":97586,"d":"97,586"},41.91,0.00185,96549.93026901357,null,0,2.323E-3,95524.50829757123,0,null,{"v":60,"d":"60.00"},982,122.3,0.00982,0.001223,90031.8183409133,0,0,0,null,{"$error":"#REF!"},{"$error":"#REF!"},{"$error":"#REF!"},{"$error":"#REF!"},null,92955,0,3.2488838685385403E-3,3.2488838685385403E-3,92955,0]
[{"$nulls":8},41,23,2.526E-3,{"v":95303,"d":"95,303"},36.93,1.506E-3,{"v":97452,"d":"97,452"},40.97,2.016E-3,96371.3128980159,null,0,2.526E-3,95302.60486479597,0,null,{"v":65,"d":"65.00"},1527.5,181.6,0.015275,0.001816,85611.25606037446,0,0,0,null,{"$error":"#REF!"},{"$error":"#REF!"},{"$error":"#REF!"},{"$error":"#REF!"},null,92653,0,3.5508834036674475E-3,3.5508834036674475E-3,92653,0]
[{"$nulls":8},42,24,0.00275,{"v":95062,"d":"95,062"},36.02,1.65E-3,{"v":97305,"d":"97,305"},40.03,2.1999999999999997E-3,96177.0283312135,null,0,0.00275,95061.8704849075,0,null,{"v":70,"d":"70.00"},2381.8,238.7,0.023818000000000002,0.002387,79072.69637876336,0,0,0,null,{"$error":"#REF!"},{"$error":"#REF!"},{"$error":"#REF!"},{"$error":"#REF!"},null,92324,0,3.8776482821368226E-3,3.8776482821368226E-3,92324,0]
[{"$nulls":8},43,25,2.993E-3,{"v":94800,"d":"94,800"},35.12,1.81E-3,{"v":97144,"d":"97,144"},39.1,2.4015E-3,95965.43886888483,null,0,2.993E-3,94800.450341074,0,null,{"v":75,"d":"75.00"},3812.6,268.6,0.038126,2.686E-3,69655.92896701643,0,0,0,null,{"$error":"#REF!"},{"$error":"#REF!"},{"$error":"#REF!"},{"$error":"#REF!"},null,91966,0,0.004251571232846921,0.004251571232846921,91966,0]
[{"$nulls":8},44,26,0.003257,{"v":94517,"d":"94,517"},34.22,0.001985,{"v":96968,"d":"96,968"},38.17,0.002621,95734.9778674412,null,0,0.003257,94516.71259320316,0,null,{"v":80,"d":"80.00"},6444.8,272.8,0.064448,2.728E-3,56377.41922803409,0,0,{"$f":"AD238*AF238","v":0},null,{"$error":"#REF!"},{"$error":"#REF!"},{"$error":"#REF!"},{"$error":"#REF!"},null,91575,0,0.004673764673764674,0.004673764673764674,91575,0]
[{"$nulls":8},45,27,0.003543,{"v":94209,"d":"94,209"},33.33,0.002174,{"v":96776,"d":"96,776"},37.24,0.0028585,95484.05649045063,null,0,0.003543,94208.8716602871,0,null,{"v":85,"d":"85.00"},14768.6,213.5,0.147686,0.002135,38210.35965599238,0,0,0,null,{"$error":"#REF!"},{"$error":"#REF!"},{"$error":"#REF!"},{"$error":"#REF!"},null,91147,0,0.005123591560885163,0.005123591560885163,91147,0]
[{"$nulls":8},46,28,0.003856,{"v":93875,"d":"93,875"},32.45,0.002375,{"v":96566,"d":"96,566"},36.32,0.0031155,95211.11531497267,null,0,0.003856,93875.0896279947,0,{"$nulls":11},{"$error":"#REF!"},{"$error":"#REF!"},{"$error":"#REF!"},{"$error":"#REF!"},null,90680,0,5.6241729157476845E-3,5.6241729157476845E-3,90680,0]
[{"$nulls":8},47,29,0.004208,{"v":93513,"d":"93,513"},31.57,0.002582,{"v":96336,"d":"96,336"},35.41,3.395E-3,94914.48508520887,null,0,0.004208,93513.10728238916,0,{"$nulls":11},{"$error":"#REF!"},{"$error":"#REF!"},{"$error":"#REF!"},{"$error":"#REF!"},null,90170,0,6.177220805145836E-3,6.177220805145836E-3,90170,0]
[{"$nulls":8},48,30,0.004603,{"v":93120,"d":"93,120"},30.71,2.794E-3,{"v":96087,"d":"96,087"},34.5,3.6985000000000004E-3,94592.25040834458,null,0,0.004603,93119.60412694486,0,{"$nulls":9},{"$f":"SUM(AG221:AG239)/100000*1000000","v":0},null,{"$error":"#REF!"},{"$error":"#REF!"},{"$error":"#REF!"},{"$error":"#REF!"},null,89613,0,0.006818207179761865,0.006818207179761865,89613,0]
[{"$nulls":8},49,31,0.005037,{"v":92691,"d":"92,691"},29.84,0.003012,{"v":95819,"d":"95,819"},33.59,0.0040245,94242.40097020932,null,0,0.005037,92690.97458914854,0,{"$nulls":11},{"$error":"#REF!"},{"$error":"#REF!"},{"$error":"#REF!"},{"$error":"#REF!"},null,89002,0,0.007505449315745713,0.007505449315745713,89002,0]
[{"$nulls":8},50,32,0.005512,{"v":92224,"d":"92,224"},28.99,0.003255,{"v":95530,"d":"95,530"},32.69,0.0043835,93863.12242750471,null,0,0.005512,92224.09015014299,0,null,"Lung cancer both genders",{"$nulls":9},{"$error":"#REF!"},{"$error":"#REF!"},{"$error":"#REF!"},{"$error":"#REF!"},null,88334,0,0.0082754092421944,0.0082754092421944,88334,0]
[{"$nulls":8},51,33,0.006008,{"v":91716,"d":"91,716"},28.15,0.003517,{"v":95219,"d":"95,219"},31.8,0.0047625,93451.67343034374,null,0,0.006008,91715.7509652354,0,null,null,"Total death/100,000","Lung cancer, per 100,000",{"$nulls":3},"P",{"$nulls":3},{"$error":"#REF!"},{"$error":"#REF!"},{"$error":"#REF!"},{"$error":"#REF!"},null,87603,0,0.00910927707955207,0.00910927707955207,87603,0]
[{"$nulls":8},52,34,0.0065,{"v":91165,"d":"91,165"},27.32,0.003782,{"v":94885,"d":"94,885"},30.91,0.005141,93006.60983563172,null,0,0.0065,91164.72273343627,0,{"v":0,"d":"0.00"},{"$f":"X246-$O$51","v":{"v":-18,"d":"-18.00"}},{"$f":"(Z194+Z221)/2","v":727.0999999999999},{"$f":"(AA194+AA221)/2","v":0},{"$f":"Z246/100000","v":0.007270999999999999},{"$f":"AA246/100000","v":0},{"$f":"100000","v":100000},{"$f":"IF(Y246<10,0,IF(AND(OR(Y246>10,Y246=10),Y246<10+$H$196),$H$193*$H$195*(Y246-10),$H$193*$H$195*Y246))","v":0},{"$f":"AC246*AE246","v":0},{"$f":"AD246*AF246","v":0},null,{"$error":"#REF!"},{"$error":"#REF!"},{"$error":"#REF!"},{"$error":"#REF!"},null,86805,0,0.009953343701399688,0.009953343701399688,86805,0]
[{"$nulls":8},53,35,0.006977,{"v":90572,"d":"90,572"},26.49,4.045E-3,{"v":94526,"d":"94,526"},30.02,0.005511,92528.46285446674,null,0,0.006977,90572.15203566893,0,{"v":1,"d":"1.00"},{"$f":"X247-$O$51","v":{"v":-17,"d":"-17.00"}},{"$f":"(Z195+Z222)/2","v":32.8},0,{"$f":"Z247/100000","v":3.2799999999999995E-4},0,{"$f":"AD246-AB246*AD246*2","v":98545.8},{"$f":"IF(Y247<10,0,IF(AND(OR(Y247>10,Y247=10),Y247<10+$H$196),$H$193*$H$195*(Y247-10),$H$193*$H$195*Y247))","v":0},{"$f":"AC247*AE247","v":0},0,null,{"$error":"#REF!"},{"$error":"#REF!"},{"$error":"#REF!"},{"$error":"#REF!"},null,85941,0,0.010809741566888912,0.010809741566888912,85941,0]
[{"$nulls":8},54,36,7.456E-3,{"v":89940,"d":"89,940"},25.68,0.004318,{"v":94143,"d":"94,143"},29.14,0.005887,92018.53849567576,null,0,7.456E-3,89940.23013091607,0,{"v":5,"d":"5.00"},{"v":-13,"d":"-13.00"},16.4,0,1.6399999999999997E-4,0,{"$f":"AD247-AB247*AD247*5","v":98384.184888},0,0,0,null,{"$error":"#REF!"},{"$error":"#REF!"},{"$error":"#REF!"},{"$error":"#REF!"},null,85012,0,0.011715993036277232,0.011715993036277232,85012,0]
[{"$nulls":8},55,37,0.007975,{"v":89270,"d":"89,270"},24.87,0.004619,{"v":93737,"d":"93,737"},28.27,0.006297,91476.82535955172,null,0,0.007975,89269.63577505996,0,{"v":10,"d":"10.00"},{"v":-8,"d":"-8.00"},20.8,0,2.0800000000000001E-4,0,{"$f":"AD248-AB248*AD248*5","v":98303.50985639184},0,0,0,null,{"$error":"#REF!"},{"$error":"#REF!"},{"$error":"#REF!"},{"$error":"#REF!"},null,84016,0,0.012640449438202247,0.012640449438202247,84016,0]
[{"$nulls":8},56,38,0.008551,{"v":88558,"d":"88,558"},24.06,0.004965,{"v":93304,"d":"93,304"},27.4,0.006758,90900.79579026262,null,0,0.008551,88557.71042975385,0,{"v":15,"d":"15.00"},{"v":-3,"d":"-3.00"},67.45,0,6.7450000000000008E-4,0,98201.2742061412,0,0,0,null,{"$error":"#REF!"},{"$error":"#REF!"},{"$error":"#REF!"},{"$error":"#REF!"},null,82954,0,0.013658171998939171,0.013658171998939171,82954,0]
[{"$nulls":8},57,39,0.009174,{"v":87800,"d":"87,800"},23.26,0.005366,{"v":92841,"d":"92,841"},26.53,0.00727,90286.48821231203,null,0,0.009174,87800.45344786902,0,{"v":20,"d":"20.00"},{"v":2,"d":"2.00"},95.1,0,9.5099999999999991E-4,0,97870.09040888099,0,0,0,null,{"$error":"#REF!"},{"$error":"#REF!"},{"$error":"#REF!"},{"$error":"#REF!"},null,81821,0,0.014910597523863067,0.014910597523863067,81821,0]
[{"$nulls":8},58,40,0.009848,{"v":86995,"d":"86,995"},22.48,0.00583,{"v":92342,"d":"92,342"},25.67,0.007839,89630.10544300852,null,0,0.009848,86994.97208793827,0,{"v":25,"d":"25.00"},{"v":7,"d":"7.00"},99.2,0.15,0.000992,1.5E-6,97404.71812898676,0,{"$f":"AC252*AE252*5","v":0},0,null,{"$error":"#REF!"},{"$error":"#REF!"},{"$error":"#REF!"},{"$error":"#REF!"},null,80601,0,0.016463815585414574,0.016463815585414574,80601,0]
[{"$nulls":8},59,41,0.010584,{"v":86138,"d":"86,138"},21.69,0.006358,{"v":91804,"d":"91,804"},24.82,0.008471,88927.49504644077,null,0,0.010584,86138.24560281626,0,{"v":30,"d":"30.00"},{"v":12,"d":"12.00"},116.65,0.8500000000000001,1.1665E-3,8.5000000000000016E-6,96921.59072706698,{"$error":"#REF!"},{"$f":"AC253*AE253*5","v":{"$error":"#REF!"}},{"$error":"#REF!"},null,{"$error":"#REF!"},{"$error":"#REF!"},{"$error":"#REF!"},{"$error":"#REF!"},null,79274,0,0.018265761788228172,0.018265761788228172,79274,0]
[{"$nulls":8},60,42,0.011407,{"v":85227,"d":"85,227"},20.92,0.006961,{"v":91220,"d":"91,220"},23.97,0.009184000000000001,88174.19023590238,null,0,0.011407,85226.55841135605,0,{"v":35,"d":"35.00"},{"v":17,"d":"17.00"},162.45,2.95,1.6244999999999999E-3,2.9500000000000002E-5,96356.29554915137,{"$error":"#REF!"},{"$error":"#REF!"},{"$error":"#REF!"},null,{"$error":"#REF!"},{"$error":"#REF!"},{"$error":"#REF!"},{"$error":"#REF!"},null,77826,0,0.02025030195564464,0.02025030195564464,77826,0]
[{"$nulls":8},61,43,0.012315,{"v":84254,"d":"84,254"},20.16,0.007624,{"v":90585,"d":"90,585"},23.14,0.0099695,87364.39847277585,null,0,0.012315,84254.37905955772,0,{"v":40,"d":"40.00"},{"v":22,"d":"22.00"},237.75,9.25,0.0023775,9.25e-05,95573.64153855339,{"$error":"#REF!"},{"$error":"#REF!"},{"$error":"#REF!"},null,{"$error":"#REF!"},{"$error":"#REF!"},{"$error":"#REF!"},{"$error":"#REF!"},null,76250,0,0.022308196721311475,0.022308196721311475,76250,0]
[{"$nulls":8},62,44,0.013289,{"v":83217,"d":"83,217"},19.4,0.008322,{"v":89895,"d":"89,895"},22.31,0.0108055,86493.41910220151,null,0,0.013289,83216.78638143926,0,{"v":45,"d":"45.00"},{"v":27,"d":"27.00"},357.85,21.3,0.0035785,2.13E-4,94437.50987476384,{"$error":"#REF!"},{"$error":"#REF!"},{"$error":"#REF!"},null,{"$error":"#REF!"},{"$error":"#REF!"},{"$error":"#REF!"},{"$error":"#REF!"},null,74549,0,0.024292747052274345,0.024292747052274345,74549,0]
[{"$nulls":8},63,45,0.014326,{"v":82111,"d":"82,111"},18.66,0.009046,{"v":89147,"d":"89,147"},21.49,0.011686,85558.81446209268,null,0,0.014326,82110.91850721631,0,{"v":50,"d":"50.00"},{"v":32,"d":"32.00"},522.3,44.85,0.005222999999999999,0.0004485,92747.78672932963,{"$error":"#REF!"},{"$error":"#REF!"},{"$error":"#REF!"},null,{"$error":"#REF!"},{"$error":"#REF!"},{"$error":"#REF!"},{"$error":"#REF!"},null,72738,0,0.026107399158624103,0.026107399158624103,72738,0]
[{"$nulls":8},64,46,0.015453,{"v":80935,"d":"80,935"},17.92,0.009822,{"v":88340,"d":"88,340"},20.69,0.0126375,84558.97415628866,null,0,0.015453,80934.59748868193,0,{"v":55,"d":"55.00"},{"v":37,"d":"37.00"},809.65,94.45,0.0080965,0.0009445,90325.67827889319,{"$error":"#REF!"},{"$error":"#REF!"},{"$error":"#REF!"},null,{"$error":"#REF!"},{"$error":"#REF!"},{"$error":"#REF!"},{"$error":"#REF!"},null,70839,0,0.027837772978161746,0.027837772978161746,70839,0]
[{"$nulls":8},65,{"$f":"I259-$O$51","v":47},0.016723,{"v":79684,"d":"79,684"},17.19,0.010698,{"v":87473,"d":"87,473"},19.89,{"$f":"(K259+N259)/2","v":0.013710499999999999},83490.36012038856,null,{"$f":"IF($J259<10,0, IF(AND(OR($J259>10, $J259=10),$J259<10+$H$63),$H$61*$H$62*(($J259-10)^3), $H$61*$H$62*(($J259-10)^3-($J259-10-$H$63)^3)))","v":0},{"$f":"K259+T259","v":0.016723},79683.91515368933,{"$f":"V259*T259","v":0},{"v":60,"d":"60.00"},{"v":42,"d":"42.00"},1273.75,164.25,0.0127375,0.0016425,86669.06900796789,{"$error":"#REF!"},{"$error":"#REF!"},{"$error":"#REF!"},null,{"$f":"IF(J259<10,0, IF(AND(OR(J259>10, J259=10),J259<10+$H$196),$H$194*$H$195*((J259-10)^3), $H$194*$H$195*((J259-10)^3-(J259-10-$H$196)^3)))","v":{"$error":"#REF!"}},{"$f":"Q259+AI259","v":{"$error":"#REF!"}},{"$error":"#REF!"},{"$f":"AK259*AI259","v":{"$error":"#REF!"}},null,68867,{"$f":"IF($J259<10,0, IF(AND(OR($J259>10, $J259=10),$J259<10+$H$63),$H$61*$H$62*(($J259-10)^3), $H$61*$H$62*(($J259-10)^3-($J259-10-$H$63)^3)))","v":0},{"$f":"(AN259-AN260)/AN259","v":0.02957875324901622},{"$f":"AP259+AO259","v":0.02957875324901622},68867,{"$f":"AR259*AO259","v":0}]
[{"$nulls":8},66,48,0.018154,{"v":78351,"d":"78,351"},16.48,0.011702,{"v":86537,"d":"86,537"},19.1,0.014928,{"$f":"R259-Q259*R259","v":82345.66553795798},null,0,0.018154,{"$f":"V259-V259*U259","v":78351.3610405742},0,{"v":65,"d":"65.00"},{"v":47,"d":"47.00"},1963.4,254.55,0.019634000000000002,2.5455E-3,81149.33267552294,{"$error":"#REF!"},{"$error":"#REF!"},{"$error":"#REF!"},null,{"$error":"#REF!"},{"$error":"#REF!"},{"$f":"AK259-AK259*AJ259","v":{"$error":"#REF!"}},{"$error":"#REF!"},null,66830,0,0.03154272033517881,0.03154272033517881,{"$f":"AR259-AR259*AQ259","v":66830},0]
[{"$nulls":8},67,49,0.019732,{"v":76929,"d":"76,929"},15.77,0.012832,{"v":85524,"d":"85,524"},18.32,0.016281999999999998,81116.40944280734,null,0,0.019732,76928.97043224362,0,{"v":70,"d":"70.00"},{"v":52,"d":"52.00"},3043.6000000000004,341.35,0.030436000000000005,3.4135000000000003E-3,73182.90268676684,{"$error":"#REF!"},{"$error":"#REF!"},{"$error":"#REF!"},null,{"$error":"#REF!"},{"$error":"#REF!"},{"$error":"#REF!"},{"$error":"#REF!"},null,64722,0,0.0338679274435277,0.0338679274435277,64722,0]
[{"$nulls":8},68,50,0.021468,{"v":75411,"d":"75,411"},15.08,0.014103,{"v":84427,"d":"84,427"},17.55,0.0177855,79795.67206425956,null,0,0.021468,75411.00798767459,0,{"v":75,"d":"75.00"},{"v":57,"d":"57.00"},4701.9,387.95000000000005,0.047019,3.8795000000000006E-3,62045.928555894665,{"$error":"#REF!"},{"$error":"#REF!"},{"$error":"#REF!"},null,{"$error":"#REF!"},{"$error":"#REF!"},{"$error":"#REF!"},{"$error":"#REF!"},null,62530,0,0.036750359827282905,0.036750359827282905,62530,0]
[{"$nulls":8},69,51,0.023387,{"v":73792,"d":"73,792"},14.4,0.015526,{"v":83236,"d":"83,236"},16.79,0.0194565,78376.46613876068,null,0,0.023387,73792.08446819519,0,{"v":80,"d":"80.00"},{"v":62,"d":"62.00"},7700.85,411.20000000000005,0.07700850000000001,0.004112,47459.24098204661,{"$error":"#REF!"},{"$error":"#REF!"},{"$f":"AD263*AF263","v":{"$error":"#REF!"}},null,{"$error":"#REF!"},{"$error":"#REF!"},{"$error":"#REF!"},{"$error":"#REF!"},null,60232,0,0.04012817107185549,0.04012817107185549,60232,0]
[{"$nulls":8},70,52,0.025579,{"v":72066,"d":"72,066"},13.73,0.017163,{"v":81944,"d":"81,944"},16.05,0.021371,76851.53442533188,null,0,0.025579,72066.30898873751,0,{"v":85,"d":"85.00"},{"v":67,"d":"67.00"},15687,356.25,0.15687,0.0035625,29185.416186216928,{"$error":"#REF!"},{"$error":"#REF!"},{"$error":"#REF!"},null,{"$error":"#REF!"},{"$error":"#REF!"},{"$error":"#REF!"},{"$error":"#REF!"},null,57815,0,0.04377756637550809,0.04377756637550809,57815,0]
[{"$nulls":8},71,53,0.028032,{"v":70223,"d":"70,223"},13.08,0.018987,{"v":80537,"d":"80,537"},15.32,0.023509500000000003,75209.14028312812,null,0,0.028032,70222.92487111459,0,{"$nulls":11},{"$error":"#REF!"},{"$error":"#REF!"},{"$error":"#REF!"},{"$error":"#REF!"},null,55284,0,0.04760871138123146,0.04760871138123146,55284,0]
[{"$nulls":8},72,54,0.030665,{"v":68254,"d":"68,254"},12.44,0.020922,{"v":79008,"d":"79,008"},14.61,0.0257935,73441.01099964192,null,0,0.030665,68254.4358411275,0,{"$nulls":11},{"$error":"#REF!"},{"$error":"#REF!"},{"$error":"#REF!"},{"$error":"#REF!"},null,52652,0,0.05183088961482945,0.05183088961482945,52652,0]
[{"$nulls":8},73,55,0.033467,{"v":66161,"d":"66,161"},11.82,0.022951,{"v":77355,"d":"77,355"},13.91,0.028208999999999998,71546.71028242266,null,0,0.033467,66161.41356605933,0,{"$nulls":9},{"$f":"SUM(AG246:AG264)/100000*1000000","v":{"$error":"#REF!"}},null,{"$error":"#REF!"},{"$error":"#REF!"},{"$error":"#REF!"},{"$error":"#REF!"},null,49923,0,0.0564869899645454,0.0564869899645454,49923,0]
[{"$nulls":8},74,56,0.036519,{"v":63947,"d":"63,947"},11.21,0.025147,{"v":75580,"d":"75,580"},13.22,0.030833,69528.4491320658,null,0,0.036519,63947.18953824403,0,{"$nulls":11},{"$error":"#REF!"},{"$error":"#REF!"},{"$error":"#REF!"},{"$error":"#REF!"},null,47103,0,0.061567203787444534,0.061567203787444534,47103,0]
[{"$nulls":8},75,57,0.04001,{"v":61612,"d":"61,612"},10.62,0.027709,{"v":73679,"d":"73,679"},12.55,0.0338595,67384.67845997681,null,0,0.04001,61611.9021234969,0,{"$nulls":11},{"$error":"#REF!"},{"$error":"#REF!"},{"$error":"#REF!"},{"$error":"#REF!"},null,44203,0,0.06703164943555867,0.06703164943555867,44203,0]
[{"$nulls":8},76,58,0.043987,{"v":59147,"d":"59,147"},10.04,0.030659,{"v":71638,"d":"71,638"},11.9,0.037322999999999995,65103.06693966123,null,0,0.043987,59146.809919535786,0,{"$nulls":11},{"$error":"#REF!"},{"$error":"#REF!"},{"$error":"#REF!"},{"$error":"#REF!"},null,41240,0,0.07286614936954414,0.07286614936954414,41240,0]
[{"$nulls":8},77,59,0.048359,{"v":56545,"d":"56,545"},9.48,0.033861,{"v":69441,"d":"69,441"},11.26,0.04111,62673.22517227225,null,0,0.048359,56545.11919160517,0,{"$nulls":11},{"$error":"#REF!"},{"$error":"#REF!"},{"$error":"#REF!"},{"$error":"#REF!"},null,38235,0,0.0790113770105924,0.0790113770105924,38235,0]
[{"$nulls":8},78,60,0.05314,{"v":53811,"d":"53,811"},8.94,0.037311,{"v":67090,"d":"67,090"},10.63,0.0452255,60096.72888544014,null,0,0.05314,53810.65377261833,0,{"$nulls":11},{"$error":"#REF!"},{"$error":"#REF!"},{"$error":"#REF!"},{"$error":"#REF!"},null,35214,0,0.08539217356733117,0.08539217356733117,35214,0]
[{"$nulls":8},79,61,0.058434,{"v":50951,"d":"50,951"},8.41,0.041132,{"v":64587,"d":"64,587"},10.03,0.049783,57378.824273231665,null,0,0.058434,50951.155631141395,0,{"$nulls":11},{"$error":"#REF!"},{"$error":"#REF!"},{"$error":"#REF!"},{"$error":"#REF!"},null,32207,0,0.0919365355357531,0.0919365355357531,32207,0]
[{"$nulls":8},80,62,0.064457,{"v":47974,"d":"47,974"},7.9,0.045561,{"v":61930,"d":"61,930"},9.43,0.055009,54522.33426443737,null,0,0.064457,47973.87580299128,0,{"$nulls":11},{"$error":"#REF!"},{"$error":"#REF!"},{"$error":"#REF!"},{"$error":"#REF!"},null,29246,0,0.09850919783902072,0.09850919783902072,29246,0]
[{"$nulls":8},81,63,0.071259,{"v":44882,"d":"44,882"},7.41,0.050698,{"v":59109,"d":"59,109"},8.86,0.060978500000000005,51523.11517888493,null,0,0.071259,44881.62369035787,0,{"$nulls":11},{"$error":"#REF!"},{"$error":"#REF!"},{"$error":"#REF!"},{"$error":"#REF!"},null,26365,0,0.10487388583349137,0.10487388583349137,26365,0]
[{"$nulls":8},82,64,0.078741,{"v":41683,"d":"41,683"},6.94,0.056486,{"v":56112,"d":"56,112"},8.31,0.0676135,48381.3128999493,null,0,0.078741,41683.40406780666,0,{"$nulls":11},{"$error":"#REF!"},{"$error":"#REF!"},{"$error":"#REF!"},{"$error":"#REF!"},null,23600,0,0.11059322033898306,0.11059322033898306,23600,0]
[{"$nulls":8},83,65,0.086923,{"v":38401,"d":"38,401"},6.49,0.062971,{"v":52942,"d":"52,942"},7.77,0.074947,45110.08300018858,null,0,0.086923,38401.211148103495,0,{"$nulls":11},{"$error":"#REF!"},{"$error":"#REF!"},{"$error":"#REF!"},{"$error":"#REF!"},null,20990,0,0.11495950452596475,0.11495950452596475,20990,0]
[{"$nulls":8},84,66,0.095935,{"v":35063,"d":"35,063"},6.06,0.070259,{"v":49608,"d":"49,608"},7.26,0.083097,41729.21760957345,null,0,0.095935,35063.26267147689,0,{"$nulls":11},{"$error":"#REF!"},{"$error":"#REF!"},{"$error":"#REF!"},{"$error":"#REF!"},null,18577,0,0.11702643053237875,0.11702643053237875,18577,0]
[{"$nulls":8},85,67,0.105937,{"v":31699,"d":"31,699"},5.65,0.078471,{"v":46123,"d":"46,123"},6.77,0.09220400000000001,38261.64481387072,null,0,0.105937,31699.468567088756,0,{"$nulls":11},{"$error":"#REF!"},{"$error":"#REF!"},{"$error":"#REF!"},{"$error":"#REF!"},null,16403,0,1,1,16403,0]
[{"$nulls":8},86,68,0.117063,{"v":28341,"d":"28,341"},5.26,0.087713,{"v":42504,"d":"42,504"},6.31,0.102388,34733.768115452585,null,0,0.117063,28341.321965497074,0,{"$nulls":11},{"$error":"#REF!"},{"$error":"#REF!"},{"$error":"#REF!"},{"$error":"#REF!"}]
[{"$nulls":8},87,69,0.129407,{"v":25024,"d":"25,024"},4.89,0.098064,{"v":38776,"d":"38,776"},5.87,0.11373549999999999,31177.447065647626,null,0,0.129407,25023.60179225009,0,{"$nulls":11},{"$error":"#REF!"},{"$error":"#REF!"},{"$error":"#REF!"},{"$error":"#REF!"}]
[{"$nulls":8},88,70,0.143015,{"v":21785,"d":"21,785"},4.55,0.109578,{"v":34973,"d":"34,973"},5.45,0.1262965,27631.464534912662,null,0,0.143015,21785.372555120382,0,{"$nulls":11},{"$error":"#REF!"},{"$error":"#REF!"},{"$error":"#REF!"},{"$error":"#REF!"}]
[{"$nulls":8},89,71,0.157889,{"v":18670,"d":"18,670"},4.22,0.122283,{"v":31141,"d":"31,141"},5.06,0.140086,24141.707274279066,null,0,0.157889,18669.73749914984,0,{"$nulls":11},{"$error":"#REF!"},{"$error":"#REF!"},{"$error":"#REF!"},{"$error":"#REF!"}]
[{"$nulls":8},90,72,0.174013,{"v":15722,"d":"15,722"},3.92,0.13619,{"v":27333,"d":"27,333"},4.69,0.1551015,20759.79206905441,null,0,0.174013,15721.99131514657,0,{"$nulls":11},{"$error":"#REF!"},{"$error":"#REF!"},{"$error":"#REF!"},{"$error":"#REF!"}]
[{"$nulls":8},91,73,0.191354,{"v":12986,"d":"12,986"},3.64,0.1513,{"v":23610,"d":"23,610"},4.36,0.171327,17539.917179455966,null,0,0.191354,12986.16044042397,0,{"$nulls":11},{"$error":"#REF!"},{"$error":"#REF!"},{"$error":"#REF!"},{"$error":"#REF!"}]
[{"$nulls":8},92,74,0.209867,{"v":10501,"d":"10,501"},3.38,0.167602,{"v":20038,"d":"20,038"},4.04,0.1887345,14534.855788851313,null,0,0.209867,10501.20669550708,0,{"$nulls":11},{"$error":"#REF!"},{"$error":"#REF!"},{"$error":"#REF!"},{"$error":"#REF!"}]
[{"$nulls":8},93,75,0.229502,{"v":8297,"d":"8,297"},3.15,0.185078,{"v":16680,"d":"16,680"},3.76,0.20729,11791.627048970355,null,0,0.229502,8297.349949941095,0,{"$nulls":11},{"$error":"#REF!"},{"$error":"#REF!"},{"$error":"#REF!"},{"$error":"#REF!"}]
[{"$nulls":8},94,76,0.250198,{"v":6393,"d":"6,393"},2.93,0.2037,{"v":13593,"d":"13,593"},3.5,0.22694899999999998,9347.34067798929,null,0,0.250198,6393.091541729714,0,{"$nulls":11},{"$error":"#REF!"},{"$error":"#REF!"},{"$error":"#REF!"},{"$error":"#REF!"}]
[{"$nulls":8},95,77,0.27075,{"v":4794,"d":"4,794"},2.75,0.222541,{"v":10824,"d":"10,824"},3.26,0.2466455,7225.971058460299,null,0,0.27075,4793.552824172023,0,{"$nulls":11},{"$error":"#REF!"},{"$error":"#REF!"},{"$error":"#REF!"},{"$error":"#REF!"}]
[{"$nulls":8},96,78,0.290814,{"v":3496,"d":"3,496"},2.58,0.241317,{"v":8415,"d":"8,415"},3.05,0.2660655,5443.71781376083,null,0,0.290814,3495.6983970274478,0,{"$nulls":11},{"$error":"#REF!"},{"$error":"#REF!"},{"$error":"#REF!"},{"$error":"#REF!"}]
[{"$nulls":8},97,79,0.310029,{"v":2479,"d":"2,479"},2.44,0.259716,{"v":6384,"d":"6,384"},2.87,0.2848725,3995.3323117836476,null,0,0.310029,2479.1003633943074,0,{"$nulls":11},{"$error":"#REF!"},{"$error":"#REF!"},{"$error":"#REF!"},{"$error":"#REF!"}]
[{"$nulls":8},98,80,0.328021,{"v":1711,"d":"1,711"},2.3,0.277409,{"v":4726,"d":"4,726"},2.7,0.302715,2857.1720077950604,null,0,0.328021,1710.5073568315338,0,{"$nulls":11},{"$error":"#REF!"},{"$error":"#REF!"},{"$error":"#REF!"},{"$error":"#REF!"}]
[{"$nulls":8},99,81,0.344422,{"v":1149,"d":"1,149"},2.19,0.294054,{"v":3415,"d":"3,415"},2.54,0.319238,1992.2631834553786,null,0,0.344422,1149.425023136297,0,{"$nulls":11},{"$error":"#REF!"},{"$error":"#REF!"},{"$error":"#REF!"},{"$error":"#REF!"}]
[{"$nulls":8},100,82,0.361644,754,2.07,0.311697,{"v":2411,"d":"2,411"},2.39,0.3366705,1356.2570692954505,null,0,0.361644,753.5377578176474,0,{"$nulls":11},{"$error":"#REF!"},{"$error":"#REF!"},{"$error":"#REF!"},{"$error":"#REF!"}]
[{"$nulls":8},101,83,0.379726,481,1.96,0.330399,{"v":1659,"d":"1,659"},2.25,0.3550625,899.6453236472166,null,0,0.379726,481.0253489294421,0,{"$nulls":11},{"$error":"#REF!"},{"$error":"#REF!"},{"$error":"#REF!"},{"$error":"#REF!"}]
[{"$nulls":8},102,84,0.398712,298,1.85,0.350223,{"v":1111,"d":"1,111"},2.11,0.3744675,580.2150059197268,null,0,0.398712,298.3675172818607,0,{"$nulls":11},{"$error":"#REF!"},{"$error":"#REF!"},{"$error":"#REF!"},{"$error":"#REF!"}]
[{"$nulls":8},103,85,0.418648,179,1.75,0.371236,722,1.98,0.394942,362.94334319048147,null,0,0.418648,179.40480773137546,0,{"$nulls":11},{"$error":"#REF!"},{"$error":"#REF!"},{"$error":"#REF!"},{"$error":"#REF!"}]
[{"$nulls":8},104,86,0.43958,104,1.66,0.39351,454,1.86,0.41654500000000005,219.60177334414632,null,0,0.43958,104.29734378425059,0,{"$nulls":11},{"$error":"#REF!"},{"$error":"#REF!"},{"$error":"#REF!"},{"$error":"#REF!"}]
[{"$nulls":8},105,87,0.461559,58,1.56,0.417121,275,1.74,0.43934,128.12775266650888,null,0,0.461559,58.45031740356971,0,{"$nulls":11},{"$error":"#REF!"},{"$error":"#REF!"},{"$error":"#REF!"},{"$error":"#REF!"}]
[{"$nulls":8},106,88,0.484637,31,1.47,0.442148,160,1.62,0.4633925,71.83610581000487,null,0,0.484637,31.47204735309548,0,{"$nulls":11},{"$error":"#REF!"},{"$error":"#REF!"},{"$error":"#REF!"},{"$error":"#REF!"}]
[{"$nulls":8},107,89,0.508869,16,1.39,0.468677,90,1.52,0.488773,38.54779314844219,null,0,0.508869,16.219528740033347,0,{"$nulls":11},{"$error":"#REF!"},{"$error":"#REF!"},{"$error":"#REF!"},{"$error":"#REF!"}]
[{"$nulls":8},108,90,0.534312,8,1.3,0.496798,48,1.41,0.515555,19.706672647898653,null,0,0.534312,7.965913369621317,0,{"$nulls":11},{"$error":"#REF!"},{"$error":"#REF!"},{"$error":"#REF!"},{"$error":"#REF!"}]
[{"$nulls":8},109,91,0.561028,4,1.22,0.526605,24,1.31,0.5438164999999999,9.546799030911263,null,0,0.561028,3.709630265272212,0,{"$nulls":11},{"$error":"#REF!"},{"$error":"#REF!"},{"$error":"#REF!"},{"$error":"#REF!"}]
[{"$nulls":8},110,92,0.589079,2,1.15,0.558202,11,1.22,0.5736405,4.355092195717709,null,0,0.589079,1.6284238168070737,0,{"$nulls":11},{"$error":"#REF!"},{"$error":"#REF!"},{"$error":"#REF!"},{"$error":"#REF!"}]
[{"$nulls":8},111,93,0.618533,1,1.07,0.591694,5,1.13,0.6051135000000001,1.8568349310201042,null,0,0.618533,0.6691535432261795,0,{"$nulls":11},{"$error":"#REF!"},{"$error":"#REF!"},{"$error":"#REF!"},{"$error":"#REF!"}]
[{"$nulls":8},112,94,0.64946,0,1,0.627196,2,1.05,0.638328,0.7332390469882701,null,0,0.64946,0.255259994673861,0,{"$nulls":11},{"$error":"#REF!"},{"$error":"#REF!"},{"$error":"#REF!"},{"$error":"#REF!"}]
[{"$nulls":8},113,95,0.681933,0,0.94,0.664827,1,0.97,0.67338,0.26519203260234164,null,0,0.681933,0.08947883853297522,0,{"$nulls":11},{"$error":"#REF!"},{"$error":"#REF!"},{"$error":"#REF!"},{"$error":"#REF!"}]
[{"$nulls":8},114,96,0.716029,0,0.87,0.704717,0,0.89,0.710373,0.08661702168857682,null,0,0.716029,0.02846026573566783,0,{"$nulls":11},{"$error":"#REF!"},{"$error":"#REF!"},{"$error":"#REF!"},{"$error":"#REF!"}]
[{"$nulls":8},115,97,0.751831,0,0.81,0.747,0,0.82,0.7494155,0.025086628140597436,null,0,0.751831,0.008081890121223328,0,{"$nulls":11},{"$error":"#REF!"},{"$error":"#REF!"},{"$error":"#REF!"},{"$error":"#REF!"}]
[{"$nulls":8},116,98,0.789422,0,0.75,0.789422,0,0.75,0.789422,0.006286320169297539,null,0,0.789422,0.002005674589493872,0,{"$nulls":11},{"$error":"#REF!"},{"$error":"#REF!"},{"$error":"#REF!"},{"$error":"#REF!"}]
[{"$nulls":8},117,99,0.828894,0,0.7,0.828894,0,0.7,0.828894,1.3237607286103372E-3,null,0,0.828894,4.2235094370644062E-4,0,{"$nulls":11},{"$error":"#REF!"},{"$error":"#REF!"},{"$error":"#REF!"},{"$error":"#REF!"}]
[{"$nulls":8},118,100,0.870338,0,0.64,0.870338,0,0.64,0.870338,2.2650340322960039E-4,null,0,0.870338,7.2266780573834223E-5,0,{"$nulls":11},{"$error":"#REF!"},{"$error":"#REF!"},{"$error":"#REF!"},{"$error":"#REF!"}]
[{"$nulls":8},119,101,0.913855,0,0.59,0.913855,0,0.59,0.913855,2.9368884269556471E-5,null,0,0.913855,9.3702553027644978E-6,0,{"$nulls":11},{"$error":"#REF!"},{"$error":"#REF!"},{"$error":"#REF!"},{"$error":"#REF!"}]
[]
[{"$nulls":37},"Both genders mesothelioma",{"$nulls":6},"Male mesethelioma 1977"]
[{"$nulls":22},{"$f":"SUM(W194:W313)/100000*1000000","v":0},{"$nulls":14},{"$f":"SUM(AL194:AL313)/100000*1000000","v":{"$error":"#REF!"}},{"$nulls":6},{"$f":"SUM(AS194:AS313)/100000*1000000","v":0}]
[]
[]
[]
[]
["Hodgson and Darnton, 2000 for Amosite, Adjusted to Libby Amphibole Data","Occupational Equivalent, Total Exposure, F/CC Years","Lung Cancer Lifetime Excess Risk, per 1,000000","Age at Onset Correction Factor","Pleural Mesothelioma Lifetime Excess Risk, per 1,000,000","Peritoneal Mesothelioma Lifetime Excess Risk, per 1,000,000","Total Excess Risk, per 1,000,000"]
[null,{"$f":"IF($N$51>0,$N$51,0)","v":{"$error":"#REF!"}},{"$f":"1.6*(B322^1.3)*58/100000*1000000/100*0.11/0.36","v":{"$error":"#REF!"}},{"$f":"($R$51-0.01)/(0.0562-0.01)","v":{"v":1.6904843656718993,"d":"1.69"}},{"$f":"D322*0.13*(B322^0.75)*1000000/100*0.5/3.9","v":{"$error":"#REF!"}},{"$f":"0.0006*(B322^2.1)*1000000/100*0.5/3.9","v":{"$error":"#REF!"}},{"$f":"C322+E322+F322","v":{"$error":"#REF!"}}]
[]
[]
[]
["NICHOLSON CALCULATIONS:",1]
[]
["PARAMETERS:",{"$nulls":3},"Both genders",{"$nulls":14},"LUNG CANCER CALCULATIONS"]
["Kl",{"$f":"U51","v":0.01},"AGE","AGE CORRECTED ON ONSET TIME","Death Rate per 100,000",null,null,"Number of death","Number of lung cancer deaths","Lung cancer death rate, per 100,000",{"$nulls":4},"MESOTHELIOMA CALCULATIONS",{"$nulls":3},"Asbestos RR of Lung Cancer-1)","Probability of Death Corrected for Asb.-Related Lung Cancer","Number of Survivals From 100,000 Corrected for Asbestos-Related Lung Cancer","Number of Lung Cancer Cases in Surviving Population (Original 100000)"]
["Km",{"$f":"V51","v":1E-8},0,{"$f":"C330-$O$51","v":-18},637.2,null,null,26412,4,{"$f":"E330*I330/H330","v":0.09650159018627898},{"$nulls":3},{"$f":"IF($D330<10,0, IF(AND(OR($D330>10, $D330=10),$D330<10+$B$332),$B$330*$B$331*(($D330-10)^3), $B$330*$B$331*(($D330-10)^3-($D330-10-$B$332)^3)))","v":0},{"$f":"E330/100000+N330","v":0.006372},{"$f":"100000","v":100000},{"$f":"P330*N330","v":0},null,{"$f":"IF($D330<10,0, IF(AND(OR($D330>10, $D330=10),$D330<10+$B$332),$B$329*$B$331*(($D330-10)), $B$329*$B$331*(($D330-10)-($D330-10-$B$332))))","v":0},{"$f":"E330/100000","v":0.006372},{"$f":"100000","v":100000},{"$f":"U330*S330*J330/100000","v":0}]
["f",{"$f":"M51*2.8","v":{"$error":"#REF!"}},1,{"$f":"C331-$O$51","v":-17},{"$f":"(F331+F332+F333+F334)*100000","v":{"v":110.39999999999999,"d":"110.400000"}},0.000429,null,4450,3,{"$f":"E331*I331/H331","v":0.07442696629213483},{"$nulls":3},{"$f":"IF($D331<10,0, IF(AND(OR($D331>10, $D331=10),$D331<10+$B$332),$B$330*$B$331*(($D331-10)^3), $B$330*$B$331*(($D331-10)^3-($D331-10-$B$332)^3)))","v":0},{"$f":"5*(E326+E331)/(2*100000)+5*(N326+N331)/2","v":0.00276},{"$f":"P330-P330*O330","v":99362.8},{"$f":"P331*2*N331","v":0},null,{"$f":"IF($D331<10,0, IF(AND(OR($D331>10, $D331=10),$D331<10+$B$332),$B$329*$B$331*(($D331-10)), $B$329*$B$331*(($D331-10)-($D331-10-$B$332))))","v":0},{"$f":"E331/100000","v":0.001104},{"$f":"U330-U330*T330","v":99362.8},{"$f":"U331*S331*J331/100000","v":0}]
["d",{"$f":"$H$51","v":45},2,-16,null,0.000288,{"$nulls":7},0,null,null,{"$f":"P332*N332","v":0},null,0,null,null,0]
[null,null,3,-15,null,0.000219,{"$nulls":7},0,null,null,0,null,0,null,null,0]
[null,null,4,-14,null,0.000168,{"$nulls":7},0,null,null,0,null,0,null,null,0]
[null,null,5,-13,{"$f":"(F335+F336+F337+F338+F339)*100000","v":{"v":62.5,"d":"62.500000"}},{"v":1.56E-4,"d":"0.000156"},null,{"$f":"5651/2","v":2825.5},{"$f":"5/2","v":{"v":2.5,"d":"3"}},{"$f":"E335*I335/H335","v":0.055299946912050965},{"$nulls":3},0,{"$f":"5*(E330+E335)/(2*100000)+5*(N330+N335)/2","v":0.0174925},{"$f":"P331-P331*O331","v":99088.558672},null,null,0,{"$f":"E335/100000","v":0.000625},{"$f":"U331-U331*T331","v":99253.1034688},0]
[null,null,6,-12,null,0.000139,{"$nulls":7},0,null,null,0,null,0,null,null,0]
[null,null,7,-11,null,{"v":1.25E-4,"d":"0.000125"},{"$nulls":7},0,null,null,0,null,0,null,null,0]
[null,null,8,-10,null,{"v":1.1E-4,"d":"0.000110"},{"$nulls":7},0,null,null,0,null,0,null,null,0]
[null,null,9,-9,null,{"v":9.5e-05,"d":"0.000095"},{"$nulls":7},0,null,null,0,null,0,null,null,0]
[null,null,10,-8,{"$f":"(F340+F341+F342+F343+F344)*100000","v":{"v":75.1,"d":"75.100000"}},{"v":8.5e-05,"d":"0.000085"},null,{"$f":"5651/2","v":2825.5},{"$f":"5/2","v":{"v":2.5,"d":"3"}},{"$f":"E340*I340/H340","v":0.06644841620952044},{"$nulls":3},0,{"$f":"5*(E335+E340)/(2*100000)+5*(N335+N340)/2","v":0.00344},{"$f":"P335-P335*O335","v":97355.25205943004},{"$f":"P340*5*(N340+N345)/2","v":0},null,0,{"$f":"E340/100000","v":7.5099999999999993E-4},{"$f":"U335-U335*T335","v":99191.070279132},0]
[null,null,11,-7,null,{"v":9.1e-05,"d":"0.000091"},{"$nulls":7},0,null,null,0,null,0,null,null,0]
[null,null,12,-6,null,{"v":1.22E-4,"d":"0.000122"},{"$nulls":7},0,null,null,0,null,0,null,null,0]
[null,null,13,-5,null,{"v":1.85E-4,"d":"0.000185"},{"$nulls":7},0,null,null,0,null,0,null,null,0]
[null,null,14,-4,null,0.000268,{"$nulls":7},0,null,null,0,null,0,null,null,0]
[null,null,15,-3,{"$f":"(F345+F346+F347+F348+F349)*100000","v":{"v":259.2,"d":"259.200000"}},0.000355,null,{"$f":"30416/2","v":15208},{"$f":"25/2","v":{"v":12.5,"d":"13"}},{"$f":"E345*I345/H345","v":0.2130457653866386},{"$nulls":3},0,{"$f":"5*(E340+E345)/(2*100000)+5*(N340+N345)/2","v":0.008357499999999999},{"$f":"P340-P340*O340","v":97020.34999234561},{"$f":"P345*5*(N345+N350)/2","v":0},null,0,{"$f":"E345/100000","v":2.5919999999999997E-3},{"$f":"U340-U340*T340","v":99116.57778535238},{"$f":"U345*S345*J345/100000","v":0}]
[null,null,16,-2,null,0.000438,{"$nulls":7},0,null,null,0,null,0,null,null,0]
[null,null,17,-1,null,{"v":0.00052,"d":"0.000520"},{"$nulls":7},0,null,null,0,null,0,null,null,0]
[null,null,18,0,null,{"v":0.0006,"d":"0.000600"},{"$nulls":7},0,null,null,0,null,0,null,null,0]
[null,null,19,1,null,0.000679,{"$nulls":7},0,null,null,0,null,0,null,null,0]
[null,null,20,2,{"$f":"(F350+F351+F352+F353+F354)*100000","v":{"v":442.09999999999997,"d":"442.100000"}},0.000765,null,{"$f":"30416/2","v":15208},{"$f":"25/2","v":{"v":12.5,"d":"13"}},{"$f":"E350*I350/H350","v":0.363377827459232},{"$nulls":3},0,{"$f":"5*(E345+E350)/(2*100000)+5*(N345+N350)/2","v":0.0175325},{"$f":"P345-P345*O345","v":96209.50241728459},{"$f":"P350*5*(N350+N355)/2","v":0},null,0,{"$f":"E350/100000","v":0.004421},{"$f":"U345-U345*T345","v":98859.66761573275},0]
[null,null,21,3,null,0.000848,{"$nulls":7},0,null,null,0,null,0,null,null,0]
[null,null,22,4,null,0.000911,{"$nulls":7},0,null,null,0,null,0,null,null,0]
[null,null,23,5,null,0.000944,{"$nulls":7},0,null,null,0,null,0,null,null,0]
[null,null,24,6,null,0.000953,{"$nulls":7},0,null,null,0,null,0,null,null,0]
[null,null,25,7,{"$f":"(F355+F356+F357+F358+F359)*100000","v":{"v":488.9000000000001,"d":"488.900000"}},0.000956,null,{"$f":"42502/2","v":21251},{"$f":"146/2","v":73},{"$f":"E355*I355/H355","v":1.6794362618229732},{"$nulls":3},0,{"$f":"5*(E350+E355)/(2*100000)+5*(N350+N355)/2","v":0.023275},{"$f":"P350-P350*O350","v":94522.70931615354},{"$f":"P355*5*(N355+N360)/2","v":{"$error":"#REF!"}},null,0,{"$f":"E355/100000","v":4.889000000000001E-3},{"$f":"U350-U350*T350","v":98422.6090252036},0]
[null,null,26,8,null,0.000963,{"$nulls":7},0,null,null,0,null,0,null,null,0]
[null,null,27,9,null,0.000972,{"$nulls":7},0,null,null,0,null,0,null,null,0]
[null,null,28,10,null,0.000988,{"$nulls":7},{"$error":"#REF!"},null,null,{"$error":"#REF!"},null,{"$error":"#REF!"},null,null,{"$error":"#REF!"}]
[null,null,29,11,null,{"v":1.01E-3,"d":"0.001010"},{"$nulls":7},{"$error":"#REF!"},null,null,{"$error":"#REF!"},null,{"$error":"#REF!"},null,null,{"$error":"#REF!"}]
[null,null,30,12,{"$f":"(F360+F361+F362+F363+F364)*100000","v":{"v":557.3,"d":"557.300000"}},0.001038,null,{"$f":"42502/2","v":21251},{"$f":"146/2","v":73},{"$f":"E360*I360/H360","v":1.9143993223848286},{"$nulls":3},{"$error":"#REF!"},{"$f":"5*(E355+E360)/(2*100000)+5*(N355+N360)/2","v":{"$error":"#REF!"}},{"$f":"P355-P355*O355","v":92322.69325682007},{"$f":"P360*5*(N360+N365)/2","v":{"$error":"#REF!"}},null,{"$error":"#REF!"},{"$f":"E360/100000","v":0.005573},{"$f":"U355-U355*T355","v":97941.42088967937},{"$error":"#REF!"}]
[null,null,31,13,null,{"v":1.07E-3,"d":"0.001070"},{"$nulls":7},{"$error":"#REF!"},null,null,{"$error":"#REF!"},null,{"$error":"#REF!"},null,null,{"$error":"#REF!"}]
[null,null,32,14,null,{"v":1.111E-3,"d":"0.001111"},{"$nulls":7},{"$error":"#REF!"},null,null,{"$error":"#REF!"},null,{"$error":"#REF!"},null,null,{"$error":"#REF!"}]
[null,null,33,15,null,{"v":1.152E-3,"d":"0.001152"},{"$nulls":7},{"$error":"#REF!"},null,null,{"$error":"#REF!"},null,{"$error":"#REF!"},null,null,{"$error":"#REF!"}]
[null,null,34,16,null,0.001202,{"$nulls":7},{"$error":"#REF!"},null,null,{"$error":"#REF!"},null,{"$error":"#REF!"},null,null,{"$error":"#REF!"}]
[null,null,35,17,{"$f":"(F365+F366+F367+F368+F369)*100000","v":{"v":718.3000000000001,"d":"718.300000"}},0.001262,null,{"$f":"74665/2","v":37332.5},{"$f":"1517/2","v":{"v":758.5,"d":"759"}},{"$f":"E365*I365/H365","v":14.59400120538405},{"$nulls":3},{"$error":"#REF!"},{"$f":"5*(E360+E365)/(2*100000)+5*(N360+N365)/2","v":{"$error":"#REF!"}},{"$f":"P360-P360*O360","v":{"$error":"#REF!"}},{"$f":"P365*5*(N365+N370)/2","v":{"$error":"#REF!"}},null,{"$error":"#REF!"},{"$f":"E365/100000","v":7.183000000000001E-3},{"$f":"U360-U360*T360","v":97395.5933510612},{"$error":"#REF!"}]
[null,null,36,18,null,{"v":1.335E-3,"d":"0.001335"},{"$nulls":7},{"$error":"#REF!"},null,null,{"$error":"#REF!"},null,{"$error":"#REF!"},null,null,{"$error":"#REF!"}]
[null,null,37,19,null,{"v":1.421E-3,"d":"0.001421"},{"$nulls":7},{"$error":"#REF!"},null,null,{"$error":"#REF!"},null,{"$error":"#REF!"},null,null,{"$error":"#REF!"}]
[null,null,38,20,null,0.001522,{"$nulls":7},{"$error":"#REF!"},null,null,{"$error":"#REF!"},null,{"$error":"#REF!"},null,null,{"$error":"#REF!"}]
[null,null,39,21,null,0.001643,{"$nulls":7},{"$error":"#REF!"},null,null,{"$error":"#REF!"},null,{"$error":"#REF!"},null,null,{"$error":"#REF!"}]
[null,null,40,22,{"$f":"(F370+F371+F372+F373+F374)*100000","v":{"v":1072.5,"d":"1,072.500000"}},0.001778,null,{"$f":"74665/2","v":37332.5},{"$f":"1517/2","v":{"v":758.5,"d":"759"}},{"$f":"E370*I370/H370","v":21.790430589968526},{"$nulls":3},{"$error":"#REF!"},{"$f":"5*(E365+E370)/(2*100000)+5*(N365+N370)/2","v":{"$error":"#REF!"}},{"$f":"P365-P365*O365","v":{"$error":"#REF!"}},{"$f":"P370*5*(N370+N375)/2","v":{"$error":"#REF!"}},null,{"$error":"#REF!"},{"$f":"E370/100000","v":0.010725},{"$f":"U365-U365*T365","v":96696.00080402053},{"$error":"#REF!"}]
[null,null,41,23,null,{"v":1.933E-3,"d":"0.001933"},{"$nulls":7},{"$error":"#REF!"},null,null,{"$error":"#REF!"},null,{"$error":"#REF!"},null,null,{"$error":"#REF!"}]
[null,null,42,24,null,0.002118,{"$nulls":7},{"$error":"#REF!"},null,null,{"$error":"#REF!"},null,{"$error":"#REF!"},null,null,{"$error":"#REF!"}]
[null,null,43,25,null,0.002332,{"$nulls":7},{"$error":"#REF!"},null,null,{"$error":"#REF!"},null,{"$error":"#REF!"},null,null,{"$error":"#REF!"}]
[null,null,44,26,null,0.002564,{"$nulls":7},{"$error":"#REF!"},null,null,{"$error":"#REF!"},null,{"$error":"#REF!"},null,null,{"$error":"#REF!"}]
[null,null,45,27,{"$f":"(F375+F376+F377+F378+F379)*100000","v":{"v":1666.5,"d":"1,666.500000"}},0.002796,null,{"$f":"187568/2","v":{"v":93784,"d":"93,784"}},{"$f":"12488/2","v":{"v":6244,"d":"6,244"}},{"$f":"E375*I375/H375","v":110.9531050072507},{"$nulls":3},{"$error":"#REF!"},{"$f":"5*(E370+E375)/(2*100000)+5*(N370+N375)/2","v":{"$error":"#REF!"}},{"$f":"P370-P370*O370","v":{"$error":"#REF!"}},{"$f":"P375*5*(N375+N380)/2","v":{"$error":"#REF!"}},null,{"$error":"#REF!"},{"$f":"E375/100000","v":0.016665},{"$f":"U370-U370*T370","v":95658.93619539741},{"$error":"#REF!"}]
[null,null,46,28,null,0.003034,{"$nulls":7},{"$error":"#REF!"},null,null,{"$error":"#REF!"},null,{"$error":"#REF!"},null,null,{"$error":"#REF!"}]
[null,null,47,29,null,{"v":3.297E-3,"d":"0.003297"},{"$nulls":7},{"$error":"#REF!"},null,null,{"$error":"#REF!"},null,{"$error":"#REF!"},null,null,{"$error":"#REF!"}]
[null,null,48,30,null,{"v":0.0036,"d":"0.003600"},{"$nulls":7},{"$error":"#REF!"},null,null,{"$error":"#REF!"},null,{"$error":"#REF!"},null,null,{"$error":"#REF!"}]
[null,null,49,31,null,0.003938,{"$nulls":7},{"$error":"#REF!"},null,null,{"$error":"#REF!"},null,{"$error":"#REF!"},null,null,{"$error":"#REF!"}]
[null,null,50,32,{"$f":"(F380+F381+F382+F383+F384)*100000","v":{"v":2526.4,"d":"2,526.400000"}},0.004306,null,{"$f":"187568/2","v":{"v":93784,"d":"93,784"}},{"$f":"12488/2","v":{"v":6244,"d":"6,244"}},{"$f":"E380*I380/H380","v":168.2039750917001},{"$nulls":3},{"$error":"#REF!"},{"$f":"5*(E375+E380)/(2*100000)+5*(N375+N380)/2","v":{"$error":"#REF!"}},{"$f":"P375-P375*O375","v":{"$error":"#REF!"}},{"$f":"P380*5*(N380+N385)/2","v":{"$error":"#REF!"}},null,{"$error":"#REF!"},{"$f":"E380/100000","v":0.025264},{"$f":"U375-U375*T375","v":94064.78002370111},{"$error":"#REF!"}]
[null,null,51,33,null,0.004682,{"$nulls":7},{"$error":"#REF!"},null,null,{"$error":"#REF!"},null,{"$error":"#REF!"},null,null,{"$error":"#REF!"}]
[null,null,52,34,null,{"v":5.058E-3,"d":"0.005058"},{"$nulls":7},{"$error":"#REF!"},null,null,{"$error":"#REF!"},null,{"$error":"#REF!"},null,null,{"$error":"#REF!"}]
[null,null,53,35,null,{"v":5.424E-3,"d":"0.005424"},{"$nulls":7},{"$error":"#REF!"},null,null,{"$error":"#REF!"},null,{"$error":"#REF!"},null,null,{"$error":"#REF!"}]
[null,null,54,36,null,0.005794,{"$nulls":7},{"$error":"#REF!"},null,null,{"$error":"#REF!"},null,{"$error":"#REF!"},null,null,{"$error":"#REF!"}]
[null,null,55,37,{"$f":"(F385+F386+F387+F388+F389)*100000","v":{"v":3574.5,"d":"3,574.500000"}},0.006186,null,{"$f":"303307/2","v":{"v":151653.5,"d":"151,654"}},{"$f":"30964/2","v":{"v":15482,"d":"15,482"}},{"$f":"E385*I385/H385","v":364.9134968859934},{"$nulls":3},{"$error":"#REF!"},{"$f":"5*(E380+E385)/(2*100000)+5*(N380+N385)/2","v":{"$error":"#REF!"}},{"$f":"P380-P380*O380","v":{"$error":"#REF!"}},{"$f":"P385*5*(N385+N390)/2","v":{"$error":"#REF!"}},null,{"$error":"#REF!"},{"$f":"E385/100000","v":0.035745},{"$f":"U380-U380*T380","v":91688.32742118233},{"$error":"#REF!"}]
[null,null,56,38,null,0.006622,{"$nulls":7},{"$error":"#REF!"},null,null,{"$error":"#REF!"},null,{"$error":"#REF!"},null,null,{"$error":"#REF!"}]
[null,null,57,39,null,0.007102,{"$nulls":7},{"$error":"#REF!"},null,null,{"$error":"#REF!"},null,{"$error":"#REF!"},null,null,{"$error":"#REF!"}]
[null,null,58,40,null,{"v":0.00763,"d":"0.007630"},{"$nulls":7},{"$error":"#REF!"},null,null,{"$error":"#REF!"},null,{"$error":"#REF!"},null,null,{"$error":"#REF!"}]
[null,null,59,41,null,0.008205,{"$nulls":7},{"$error":"#REF!"},null,null,{"$error":"#REF!"},null,{"$error":"#REF!"},null,null,{"$error":"#REF!"}]
[null,null,60,42,{"$f":"(F390+F391+F392+F393+F394)*100000","v":{"v":5144.400000000001,"d":"5,144.400000"}},0.008826,null,{"$f":"303307/2","v":{"v":151653.5,"d":"151,654"}},{"$f":"30964/2","v":{"v":15482,"d":"15,482"}},{"$f":"E390*I390/H390","v":525.1814221234591},{"$nulls":3},{"$error":"#REF!"},{"$f":"5*(E385+E390)/(2*100000)+5*(N385+N390)/2","v":{"$error":"#REF!"}},{"$f":"P385-P385*O385","v":{"$error":"#REF!"}},{"$f":"P390*5*(N390+N395)/2","v":{"$error":"#REF!"}},null,{"$error":"#REF!"},{"$f":"E390/100000","v":0.051444000000000004},{"$f":"U385-U385*T385","v":88410.92815751217},{"$error":"#REF!"}]
[null,null,61,43,null,{"v":9.495E-3,"d":"0.009495"},{"$nulls":7},{"$error":"#REF!"},null,null,{"$error":"#REF!"},null,{"$error":"#REF!"},null,null,{"$error":"#REF!"}]
[null,null,62,44,null,0.010217,{"$nulls":7},{"$error":"#REF!"},null,null,{"$error":"#REF!"},null,{"$error":"#REF!"},null,null,{"$error":"#REF!"}]
[null,null,63,45,null,{"v":0.01101,"d":"0.011010"},{"$nulls":7},{"$error":"#REF!"},null,null,{"$error":"#REF!"},null,{"$error":"#REF!"},null,null,{"$error":"#REF!"}]
[null,null,64,46,null,0.011896,{"$nulls":7},{"$error":"#REF!"},null,null,{"$error":"#REF!"},null,{"$error":"#REF!"},null,null,{"$error":"#REF!"}]
[null,null,65,{"$f":"C395-$O$51","v":47},{"$f":"(F395+F396+F397+F398+F399)*100000","v":{"v":7712.8,"d":"7,712.800000"}},0.012923,null,{"$f":"401032/2","v":{"v":200516,"d":"200,516"}},{"$f":"48536/2","v":{"v":24268,"d":"24,268"}},{"$f":"E395*I395/H395","v":933.4628179297413},{"$nulls":3},{"$f":"IF($D395<10,0, IF(AND(OR($D395>10, $D395=10),$D395<10+$B$332),$B$330*$B$331*(($D395-10)^3), $B$330*$B$331*(($D395-10)^3-($D395-10-$B$332)^3)))","v":{"$error":"#REF!"}},{"$f":"5*(E390+E395)/(2*100000)+5*(N390+N395)/2","v":{"$error":"#REF!"}},{"$f":"P390-P390*O390","v":{"$error":"#REF!"}},{"$f":"P395*5*(N395+N400)/2","v":{"$error":"#REF!"}},null,{"$f":"IF($D395<10,0, IF(AND(OR($D395>10, $D395=10),$D395<10+$B$332),$B$329*$B$331*(($D395-10)), $B$329*$B$331*(($D395-10)-($D395-10-$B$332))))","v":{"$error":"#REF!"}},{"$f":"E395/100000","v":0.077128},{"$f":"U390-U390*T390","v":83862.71636937711},{"$error":"#REF!"}]
[null,null,66,48,null,0.014095,{"$nulls":7},{"$error":"#REF!"},null,null,{"$f":"P396*N396","v":{"$error":"#REF!"}},null,{"$error":"#REF!"},null,null,{"$f":"U396*S396*J396/100000","v":{"$error":"#REF!"}}]
[null,null,67,49,null,0.015356,{"$nulls":7},{"$error":"#REF!"},null,null,{"$error":"#REF!"},null,{"$error":"#REF!"},null,null,{"$error":"#REF!"}]
[null,null,68,50,null,0.016682,{"$nulls":7},{"$error":"#REF!"},null,null,{"$error":"#REF!"},null,{"$error":"#REF!"},null,null,{"$error":"#REF!"}]
[null,null,69,51,null,0.018072,{"$nulls":7},{"$error":"#REF!"},null,null,{"$error":"#REF!"},null,{"$error":"#REF!"},null,null,{"$error":"#REF!"}]
[null,null,70,52,{"$f":"(F400+F401+F402+F403+F404)*100000","v":{"v":11861.8,"d":"11,861.800000"}},{"v":0.01963,"d":"0.019630"},null,{"$f":"401032/2","v":{"v":200516,"d":"200,516"}},{"$f":"48536/2","v":{"v":24268,"d":"24,268"}},{"$f":"E400*I400/H400","v":1435.6069460791157},{"$nulls":3},{"$error":"#REF!"},{"$f":"5*(E395+E400)/(2*100000)+5*(N395+N400)/2","v":{"$error":"#REF!"}},{"$f":"P395-P395*O395","v":{"$error":"#REF!"}},{"$f":"P400*5*(N400+N405)/2","v":{"$error":"#REF!"}},null,{"$error":"#REF!"},{"$f":"E400/100000","v":0.11861799999999999},{"$f":"U395-U395*T395","v":77394.55278123979},{"$error":"#REF!"}]
[null,null,71,53,null,{"v":0.02143,"d":"0.021430"},{"$nulls":7},{"$error":"#REF!"},null,null,{"$error":"#REF!"},null,{"$error":"#REF!"},null,null,{"$error":"#REF!"}]
[null,null,72,54,null,0.023431,{"$nulls":7},{"$error":"#REF!"},null,null,{"$error":"#REF!"},null,{"$error":"#REF!"},null,null,{"$error":"#REF!"}]
[null,null,73,55,null,0.025763,{"$nulls":7},{"$error":"#REF!"},null,null,{"$error":"#REF!"},null,{"$error":"#REF!"},null,null,{"$error":"#REF!"}]
[null,null,74,56,null,0.028364,{"$nulls":7},{"$error":"#REF!"},null,null,{"$error":"#REF!"},null,{"$error":"#REF!"},null,null,{"$error":"#REF!"}]
[null,null,75,57,{"$f":"(F405+F406+F407+F408+F409)*100000","v":{"v":18984.100000000002,"d":"18,984.100000"}},{"v":0.03106,"d":"0.031060"},null,{"$f":"627727/2","v":{"v":313863.5,"d":"313,864"}},{"$f":"46860/2","v":{"v":23430,"d":"23,430"}},{"$f":"E405*I405/H405","v":1417.1684920355506},{"$nulls":3},{"$error":"#REF!"},{"$f":"5*(E400+E405)/(2*100000)+5*(N400+N405)/2","v":{"$error":"#REF!"}},{"$f":"P400-P400*O400","v":{"$error":"#REF!"}},{"$f":"P405*5*(N405+N410)/2","v":{"$error":"#REF!"}},null,{"$error":"#REF!"},{"$f":"E405/100000","v":0.189841},{"$f":"U400-U400*T400","v":68214.16571943469},{"$error":"#REF!"}]
[null,null,76,58,null,0.034041,{"$nulls":7},{"$error":"#REF!"},null,null,{"$error":"#REF!"},null,{"$error":"#REF!"},null,null,{"$error":"#REF!"}]
[null,null,77,59,null,0.037491,{"$nulls":7},{"$error":"#REF!"},null,null,{"$error":"#REF!"},null,{"$error":"#REF!"},null,null,{"$error":"#REF!"}]
[null,null,78,60,null,0.041456,{"$nulls":7},{"$error":"#REF!"},null,null,{"$error":"#REF!"},null,{"$error":"#REF!"},null,null,{"$error":"#REF!"}]
[null,null,79,61,null,0.045793,{"$nulls":7},{"$error":"#REF!"},null,null,{"$error":"#REF!"},null,{"$error":"#REF!"},null,null,{"$error":"#REF!"}]
[null,null,80,62,{"$f":"(F410+F411+F412+F413+F414)*100000","v":{"v":31110.699999999997,"d":"31,110.700000"}},0.050433,null,{"$f":"627727/2","v":{"v":313863.5,"d":"313,864"}},{"$f":"46860/2","v":{"v":23430,"d":"23,430"}},{"$f":"E410*I410/H410","v":2322.422648699195},{"$nulls":3},{"$error":"#REF!"},{"$f":"5*(E405+E410)/(2*100000)+5*(N405+N410)/2","v":{"$error":"#REF!"}},{"$f":"P405-P405*O405","v":{"$error":"#REF!"}},{"$f":"P410*5*(N410+N415)/2","v":{"$error":"#REF!"}},null,{"$error":"#REF!"},{"$f":"E410/100000","v":0.31110699999999997},{"$f":"U405-U405*T405","v":55264.32028509149},{"$f":"U410*S410*J410/100000","v":{"$error":"#REF!"}}]
[null,null,81,63,null,0.055465,{"$nulls":7},{"$error":"#REF!"},null,null,{"$error":"#REF!"},null,{"$error":"#REF!"},null,null,{"$error":"#REF!"}]
[null,null,82,64,null,0.061442,{"$nulls":7},{"$error":"#REF!"},null,null,{"$error":"#REF!"},null,{"$error":"#REF!"},null,null,{"$error":"#REF!"}]
[null,null,83,65,null,0.068173,{"$nulls":7},{"$error":"#REF!"},null,null,{"$error":"#REF!"},null,{"$error":"#REF!"},null,null,{"$error":"#REF!"}]
[null,null,84,66,null,0.075594,{"$nulls":7},{"$error":"#REF!"},null,null,{"$error":"#REF!"},null,{"$error":"#REF!"},null,null,{"$error":"#REF!"}]
[null,null,85,67,100000,null,null,{"v":733178,"d":"733,178"},{"v":17605,"d":"17,605"},{"$f":"E415*I415/H415","v":2401.1904339737416},{"$nulls":3},{"$error":"#REF!"},{"$f":"(E410+E415)/(2*100000)+(N410+N415)/2","v":{"$error":"#REF!"}},{"$f":"P410-P410*O410","v":{"$error":"#REF!"}},{"$f":"P415*N415*2.8","v":{"$error":"#REF!"}},null,{"$error":"#REF!"},{"$f":"E415/100000","v":1},{"$f":"U410-U410*T410","v":38071.203394157536},{"$f":"U415*S415*J415/100000*3.5","v":{"$error":"#REF!"}}]
{"$rows_empty":36}
[{"$nulls":16},{"$f":"SUM(Q330:Q449)/100000*1000000","v":{"$error":"#REF!"}},{"$nulls":4},{"$f":"SUM(V330:V449)/100000*1000000","v":{"$error":"#REF!"}}]
[]
[]
["NICHOLSON CALCULATIONS:",2]
[]
["PARAMETERS:",{"$nulls":3},"Both genders",{"$nulls":14},"LUNG CANCER CALCULATIONS"]
["Kl",{"$f":"U53","v":2E-3},"AGE","AGE CORRECTED ON ONSET TIME","Death Rate per 100,000",null,null,"Number of death","Number of lung cancer deaths","Lung cancer death rate, per 100,000",{"$nulls":4},"MESOTHELIOMA CALCULATIONS",{"$nulls":3},"Asbestos RR of Lung Cancer-1)","Probability of Death Corrected for Asb.-Related Lung Cancer","Number of Survivals From 100,000 Corrected for Asbestos-Related Lung Cancer","Number of Lung Cancer Cases in Surviving Population (Original 100000)"]
["Km",{"$f":"V53","v":9e-11},0,{"$f":"C459-$O$51","v":-18},637.2,null,null,26412,4,{"$f":"E459*I459/H459","v":0.09650159018627898},{"$nulls":3},{"$f":"IF($D459<10,0, IF(AND(OR($D459>10, $D459=10),$D459<10+$B$461),$B$459*$B$460*(($D459-10)^3), $B$459*$B$460*(($D459-10)^3-($D459-10-$B$461)^3)))","v":0},{"$f":"E459/100000","v":0.006372},{"$f":"100000","v":100000},{"$f":"P459*N459","v":0},null,{"$f":"IF($D459<10,0, IF(AND(OR($D459>10, $D459=10),$D459<10+$B$461),$B$458*$B$460*(($D459-10)), $B$458*$B$460*(($D459-10)-($D459-10-$B$461))))","v":0},{"$f":"E459/100000","v":0.006372},{"$f":"100000","v":100000},{"$f":"U459*S459*J459/100000","v":0}]
["f",{"$f":"M53*2.8","v":{"v":0.5,"d":"5.00E-01"}},1,{"$f":"C460-$O$51","v":-17},{"$f":"(F460+F461+F462+F463)*100000","v":{"v":110.39999999999999,"d":"110.400000"}},0.000429,null,4450,3,{"$f":"E460*I460/H460","v":0.07442696629213483},{"$nulls":3},{"$f":"IF($D460<10,0, IF(AND(OR($D460>10, $D460=10),$D460<10+$B$461),$B$459*$B$460*(($D460-10)^3), $B$459*$B$460*(($D460-10)^3-($D460-10-$B$461)^3)))","v":0},{"$f":"E460/100000","v":0.001104},{"$f":"P459-P459*O459","v":99362.8},{"$f":"P460*4*N460","v":0},null,{"$f":"IF($D460<10,0, IF(AND(OR($D460>10, $D460=10),$D460<10+$B$461),$B$458*$B$460*(($D460-10)), $B$458*$B$460*(($D460-10)-($D460-10-$B$461))))","v":0},{"$f":"E460/100000","v":0.001104},{"$f":"U459-U459*T459","v":99362.8},{"$f":"U460*S460*J460/100000","v":0}]
["d",{"$f":"$H$51","v":45},2,-16,null,0.000288,{"$nulls":7},0,null,null,{"$f":"P461*N461","v":0},null,0,null,null,0]
[null,null,3,-15,null,0.000219,{"$nulls":7},0,null,null,0,null,0,null,null,0]
[null,null,4,-14,null,0.000168,{"$nulls":7},0,null,null,0,null,0,null,null,0]
[null,null,5,-13,{"$f":"(F464+F465+F466+F467+F468)*100000","v":{"v":62.5,"d":"62.500000"}},{"v":1.56E-4,"d":"0.000156"},null,{"$f":"5651/2","v":2825.5},{"$f":"5/2","v":{"v":2.5,"d":"3"}},{"$f":"E464*I464/H464","v":0.055299946912050965},{"$nulls":3},0,{"$f":"E464/100000","v":0.000625},{"$f":"P460-P460*O460","v":99253.1034688},{"$f":"P464*5*N464","v":0},null,0,{"$f":"E464/100000","v":0.000625},{"$f":"U460-U460*T460","v":99253.1034688},0]
[null,null,6,-12,null,0.000139,{"$nulls":7},0,null,null,0,null,0,null,null,0]
[null,null,7,-11,null,{"v":1.25E-4,"d":"0.000125"},{"$nulls":7},0,null,null,0,null,0,null,null,0]
[null,null,8,-10,null,{"v":1.1E-4,"d":"0.000110"},{"$nulls":7},0,null,null,0,null,0,null,null,0]
[null,null,9,-9,null,{"v":9.5e-05,"d":"0.000095"},{"$nulls":7},0,null,null,0,null,0,null,null,0]
[null,null,10,-8,{"$f":"(F469+F470+F471+F472+F473)*100000","v":{"v":75.1,"d":"75.100000"}},{"v":8.5e-05,"d":"0.000085"},null,{"$f":"5651/2","v":2825.5},{"$f":"5/2","v":{"v":2.5,"d":"3"}},{"$f":"E469*I469/H469","v":0.06644841620952044},{"$nulls":3},0,{"$f":"E469/100000","v":7.5099999999999993E-4},{"$f":"P464-P464*O464","v":99191.070279132},{"$f":"P469*5*N469","v":0},null,0,{"$f":"E469/100000","v":7.5099999999999993E-4},{"$f":"U464-U464*T464","v":99191.070279132},0]
[null,null,11,-7,null,{"v":9.1e-05,"d":"0.000091"},{"$nulls":7},0,null,null,0,null,0,null,null,0]
[null,null,12,-6,null,{"v":1.22E-4,"d":"0.000122"},{"$nulls":7},0,null,null,0,null,0,null,null,0]
[null,null,13,-5,null,{"v":1.85E-4,"d":"0.000185"},{"$nulls":7},0,null,null,0,null,0,null,null,0]
[null,null,14,-4,null,0.000268,{"$nulls":7},0,null,null,0,null,0,null,null,0]
[null,null,15,-3,{"$f":"(F474+F475+F476+F477+F478)*100000","v":{"v":259.2,"d":"259.200000"}},0.000355,null,{"$f":"30416/2","v":15208},{"$f":"25/2","v":{"v":12.5,"d":"13"}},{"$f":"E474*I474/H474","v":0.2130457653866386},{"$nulls":3},0,{"$f":"E474/100000","v":2.5919999999999997E-3},{"$f":"P469-P469*O469","v":99116.57778535238},{"$f":"P474*5*N474","v":0},null,0,{"$f":"E474/100000","v":2.5919999999999997E-3},{"$f":"U469-U469*T469","v":99116.57778535238},{"$f":"U474*S474*J474/100000","v":0}]
[null,null,16,-2,null,0.000438,{"$nulls":7},0,null,null,0,null,0,null,null,0]
[null,null,17,-1,null,{"v":0.00052,"d":"0.000520"},{"$nulls":7},0,null,null,0,null,0,null,null,0]
[null,null,18,0,null,{"v":0.0006,"d":"0.000600"},{"$nulls":7},0,null,null,0,null,0,null,null,0]
[null,null,19,1,null,0.000679,{"$nulls":7},0,null,null,0,null,0,null,null,0]
[null,null,20,2,{"$f":"(F479+F480+F481+F482+F483)*100000","v":{"v":442.09999999999997,"d":"442.100000"}},0.000765,null,{"$f":"30416/2","v":15208},{"$f":"25/2","v":{"v":12.5,"d":"13"}},{"$f":"E479*I479/H479","v":0.363377827459232},{"$nulls":3},0,{"$f":"E479/100000","v":0.004421},{"$f":"P474-P474*O474","v":98859.66761573275},{"$f":"P479*5*N479","v":0},null,0,{"$f":"E479/100000","v":0.004421},{"$f":"U474-U474*T474","v":98859.66761573275},0]
[null,null,21,3,null,0.000848,{"$nulls":7},0,null,null,0,null,0,null,null,0]
[null,null,22,4,null,0.000911,{"$nulls":7},0,null,null,0,null,0,null,null,0]
[null,null,23,5,null,0.000944,{"$nulls":7},0,null,null,0,null,0,null,null,0]
[null,null,24,6,null,0.000953,{"$nulls":7},0,null,null,0,null,0,null,null,0]
[null,null,25,7,{"$f":"(F484+F485+F486+F487+F488)*100000","v":{"v":488.9000000000001,"d":"488.900000"}},0.000956,null,{"$f":"42502/2","v":21251},{"$f":"146/2","v":73},{"$f":"E484*I484/H484","v":1.6794362618229732},{"$nulls":3},0,{"$f":"E484/100000","v":4.889000000000001E-3},{"$f":"P479-P479*O479","v":98422.6090252036},{"$f":"P484*5*N484","v":0},null,0,{"$f":"E484/100000","v":4.889000000000001E-3},{"$f":"U479-U479*T479","v":98422.6090252036},0]
[null,null,26,8,null,0.000963,{"$nulls":7},0,null,null,0,null,0,null,null,0]
[null,null,27,9,null,0.000972,{"$nulls":7},0,null,null,0,null,0,null,null,0]
[null,null,28,10,null,0.000988,{"$nulls":7},0,null,null,0,null,0,null,null,0]
[null,null,29,11,null,{"v":1.01E-3,"d":"0.001010"},{"$nulls":7},4.5E-11,null,null,0,null,1E-3,null,null,0]
[null,null,30,12,{"$f":"(F489+F490+F491+F492+F493)*100000","v":{"v":557.3,"d":"557.300000"}},0.001038,null,{"$f":"42502/2","v":21251},{"$f":"146/2","v":73},{"$f":"E489*I489/H489","v":1.9143993223848286},{"$nulls":3},3.6E-10,{"$f":"E489/100000","v":0.005573},{"$f":"P484-P484*O484","v":97941.42088967937},{"$f":"P489*5*N489","v":1.7629455760142287E-4},null,2E-3,{"$f":"E489/100000","v":0.005573},{"$f":"U484-U484*T484","v":97941.42088967937},0.00374997979569219]
[null,null,31,13,null,{"v":1.07E-3,"d":"0.001070"},{"$nulls":7},1.215E-9,null,null,0,null,0.003,null,null,0]
[null,null,32,14,null,{"v":1.111E-3,"d":"0.001111"},{"$nulls":7},2.88E-9,null,null,0,null,0.004,null,null,0]
[null,null,33,15,null,{"v":1.152E-3,"d":"0.001152"},{"$nulls":7},5.625e-09,null,null,0,null,0.005,null,null,0]
[null,null,34,16,null,0.001202,{"$nulls":7},9.72e-09,null,null,0,null,0.006,null,null,0]
[null,null,35,17,{"$f":"(F494+F495+F496+F497+F498)*100000","v":{"v":718.3000000000001,"d":"718.300000"}},0.001262,null,{"$f":"74665/2","v":37332.5},{"$f":"1517/2","v":{"v":758.5,"d":"759"}},{"$f":"E494*I494/H494","v":14.59400120538405},{"$nulls":3},1.5435e-08,{"$f":"E494/100000","v":7.183000000000001E-3},{"$f":"P489-P489*O489","v":97395.5933510612},{"$f":"P494*5*N494","v":0.007516504916868148},null,0.007,{"$f":"E494/100000","v":7.183000000000001E-3},{"$f":"U489-U489*T489","v":97395.5933510612},0.09949739847351373]
[null,null,36,18,null,{"v":1.335E-3,"d":"0.001335"},{"$nulls":7},2.304E-8,null,null,0,null,0.008,null,null,0]
[null,null,37,19,null,{"v":1.421E-3,"d":"0.001421"},{"$nulls":7},3.2805e-08,null,null,0,null,0.009000000000000001,null,null,0]
[null,null,38,20,null,0.001522,{"$nulls":7},4.5e-08,null,null,0,null,0.01,null,null,0]
[null,null,39,21,null,0.001643,{"$nulls":7},5.9895e-08,null,null,0,null,0.011,null,null,0]
[null,null,40,22,{"$f":"(F499+F500+F501+F502+F503)*100000","v":{"v":1072.5,"d":"1,072.500000"}},0.001778,null,{"$f":"74665/2","v":37332.5},{"$f":"1517/2","v":{"v":758.5,"d":"759"}},{"$f":"E499*I499/H499","v":21.790430589968526},{"$nulls":3},7.776e-08,{"$f":"E499/100000","v":0.010725},{"$f":"P494-P494*O494","v":96696.00080402053},{"$f":"P499*5*N499","v":0.03759540511260318},null,0.012,{"$f":"E499/100000","v":0.010725},{"$f":"U494-U494*T494","v":96696.00080402053},0.252845699261706]
[null,null,41,23,null,{"v":1.933E-3,"d":"0.001933"},{"$nulls":7},9.8865e-08,null,null,0,null,0.013000000000000001,null,null,0]
[null,null,42,24,null,0.002118,{"$nulls":7},1.2348e-07,null,null,0,null,0.014,null,null,0]
[null,null,43,25,null,0.002332,{"$nulls":7},1.51875E-7,null,null,0,null,0.015,null,null,0]
[null,null,44,26,null,0.002564,{"$nulls":7},1.8432E-7,null,null,0,null,0.016,null,null,0]
[null,null,45,27,{"$f":"(F504+F505+F506+F507+F508)*100000","v":{"v":1666.5,"d":"1,666.500000"}},0.002796,null,{"$f":"187568/2","v":{"v":93784,"d":"93,784"}},{"$f":"12488/2","v":{"v":6244,"d":"6,244"}},{"$f":"E504*I504/H504","v":110.9531050072507},{"$nulls":3},2.21085E-7,{"$f":"E504/100000","v":0.016665},{"$f":"P499-P499*O499","v":95658.93619539741},{"$f":"P504*5*N504","v":0.10574377954379718},null,0.017,{"$f":"E504/100000","v":0.016665},{"$f":"U499-U499*T499","v":95658.93619539741},1.8043215187368702]
[null,null,46,28,null,0.003034,{"$nulls":7},2.6244e-07,null,null,0,null,0.018000000000000002,null,null,0]
[null,null,47,29,null,{"v":3.297E-3,"d":"0.003297"},{"$nulls":7},3.08655e-07,null,null,0,null,0.019,null,null,0]
[null,null,48,30,null,{"v":0.0036,"d":"0.003600"},{"$nulls":7},3.6e-07,null,null,0,null,0.02,null,null,0]
[null,null,49,31,null,0.003938,{"$nulls":7},4.16745e-07,null,null,0,null,0.021,null,null,0]
[null,null,50,32,{"$f":"(F509+F510+F511+F512+F513)*100000","v":{"v":2526.4,"d":"2,526.400000"}},0.004306,null,{"$f":"187568/2","v":{"v":93784,"d":"93,784"}},{"$f":"12488/2","v":{"v":6244,"d":"6,244"}},{"$f":"E509*I509/H509","v":168.2039750917001},{"$nulls":3},4.7916e-07,{"$f":"E509/100000","v":0.025264},{"$f":"P504-P504*O504","v":94064.78002370111},{"$f":"P509*5*N509","v":0.2253603999807831},null,0.022,{"$f":"E509/100000","v":0.025264},{"$f":"U504-U504*T504","v":94064.78002370111},3.4808553815448318]
[null,null,51,33,null,0.004682,{"$nulls":7},5.47515e-07,null,null,0,null,0.023,null,null,0]
[null,null,52,34,null,{"v":5.058E-3,"d":"0.005058"},{"$nulls":7},6.2208e-07,null,null,0,null,0.024,null,null,0]
[null,null,53,35,null,{"v":5.424E-3,"d":"0.005424"},{"$nulls":7},7.03125e-07,null,null,0,null,0.025,null,null,0]
[null,null,54,36,null,0.005794,{"$nulls":7},7.9092e-07,null,null,0,null,0.026000000000000002,null,null,0]
[null,null,55,37,{"$f":"(F514+F515+F516+F517+F518)*100000","v":{"v":3574.5,"d":"3,574.500000"}},0.006186,null,{"$f":"303307/2","v":{"v":151653.5,"d":"151,654"}},{"$f":"30964/2","v":{"v":15482,"d":"15,482"}},{"$f":"E514*I514/H514","v":364.9134968859934},{"$nulls":3},8.85735e-07,{"$f":"E514/100000","v":0.035745},{"$f":"P509-P509*O509","v":91688.32742118233},{"$f":"P514*5*N514","v":0.4060578034420046},null,0.027,{"$f":"E514/100000","v":0.035745},{"$f":"U509-U509*T509","v":91688.32742118233},9.033743209380722]
[null,null,56,38,null,0.006622,{"$nulls":7},9.8784e-07,null,null,0,null,0.028,null,null,0]
[null,null,57,39,null,0.007102,{"$nulls":7},1.097505E-6,null,null,0,null,0.029,null,null,0]
[null,null,58,40,null,{"v":0.00763,"d":"0.007630"},{"$nulls":7},1.215E-6,null,null,0,null,0.03,null,null,0]
[null,null,59,41,null,0.008205,{"$nulls":7},1.340595E-6,null,null,0,null,0.031,null,null,0]
[null,null,60,42,{"$f":"(F519+F520+F521+F522+F523)*100000","v":{"v":5144.400000000001,"d":"5,144.400000"}},0.008826,null,{"$f":"303307/2","v":{"v":151653.5,"d":"151,654"}},{"$f":"30964/2","v":{"v":15482,"d":"15,482"}},{"$f":"E519*I519/H519","v":525.1814221234591},{"$nulls":3},1.47456E-6,{"$f":"E519/100000","v":0.051444000000000004},{"$f":"P514-P514*O514","v":88410.92815751217},{"$f":"P519*5*N519","v":0.6518360911197058},null,0.032,{"$f":"E519/100000","v":0.051444000000000004},{"$f":"U514-U514*T514","v":88410.92815751217},14.85816863392551]
[null,null,61,43,null,{"v":9.495E-3,"d":"0.009495"},{"$nulls":7},1.617165E-6,null,null,0,null,0.033,null,null,0]
[null,null,62,44,null,0.010217,{"$nulls":7},1.76868E-6,null,null,0,null,0.034,null,null,0]
[null,null,63,45,null,{"v":0.01101,"d":"0.011010"},{"$nulls":7},1.929375e-06,null,null,0,null,0.035,null,null,0]
[null,null,64,46,null,0.011896,{"$nulls":7},2.09952e-06,null,null,0,null,0.036000000000000004,null,null,0]
[null,null,65,{"$f":"C524-$O$51","v":47},{"$f":"(F524+F525+F526+F527+F528)*100000","v":{"v":7712.8,"d":"7,712.800000"}},0.012923,null,{"$f":"401032/2","v":{"v":200516,"d":"200,516"}},{"$f":"48536/2","v":{"v":24268,"d":"24,268"}},{"$f":"E524*I524/H524","v":933.4628179297413},{"$nulls":3},{"$f":"IF($D524<10,0, IF(AND(OR($D524>10, $D524=10),$D524<10+$B$461),$B$459*$B$460*(($D524-10)^3), $B$459*$B$460*(($D524-10)^3-($D524-10-$B$461)^3)))","v":2.279385e-06},{"$f":"E524/100000","v":0.077128},{"$f":"P519-P519*O519","v":83862.71636937711},{"$f":"P524*5*N524","v":0.9557770887580632},null,{"$f":"IF($D524<10,0, IF(AND(OR($D524>10, $D524=10),$D524<10+$B$461),$B$458*$B$460*(($D524-10)), $B$458*$B$460*(($D524-10)-($D524-10-$B$461))))","v":0.037},{"$f":"E524/100000","v":0.077128},{"$f":"U519-U519*T519","v":83862.71636937711},28.964609190318516]
[null,null,66,48,null,0.014095,{"$nulls":7},2.46924e-06,null,null,{"$f":"P525*N525","v":0},null,0.038,null,null,{"$f":"U525*S525*J525/100000","v":0}]
[null,null,67,49,null,0.015356,{"$nulls":7},2.669355E-6,null,null,0,null,0.039,null,null,0]
[null,null,68,50,null,0.016682,{"$nulls":7},2.88E-6,null,null,0,null,0.04,null,null,0]
[null,null,69,51,null,0.018072,{"$nulls":7},3.101445e-06,null,null,0,null,0.041,null,null,0]
[null,null,70,52,{"$f":"(F529+F530+F531+F532+F533)*100000","v":{"v":11861.8,"d":"11,861.800000"}},{"v":0.01963,"d":"0.019630"},null,{"$f":"401032/2","v":{"v":200516,"d":"200,516"}},{"$f":"48536/2","v":{"v":24268,"d":"24,268"}},{"$f":"E529*I529/H529","v":1435.6069460791157},{"$nulls":3},3.33396e-06,{"$f":"E529/100000","v":0.11861799999999999},{"$f":"P524-P524*O524","v":77394.55278123979},{"$f":"P529*5*N529","v":1.2901517159527112},null,0.042,{"$f":"E529/100000","v":0.11861799999999999},{"$f":"U524-U524*T524","v":77394.55278123979},46.66542617580253]
[null,null,71,53,null,{"v":0.02143,"d":"0.021430"},{"$nulls":7},3.577815e-06,null,null,0,null,0.043000000000000003,null,null,0]
[null,null,72,54,null,0.023431,{"$nulls":7},3.83328e-06,null,null,0,null,0.044,null,null,0]
[null,null,73,55,null,0.025763,{"$nulls":7},4.100625e-06,null,null,0,null,0.045,null,null,0]
[null,null,74,56,null,0.028364,{"$nulls":7},4.380075e-06,null,null,0,null,0.045,null,null,0]
[null,null,75,57,{"$f":"(F534+F535+F536+F537+F538)*100000","v":{"v":18984.100000000002,"d":"18,984.100000"}},{"v":0.03106,"d":"0.031060"},null,{"$f":"627727/2","v":{"v":313863.5,"d":"313,864"}},{"$f":"46860/2","v":{"v":23430,"d":"23,430"}},{"$f":"E534*I534/H534","v":1417.1684920355506},{"$nulls":3},4.671675e-06,{"$f":"E534/100000","v":0.189841},{"$f":"P529-P529*O529","v":68214.16571943469},{"$f":"P534*5*N534","v":1.5933720631867},null,0.045,{"$f":"E534/100000","v":0.189841},{"$f":"U529-U529*T529","v":68214.16571943469},43.50193486563348]
[null,null,76,58,null,0.034041,{"$nulls":7},4.975425e-06,null,null,0,null,0.045,null,null,0]
[null,null,77,59,null,0.037491,{"$nulls":7},5.291325e-06,null,null,0,null,0.045,null,null,0]
[null,null,78,60,null,0.041456,{"$nulls":7},5.619375e-06,null,null,0,null,0.045,null,null,0]
[null,null,79,61,null,0.045793,{"$nulls":7},5.959575e-06,null,null,0,null,0.045,null,null,0]
[null,null,80,62,{"$f":"(F539+F540+F541+F542+F543)*100000","v":{"v":31110.699999999997,"d":"31,110.700000"}},0.050433,null,{"$f":"627727/2","v":{"v":313863.5,"d":"313,864"}},{"$f":"46860/2","v":{"v":23430,"d":"23,430"}},{"$f":"E539*I539/H539","v":2322.422648699195},{"$nulls":3},6.311925e-06,{"$f":"E539/100000","v":0.31110699999999997},{"$f":"P534-P534*O534","v":55264.32028509149},{"$f":"P539*5*N539","v":1.7441212240773805},null,0.045,{"$f":"E539/100000","v":0.31110699999999997},{"$f":"U534-U534*T534","v":55264.32028509149},{"$f":"U539*S539*J539/100000","v":57.756199092778274}]
[null,null,81,63,null,0.055465,{"$nulls":7},6.676425e-06,null,null,0,null,0.045,null,null,0]
[null,null,82,64,null,0.061442,{"$nulls":7},7.053075e-06,null,null,0,null,0.045,null,null,0]
[null,null,83,65,null,0.068173,{"$nulls":7},7.441875e-06,null,null,0,null,0.045,null,null,0]
[null,null,84,66,null,0.075594,{"$nulls":7},7.842825e-06,null,null,0,null,0.045,null,null,0]
[null,null,85,67,100000,null,null,{"v":733178,"d":"733,178"},{"v":17605,"d":"17,605"},{"$f":"E544*I544/H544","v":2401.1904339737416},{"$nulls":3},8.255925e-06,{"$f":"E544/100000","v":1},{"$f":"P539-P539*O539","v":38071.203394157536},{"$f":"P544*6.5*N544","v":2.0430344992324154},null,0.045,{"$f":"E544/100000","v":1},{"$f":"U539-U539*T539","v":38071.203394157536},{"$f":"U544*S544*J544/100000*3.5","v":143.98052980487356}]
{"$rows_empty":36}
[{"$nulls":16},{"$f":"SUM(Q459:Q578)/100000*1000000","v":90.60742869880632},{"$nulls":4},{"$f":"SUM(V459:V578)/100000*1000000","v":3504.018809505252}]
[]
[]
["NICHOLSON CALCULATIONS:",3]
[]
["PARAMETERS:",{"$nulls":3},"Both genders",{"$nulls":14},"LUNG CANCER CALCULATIONS"]
["Kl",{"$f":"U54","v":0.013999999999999999},"AGE","AGE CORRECTED ON ONSET TIME","Death Rate per 100,000",null,null,"Number of death","Number of lung cancer deaths","Lung cancer death rate, per 100,000",{"$nulls":4},"MESOTHELIOMA CALCULATIONS",{"$nulls":3},"Asbestos RR of Lung Cancer-1)","Probability of Death Corrected for Asb.-Related Lung Cancer","Number of Survivals From 100,000 Corrected for Asbestos-Related Lung Cancer","Number of Lung Cancer Cases in Surviving Population (Original 100000)"]
["Km",{"$f":"V54","v":8.5000000000000007E-8},0,{"$f":"C588-$O$51","v":-18},637.2,null,null,26412,4,{"$f":"E588*I588/H588","v":0.09650159018627898},{"$nulls":3},{"$f":"IF($D588<10,0, IF(AND(OR($D588>10, $D588=10),$D588<10+$B$590),$B$588*$B$589*(($D588-10)^3), $B$588*$B$589*(($D588-10)^3-($D588-10-$B$590)^3)))","v":0},{"$f":"E588/100000","v":0.006372},{"$f":"100000","v":100000},{"$f":"P588*N588","v":0},null,{"$f":"IF($D588<10,0,IF(AND(OR($D588>10,$D588=10),$D588<10+$B$590),$B$587*$B$589*(($D588-10)),$B$587*$B$589*(($D588-10)-($D588-10-$B$590))))","v":0},{"$f":"E588/100000","v":0.006372},{"$f":"100000","v":100000},{"$f":"U588*S588*J588/100000","v":0}]
["f",{"$f":"M54*2.8","v":{"v":0.1,"d":"1.00E-01"}},1,{"$f":"C589-$O$51","v":-17},{"$f":"(F589+F590+F591+F592)*100000","v":{"v":110.39999999999999,"d":"110.400000"}},0.000429,null,4450,3,{"$f":"E589*I589/H589","v":0.07442696629213483},{"$nulls":3},{"$f":"IF($D589<10,0, IF(AND(OR($D589>10, $D589=10),$D589<10+$B$590),$B$588*$B$589*(($D589-10)^3), $B$588*$B$589*(($D589-10)^3-($D589-10-$B$590)^3)))","v":0},{"$f":"E589/100000","v":0.001104},{"$f":"P588-P588*O588","v":99362.8},{"$f":"P589*4*N589","v":0},null,{"$f":"IF($D589<10,0,IF(AND(OR($D589>10,$D589=10),$D589<10+$B$590),$B$587*$B$589*(($D589-10)),$B$587*$B$589*(($D589-10)-($D589-10-$B$590))))","v":0},{"$f":"E589/100000","v":0.001104},{"$f":"U588-U588*T588","v":99362.8},{"$f":"U589*S589*J589/100000","v":0}]
["d",{"$f":"$H$51","v":45},2,-16,null,0.000288,{"$nulls":7},0,null,null,{"$f":"P590*N590","v":0},null,0,null,null,0]
[null,null,3,-15,null,0.000219,{"$nulls":7},0,null,null,0,null,0,null,null,0]
[null,null,4,-14,null,0.000168,{"$nulls":7},0,null,null,0,null,0,null,null,0]
[null,null,5,-13,{"$f":"(F593+F594+F595+F596+F597)*100000","v":{"v":62.5,"d":"62.500000"}},{"v":1.56E-4,"d":"0.000156"},null,{"$f":"5651/2","v":2825.5},{"$f":"5/2","v":{"v":2.5,"d":"3"}},{"$f":"E593*I593/H593","v":0.055299946912050965},{"$nulls":3},0,{"$f":"E593/100000","v":0.000625},{"$f":"P589-P589*O589","v":99253.1034688},{"$f":"P593*5*N593","v":0},null,0,{"$f":"E593/100000","v":0.000625},{"$f":"U589-U589*T589","v":99253.1034688},0]
[null,null,6,-12,null,0.000139,{"$nulls":7},0,null,null,0,null,0,null,null,0]
[null,null,7,-11,null,{"v":1.25E-4,"d":"0.000125"},{"$nulls":7},0,null,null,0,null,0,null,null,0]
[null,null,8,-10,null,{"v":1.1E-4,"d":"0.000110"},{"$nulls":7},0,null,null,0,null,0,null,null,0]
[null,null,9,-9,null,{"v":9.5e-05,"d":"0.000095"},{"$nulls":7},0,null,null,0,null,0,null,null,0]
[null,null,10,-8,{"$f":"(F598+F599+F600+F601+F602)*100000","v":{"v":75.1,"d":"75.100000"}},{"v":8.5e-05,"d":"0.000085"},null,{"$f":"5651/2","v":2825.5},{"$f":"5/2","v":{"v":2.5,"d":"3"}},{"$f":"E598*I598/H598","v":0.06644841620952044},{"$nulls":3},0,{"$f":"E598/100000","v":7.5099999999999993E-4},{"$f":"P593-P593*O593","v":99191.070279132},{"$f":"P598*5*N598","v":0},null,0,{"$f":"E598/100000","v":7.5099999999999993E-4},{"$f":"U593-U593*T593","v":99191.070279132},0]
[null,null,11,-7,null,{"v":9.1e-05,"d":"0.000091"},{"$nulls":7},0,null,null,0,null,0,null,null,0]
[null,null,12,-6,null,{"v":1.22E-4,"d":"0.000122"},{"$nulls":7},0,null,null,0,null,0,null,null,0]
[null,null,13,-5,null,{"v":1.85E-4,"d":"0.000185"},{"$nulls":7},0,null,null,0,null,0,null,null,0]
[null,null,14,-4,null,0.000268,{"$nulls":7},0,null,null,0,null,0,null,null,0]
[null,null,15,-3,{"$f":"(F603+F604+F605+F606+F607)*100000","v":{"v":259.2,"d":"259.200000"}},0.000355,null,{"$f":"30416/2","v":15208},{"$f":"25/2","v":{"v":12.5,"d":"13"}},{"$f":"E603*I603/H603","v":0.2130457653866386},{"$nulls":3},0,{"$f":"E603/100000","v":2.5919999999999997E-3},{"$f":"P598-P598*O598","v":99116.57778535238},{"$f":"P603*5*N603","v":0},null,0,{"$f":"E603/100000","v":2.5919999999999997E-3},{"$f":"U598-U598*T598","v":99116.57778535238},{"$f":"U603*S603*J603/100000","v":0}]
[null,null,16,-2,null,0.000438,{"$nulls":7},0,null,null,0,null,0,null,null,{"$f":"U604*S604*J604/100000","v":0}]
[null,null,17,-1,null,{"v":0.00052,"d":"0.000520"},{"$nulls":7},0,null,null,0,null,0,null,null,0]
[null,null,18,0,null,{"v":0.0006,"d":"0.000600"},{"$nulls":7},0,null,null,0,null,0,null,null,0]
[null,null,19,1,null,0.000679,{"$nulls":7},0,null,null,0,null,0,null,null,0]
[null,null,20,2,{"$f":"(F608+F609+F610+F611+F612)*100000","v":{"v":442.09999999999997,"d":"442.100000"}},0.000765,null,{"$f":"30416/2","v":15208},{"$f":"25/2","v":{"v":12.5,"d":"13"}},{"$f":"E608*I608/H608","v":0.363377827459232},{"$nulls":3},0,{"$f":"E608/100000","v":0.004421},{"$f":"P603-P603*O603","v":98859.66761573275},{"$f":"P608*5*N608","v":0},null,0,{"$f":"E608/100000","v":0.004421},{"$f":"U603-U603*T603","v":98859.66761573275},0]
[null,null,21,3,null,0.000848,{"$nulls":7},0,null,null,0,null,0,null,null,0]
[null,null,22,4,null,0.000911,{"$nulls":7},0,null,null,0,null,0,null,null,0]
[null,null,23,5,null,0.000944,{"$nulls":7},0,null,null,0,null,0,null,null,0]
[null,null,24,6,null,0.000953,{"$nulls":7},0,null,null,0,null,0,null,null,0]
[null,null,25,7,{"$f":"(F613+F614+F615+F616+F617)*100000","v":{"v":488.9000000000001,"d":"488.900000"}},0.000956,null,{"$f":"42502/2","v":21251},{"$f":"146/2","v":73},{"$f":"E613*I613/H613","v":1.6794362618229732},{"$nulls":3},0,{"$f":"E613/100000","v":4.889000000000001E-3},{"$f":"P608-P608*O608","v":98422.6090252036},{"$f":"P613*5*N613","v":0},null,0,{"$f":"E613/100000","v":4.889000000000001E-3},{"$f":"U608-U608*T608","v":98422.6090252036},0]
[null,null,26,8,null,0.000963,{"$nulls":7},0,null,null,0,null,0,null,null,0]
[null,null,27,9,null,0.000972,{"$nulls":7},0,null,null,0,null,0,null,null,0]
[null,null,28,10,null,0.000988,{"$nulls":7},0,null,null,0,null,0,null,null,0]
[null,null,29,11,null,{"v":1.01E-3,"d":"0.001010"},{"$nulls":7},8.5000000000000017E-9,null,null,0,null,1.4E-3,null,null,0]
[null,null,30,12,{"$f":"(F618+F619+F620+F621+F622)*100000","v":{"v":557.3,"d":"557.300000"}},0.001038,null,{"$f":"42502/2","v":21251},{"$f":"146/2","v":73},{"$f":"E618*I618/H618","v":1.9143993223848286},{"$nulls":3},6.8000000000000013E-8,{"$f":"E618/100000","v":0.005573},{"$f":"P613-P613*O613","v":97941.42088967937},{"$f":"P618*5*N618","v":0.03330008310249099},null,2.8E-3,{"$f":"E618/100000","v":0.005573},{"$f":"U613-U613*T613","v":97941.42088967937},0.005249971713969065]
[null,null,31,13,null,{"v":1.07E-3,"d":"0.001070"},{"$nulls":7},2.2950000000000004E-7,null,null,0,null,0.0042,null,null,0]
[null,null,32,14,null,{"v":1.111E-3,"d":"0.001111"},{"$nulls":7},5.4400000000000011E-7,null,null,0,null,0.0056,null,null,0]
[null,null,33,15,null,{"v":1.152E-3,"d":"0.001152"},{"$nulls":7},1.0625000000000002E-6,null,null,0,null,0.007,null,null,0]
[null,null,34,16,null,0.001202,{"$nulls":7},1.8360000000000003E-6,null,null,0,null,0.0084,null,null,0]
[null,null,35,17,{"$f":"(F623+F624+F625+F626+F627)*100000","v":{"v":718.3000000000001,"d":"718.300000"}},0.001262,null,{"$f":"74665/2","v":37332.5},{"$f":"1517/2","v":{"v":758.5,"d":"759"}},{"$f":"E623*I623/H623","v":14.59400120538405},{"$nulls":3},2.9155000000000007E-6,{"$f":"E623/100000","v":7.183000000000001E-3},{"$f":"P618-P618*O618","v":97395.5933510612},{"$f":"P623*5*N623","v":1.419784262075095},null,0.0098,{"$f":"E623/100000","v":7.183000000000001E-3},{"$f":"U618-U618*T618","v":97395.5933510612},0.13929635786291922]
[null,null,36,18,null,{"v":1.335E-3,"d":"0.001335"},{"$nulls":7},4.3520000000000009E-6,null,null,0,null,0.0112,null,null,0]
[null,null,37,19,null,{"v":1.421E-3,"d":"0.001421"},{"$nulls":7},6.1965000000000016E-6,null,null,0,null,0.0126,null,null,0]
[null,null,38,20,null,0.001522,{"$nulls":7},8.5000000000000016E-6,null,null,0,null,0.014,null,null,0]
[null,null,39,21,null,0.001643,{"$nulls":7},1.1313500000000003E-5,null,null,0,null,0.0154,null,null,0]
[null,null,40,22,{"$f":"(F628+F629+F630+F631+F632)*100000","v":{"v":1072.5,"d":"1,072.500000"}},0.001778,null,{"$f":"74665/2","v":37332.5},{"$f":"1517/2","v":{"v":758.5,"d":"759"}},{"$f":"E628*I628/H628","v":21.790430589968526},{"$nulls":3},1.4688000000000002E-5,{"$f":"E628/100000","v":0.010725},{"$f":"P623-P623*O623","v":96696.00080402053},{"$f":"P628*5*N628","v":7.101354299047269},null,0.0168,{"$f":"E628/100000","v":0.010725},{"$f":"U623-U623*T623","v":96696.00080402053},0.3539839789663884]
[null,null,41,23,null,{"v":1.933E-3,"d":"0.001933"},{"$nulls":7},1.8674500000000002E-5,null,null,0,null,0.0182,null,null,0]
[null,null,42,24,null,0.002118,{"$nulls":7},2.3324000000000006E-5,null,null,0,null,0.0196,null,null,0]
[null,null,43,25,null,0.002332,{"$nulls":7},2.8687500000000006E-5,null,null,0,null,0.021,null,null,0]
[null,null,44,26,null,0.002564,{"$nulls":7},3.4816000000000007E-5,null,null,0,null,0.0224,null,null,0]
[null,null,45,27,{"$f":"(F633+F634+F635+F636+F637)*100000","v":{"v":1666.5,"d":"1,666.500000"}},0.002796,null,{"$f":"187568/2","v":{"v":93784,"d":"93,784"}},{"$f":"12488/2","v":{"v":6244,"d":"6,244"}},{"$f":"E633*I633/H633","v":110.9531050072507},{"$nulls":3},4.1760500000000008E-5,{"$f":"E633/100000","v":0.016665},{"$f":"P628-P628*O628","v":95658.93619539741},{"$f":"P633*5*N633","v":19.973825024939472},null,0.023799999999999998,{"$f":"E633/100000","v":0.016665},{"$f":"U628-U628*T628","v":95658.93619539741},2.526050126231618]
[null,null,46,28,null,0.003034,{"$nulls":7},4.9572000000000013E-5,null,null,0,null,0.0252,null,null,0]
[null,null,47,29,null,{"v":3.297E-3,"d":"0.003297"},{"$nulls":7},5.8301500000000011E-5,null,null,0,null,0.0266,null,null,0]
[null,null,48,30,null,{"v":0.0036,"d":"0.003600"},{"$nulls":7},6.8000000000000013E-5,null,null,0,null,0.028,null,null,0]
[null,null,49,31,null,0.003938,{"$nulls":7},7.8718500000000009E-5,null,null,0,null,0.0294,null,null,0]
[null,null,50,32,{"$f":"(F638+F639+F640+F641+F642)*100000","v":{"v":2526.4,"d":"2,526.400000"}},0.004306,null,{"$f":"187568/2","v":{"v":93784,"d":"93,784"}},{"$f":"12488/2","v":{"v":6244,"d":"6,244"}},{"$f":"E638*I638/H638","v":168.2039750917001},{"$nulls":3},9.0508000000000022E-5,{"$f":"E638/100000","v":0.025264},{"$f":"P633-P633*O633","v":94064.78002370111},{"$f":"P638*5*N638","v":42.568075551925716},null,0.0308,{"$f":"E638/100000","v":0.025264},{"$f":"U633-U633*T633","v":94064.78002370111},4.873197534162764]
[null,null,51,33,null,0.004682,{"$nulls":7},1.0341950000000001E-4,null,null,0,null,0.0322,null,null,0]
[null,null,52,34,null,{"v":5.058E-3,"d":"0.005058"},{"$nulls":7},1.1750400000000002E-4,null,null,0,null,0.0336,null,null,0]
[null,null,53,35,null,{"v":5.424E-3,"d":"0.005424"},{"$nulls":7},1.3281250000000004E-4,null,null,0,null,0.034999999999999996,null,null,0]
[null,null,54,36,null,0.005794,{"$nulls":7},1.4939600000000002E-4,null,null,0,null,0.0364,null,null,0]
[null,null,55,37,{"$f":"(F643+F644+F645+F646+F647)*100000","v":{"v":3574.5,"d":"3,574.500000"}},0.006186,null,{"$f":"303307/2","v":{"v":151653.5,"d":"151,654"}},{"$f":"30964/2","v":{"v":15482,"d":"15,482"}},{"$f":"E643*I643/H643","v":364.9134968859934},{"$nulls":3},1.6730550000000003E-4,{"$f":"E643/100000","v":0.035745},{"$f":"P638-P638*O638","v":91688.32742118233},{"$f":"P643*5*N643","v":76.69980731682311},null,0.0378,{"$f":"E643/100000","v":0.035745},{"$f":"U638-U638*T638","v":91688.32742118233},12.647240493133012]
[null,null,56,38,null,0.006622,{"$nulls":7},1.8659200000000005E-4,null,null,0,null,0.0392,null,null,0]
[null,null,57,39,null,0.007102,{"$nulls":7},2.0730650000000005E-4,null,null,0,null,0.0406,null,null,0]
[null,null,58,40,null,{"v":0.00763,"d":"0.007630"},{"$nulls":7},2.2950000000000005E-4,null,null,0,null,0.042,null,null,0]
[null,null,59,41,null,0.008205,{"$nulls":7},2.5322350000000007E-4,null,null,0,null,0.0434,null,null,0]
[null,null,60,42,{"$f":"(F648+F649+F650+F651+F652)*100000","v":{"v":5144.400000000001,"d":"5,144.400000"}},0.008826,null,{"$f":"303307/2","v":{"v":151653.5,"d":"151,654"}},{"$f":"30964/2","v":{"v":15482,"d":"15,482"}},{"$f":"E648*I648/H648","v":525.1814221234591},{"$nulls":3},2.7852800000000005E-4,{"$f":"E648/100000","v":0.051444000000000004},{"$f":"P643-P643*O643","v":88410.92815751217},{"$f":"P648*5*N648","v":123.12459498927777},null,0.0448,{"$f":"E648/100000","v":0.051444000000000004},{"$f":"U643-U643*T643","v":88410.92815751217},20.801436087495716]
[null,null,61,43,null,{"v":9.495E-3,"d":"0.009495"},{"$nulls":7},3.0546450000000004E-4,null,null,0,null,0.0462,null,null,0]
[null,null,62,44,null,0.010217,{"$nulls":7},3.3408400000000006E-4,null,null,0,null,0.047599999999999996,null,null,0]
[null,null,63,45,null,{"v":0.01101,"d":"0.011010"},{"$nulls":7},3.6443750000000007E-4,null,null,0,null,0.049,null,null,0]
[null,null,64,46,null,0.011896,{"$nulls":7},3.965760000000001E-4,null,null,0,null,0.0504,null,null,0]
[null,null,65,{"$f":"C653-$O$51","v":47},{"$f":"(F653+F654+F655+F656+F657)*100000","v":{"v":7712.8,"d":"7,712.800000"}},0.012923,null,{"$f":"401032/2","v":{"v":200516,"d":"200,516"}},{"$f":"48536/2","v":{"v":24268,"d":"24,268"}},{"$f":"E653*I653/H653","v":933.4628179297413},{"$nulls":3},{"$f":"IF($D653<10,0, IF(AND(OR($D653>10, $D653=10),$D653<10+$B$590),$B$588*$B$589*(($D653-10)^3), $B$588*$B$589*(($D653-10)^3-($D653-10-$B$590)^3)))","v":4.3055050000000009E-4},{"$f":"E653/100000","v":0.077128},{"$f":"P648-P648*O648","v":83862.71636937711},{"$f":"P653*5*N653","v":180.53567232096754},null,{"$f":"IF($D653<10,0,IF(AND(OR($D653>10,$D653=10),$D653<10+$B$590),$B$587*$B$589*(($D653-10)),$B$587*$B$589*(($D653-10)-($D653-10-$B$590))))","v":0.0518},{"$f":"E653/100000","v":0.077128},{"$f":"U648-U648*T648","v":83862.71636937711},40.55045286644592]
[null,null,66,48,null,0.014095,{"$nulls":7},4.6641200000000009E-4,null,null,{"$f":"P654*N654","v":0},null,0.0532,null,null,0]
[null,null,67,49,null,0.015356,{"$nulls":7},5.0421150000000013E-4,null,null,0,null,0.0546,null,null,0]
[null,null,68,50,null,0.016682,{"$nulls":7},5.440000000000001E-4,null,null,0,null,0.056,null,null,0]
[null,null,69,51,null,0.018072,{"$nulls":7},5.8582850000000011E-4,null,null,0,null,0.0574,null,null,0]
[null,null,70,52,{"$f":"(F658+F659+F660+F661+F662)*100000","v":{"v":11861.8,"d":"11,861.800000"}},{"v":0.01963,"d":"0.019630"},null,{"$f":"401032/2","v":{"v":200516,"d":"200,516"}},{"$f":"48536/2","v":{"v":24268,"d":"24,268"}},{"$f":"E658*I658/H658","v":1435.6069460791157},{"$nulls":3},6.2974800000000007E-4,{"$f":"E658/100000","v":0.11861799999999999},{"$f":"P653-P653*O653","v":77394.55278123979},{"$f":"P658*5*N658","v":243.695324124401},null,0.0588,{"$f":"E658/100000","v":0.11861799999999999},{"$f":"U653-U653*T653","v":77394.55278123979},65.33159664612354]
[null,null,71,53,null,{"v":0.02143,"d":"0.021430"},{"$nulls":7},6.7580950000000015E-4,null,null,0,null,0.0602,null,null,0]
[null,null,72,54,null,0.023431,{"$nulls":7},7.2406400000000017E-4,null,null,0,null,0.0616,null,null,0]
[null,null,73,55,null,0.025763,{"$nulls":7},7.7456250000000019E-4,null,null,0,null,0.063,null,null,0]
[null,null,74,56,null,0.028364,{"$nulls":7},8.2734750000000015E-4,null,null,0,null,0.063,null,null,0]
[null,null,75,57,{"$f":"(F663+F664+F665+F666+F667)*100000","v":{"v":18984.100000000002,"d":"18,984.100000"}},{"v":0.03106,"d":"0.031060"},null,{"$f":"627727/2","v":{"v":313863.5,"d":"313,864"}},{"$f":"46860/2","v":{"v":23430,"d":"23,430"}},{"$f":"E663*I663/H663","v":1417.1684920355506},{"$nulls":3},8.8242750000000014E-4,{"$f":"E663/100000","v":0.189841},{"$f":"P658-P658*O658","v":68214.16571943469},{"$f":"P663*5*N663","v":300.9702786019323},null,0.063,{"$f":"E663/100000","v":0.189841},{"$f":"U658-U658*T658","v":68214.16571943469},60.90270881188688]
[null,null,76,58,null,0.034041,{"$nulls":7},9.3980250000000017E-4,null,null,0,null,0.063,null,null,0]
[null,null,77,59,null,0.037491,{"$nulls":7},9.9947250000000012E-4,null,null,0,null,0.063,null,null,0]
[null,null,78,60,null,0.041456,{"$nulls":7},1.0614375000000003E-3,null,null,0,null,0.063,null,null,0]
[null,null,79,61,null,0.045793,{"$nulls":7},1.1256975000000003E-3,null,null,0,null,0.063,null,null,0]
[null,null,80,62,{"$f":"(F668+F669+F670+F671+F672)*100000","v":{"v":31110.699999999997,"d":"31,110.700000"}},0.050433,null,{"$f":"627727/2","v":{"v":313863.5,"d":"313,864"}},{"$f":"46860/2","v":{"v":23430,"d":"23,430"}},{"$f":"E668*I668/H668","v":2322.422648699195},{"$nulls":3},1.1922525000000002E-3,{"$f":"E668/100000","v":0.31110699999999997},{"$f":"P663-P663*O663","v":55264.32028509149},{"$f":"P668*5*N668","v":329.44512010350525},null,0.063,{"$f":"E668/100000","v":0.31110699999999997},{"$f":"U663-U663*T663","v":55264.32028509149},{"$f":"U668*S668*J668/100000","v":80.85867872988959}]
[null,null,81,63,null,0.055465,{"$nulls":7},1.2611025000000002E-3,null,null,0,null,0.063,null,null,{"$f":"U669*S669*J669/100000","v":0}]
[null,null,82,64,null,0.061442,{"$nulls":7},1.3322475000000003E-3,null,null,0,null,0.063,null,null,0]
[null,null,83,65,null,0.068173,{"$nulls":7},1.4056875000000003E-3,null,null,0,null,0.063,null,null,0]
[null,null,84,66,null,0.075594,{"$nulls":7},1.4814225000000002E-3,null,null,0,null,0.063,null,null,0]
[null,null,85,67,100000,null,null,{"v":733178,"d":"733,178"},{"v":17605,"d":"17,605"},{"$f":"E673*I673/H673","v":2401.1904339737416},{"$nulls":3},1.5594525000000004E-3,{"$f":"E673/100000","v":1},{"$f":"P668-P668*O668","v":38071.203394157536},{"$f":"P673*6.5*N673","v":385.90651652167855},null,0.063,{"$f":"E673/100000","v":1},{"$f":"U668-U668*T668","v":38071.203394157536},{"$f":"U673*S673*J673/100000*3.5","v":201.57274172682295}]
{"$rows_empty":36}
[{"$nulls":16},{"$f":"SUM(Q588:Q707)/100000*1000000","v":17114.736531996754},{"$nulls":4},{"$f":"SUM(V588:V707)/100000*1000000","v":4905.626333307354}]
[]
["NICHOLSON CALCULATIONS:",4]
[]
["PARAMETERS:",{"$nulls":3},"Both genders",{"$nulls":14},"LUNG CANCER CALCULATIONS"]
["Kl",{"$f":"U56","v":0.013999999999999999},"AGE","AGE CORRECTED ON ONSET TIME","Death Rate per 100,000",null,null,"Number of death","Number of lung cancer deaths","Lung cancer death rate, per 100,000",{"$nulls":4},"MESOTHELIOMA CALCULATIONS",{"$nulls":3},"Asbestos RR of Lung Cancer-1)","Probability of Death Corrected for Asb.-Related Lung Cancer","Number of Survivals From 100,000 Corrected for Asbestos-Related Lung Cancer","Number of Lung Cancer Cases in Surviving Population (Original 100000)"]
["Km",{"$f":"V56","v":8.5000000000000007E-8},0,{"$f":"C716-$O$51","v":-18},637.2,null,null,26412,4,{"$f":"E716*I716/H716","v":0.09650159018627898},{"$nulls":3},{"$f":"IF($D716<10,0, IF(AND(OR($D716>10, $D716=10),$D716<10+$B$718),$B$716*$B$717*(($D716-10)^3), $B$716*$B$717*(($D716-10)^3-($D716-10-$B$718)^3)))","v":0},{"$f":"E716/100000","v":0.006372},{"$f":"100000","v":100000},{"$f":"P716*N716","v":0},null,{"$f":"IF($D716<10,0,IF(AND(OR($D716>10,$D716=10),$D716<10+$B$718),$B$715*$B$717*(($D716-10)),$B$715*$B$717*(($D716-10)-($D716-10-$B$718))))","v":0},{"$f":"E716/100000","v":0.006372},{"$f":"100000","v":100000},{"$f":"U716*S716*J716/100000","v":0}]
["f",{"$f":"M56*2.8","v":{"v":0.005,"d":"5.00E-03"}},1,{"$f":"C717-$O$51","v":-17},{"$f":"(F717+F718+F719+F720)*100000","v":{"v":110.39999999999999,"d":"110.400000"}},0.000429,null,4450,3,{"$f":"E717*I717/H717","v":0.07442696629213483},{"$nulls":3},{"$f":"IF($D717<10,0, IF(AND(OR($D717>10, $D717=10),$D717<10+$B$718),$B$716*$B$717*(($D717-10)^3), $B$716*$B$717*(($D717-10)^3-($D717-10-$B$718)^3)))","v":0},{"$f":"E717/100000","v":0.001104},{"$f":"P716-P716*O716","v":99362.8},{"$f":"P717*4*N717","v":0},null,{"$f":"IF($D717<10,0,IF(AND(OR($D717>10,$D717=10),$D717<10+$B$718),$B$715*$B$717*(($D717-10)),$B$715*$B$717*(($D717-10)-($D717-10-$B$718))))","v":0},{"$f":"E717/100000","v":0.001104},{"$f":"U716-U716*T716","v":99362.8},{"$f":"U717*S717*J717/100000","v":0}]
["d",{"$f":"$H$51","v":45},2,-16,null,0.000288,{"$nulls":7},0,null,null,{"$f":"P718*N718","v":0},null,0,null,null,0]
[null,null,3,-15,null,0.000219,{"$nulls":7},0,null,null,0,null,0,null,null,0]
[null,null,4,-14,null,0.000168,{"$nulls":7},0,null,null,0,null,0,null,null,0]
[null,null,5,-13,{"$f":"(F721+F722+F723+F724+F725)*100000","v":{"v":62.5,"d":"62.500000"}},{"v":1.56E-4,"d":"0.000156"},null,{"$f":"5651/2","v":2825.5},{"$f":"5/2","v":{"v":2.5,"d":"3"}},{"$f":"E721*I721/H721","v":0.055299946912050965},{"$nulls":3},0,{"$f":"E721/100000","v":0.000625},{"$f":"P717-P717*O717","v":99253.1034688},{"$f":"P721*5*N721","v":0},null,0,{"$f":"E721/100000","v":0.000625},{"$f":"U717-U717*T717","v":99253.1034688},0]
[null,null,6,-12,null,0.000139,{"$nulls":7},0,null,null,0,null,0,null,null,0]
[null,null,7,-11,null,{"v":1.25E-4,"d":"0.000125"},{"$nulls":7},0,null,null,0,null,0,null,null,0]
[null,null,8,-10,null,{"v":1.1E-4,"d":"0.000110"},{"$nulls":7},0,null,null,0,null,0,null,null,0]
[null,null,9,-9,null,{"v":9.5e-05,"d":"0.000095"},{"$nulls":7},0,null,null,0,null,0,null,null,0]
[null,null,10,-8,{"$f":"(F726+F727+F728+F729+F730)*100000","v":{"v":75.1,"d":"75.100000"}},{"v":8.5e-05,"d":"0.000085"},null,{"$f":"5651/2","v":2825.5},{"$f":"5/2","v":{"v":2.5,"d":"3"}},{"$f":"E726*I726/H726","v":0.06644841620952044},{"$nulls":3},0,{"$f":"E726/100000","v":7.5099999999999993E-4},{"$f":"P721-P721*O721","v":99191.070279132},{"$f":"P726*5*N726","v":0},null,0,{"$f":"E726/100000","v":7.5099999999999993E-4},{"$f":"U721-U721*T721","v":99191.070279132},0]
[null,null,11,-7,null,{"v":9.1e-05,"d":"0.000091"},{"$nulls":7},0,null,null,0,null,0,null,null,0]
[null,null,12,-6,null,{"v":1.22E-4,"d":"0.000122"},{"$nulls":7},0,null,null,0,null,0,null,null,0]
[null,null,13,-5,null,{"v":1.85E-4,"d":"0.000185"},{"$nulls":7},0,null,null,0,null,0,null,null,0]
[null,null,14,-4,null,0.000268,{"$nulls":7},0,null,null,0,null,0,null,null,0]
[null,null,15,-3,{"$f":"(F731+F732+F733+F734+F735)*100000","v":{"v":259.2,"d":"259.200000"}},0.000355,null,{"$f":"30416/2","v":15208},{"$f":"25/2","v":{"v":12.5,"d":"13"}},{"$f":"E731*I731/H731","v":0.2130457653866386},{"$nulls":3},0,{"$f":"E731/100000","v":2.5919999999999997E-3},{"$f":"P726-P726*O726","v":99116.57778535238},{"$f":"P731*5*N731","v":0},null,0,{"$f":"E731/100000","v":2.5919999999999997E-3},{"$f":"U726-U726*T726","v":99116.57778535238},{"$f":"U731*S731*J731/100000","v":0}]
[null,null,16,-2,null,0.000438,{"$nulls":7},0,null,null,0,null,0,null,null,{"$f":"U732*S732*J732/100000","v":0}]
[null,null,17,-1,null,{"v":0.00052,"d":"0.000520"},{"$nulls":7},0,null,null,0,null,0,null,null,0]
[null,null,18,0,null,{"v":0.0006,"d":"0.000600"},{"$nulls":7},0,null,null,0,null,0,null,null,0]
[null,null,19,1,null,0.000679,{"$nulls":7},0,null,null,0,null,0,null,null,0]
[null,null,20,2,{"$f":"(F736+F737+F738+F739+F740)*100000","v":{"v":442.09999999999997,"d":"442.100000"}},0.000765,null,{"$f":"30416/2","v":15208},{"$f":"25/2","v":{"v":12.5,"d":"13"}},{"$f":"E736*I736/H736","v":0.363377827459232},{"$nulls":3},0,{"$f":"E736/100000","v":0.004421},{"$f":"P731-P731*O731","v":98859.66761573275},{"$f":"P736*5*N736","v":0},null,0,{"$f":"E736/100000","v":0.004421},{"$f":"U731-U731*T731","v":98859.66761573275},0]
[null,null,21,3,null,0.000848,{"$nulls":7},0,null,null,0,null,0,null,null,0]
[null,null,22,4,null,0.000911,{"$nulls":7},0,null,null,0,null,0,null,null,0]
[null,null,23,5,null,0.000944,{"$nulls":7},0,null,null,0,null,0,null,null,0]
[null,null,24,6,null,0.000953,{"$nulls":7},0,null,null,0,null,0,null,null,0]
[null,null,25,7,{"$f":"(F741+F742+F743+F744+F745)*100000","v":{"v":488.9000000000001,"d":"488.900000"}},0.000956,null,{"$f":"42502/2","v":21251},{"$f":"146/2","v":73},{"$f":"E741*I741/H741","v":1.6794362618229732},{"$nulls":3},0,{"$f":"E741/100000","v":4.889000000000001E-3},{"$f":"P736-P736*O736","v":98422.6090252036},{"$f":"P741*5*N741","v":0},null,0,{"$f":"E741/100000","v":4.889000000000001E-3},{"$f":"U736-U736*T736","v":98422.6090252036},0]
[null,null,26,8,null,0.000963,{"$nulls":7},0,null,null,0,null,0,null,null,0]
[null,null,27,9,null,0.000972,{"$nulls":7},0,null,null,0,null,0,null,null,0]
[null,null,28,10,null,0.000988,{"$nulls":7},0,null,null,0,null,0,null,null,0]
[null,null,29,11,null,{"v":1.01E-3,"d":"0.001010"},{"$nulls":7},4.2500000000000003E-10,null,null,0,null,7e-05,null,null,0]
[null,null,30,12,{"$f":"(F746+F747+F748+F749+F750)*100000","v":{"v":557.3,"d":"557.300000"}},0.001038,null,{"$f":"42502/2","v":21251},{"$f":"146/2","v":73},{"$f":"E746*I746/H746","v":1.9143993223848286},{"$nulls":3},3.4000000000000003E-9,{"$f":"E746/100000","v":0.005573},{"$f":"P741-P741*O741","v":97941.42088967937},{"$f":"P746*5*N746","v":1.6650041551245494E-3},null,0.00014,{"$f":"E746/100000","v":0.005573},{"$f":"U741-U741*T741","v":97941.42088967937},2.6249858569845329E-4]
[null,null,31,13,null,{"v":1.07E-3,"d":"0.001070"},{"$nulls":7},1.1475E-8,null,null,0,null,2.0999999999999998E-4,null,null,0]
[null,null,32,14,null,{"v":1.111E-3,"d":"0.001111"},{"$nulls":7},2.7200000000000002E-8,null,null,0,null,0.00028,null,null,0]
[null,null,33,15,null,{"v":1.152E-3,"d":"0.001152"},{"$nulls":7},5.3125e-08,null,null,0,null,3.4999999999999994E-4,null,null,0]
[null,null,34,16,null,0.001202,{"$nulls":7},9.18e-08,null,null,0,null,4.1999999999999996E-4,null,null,0]
[null,null,35,17,{"$f":"(F751+F752+F753+F754+F755)*100000","v":{"v":718.3000000000001,"d":"718.300000"}},0.001262,null,{"$f":"74665/2","v":37332.5},{"$f":"1517/2","v":{"v":758.5,"d":"759"}},{"$f":"E751*I751/H751","v":14.59400120538405},{"$nulls":3},1.4577500000000002E-7,{"$f":"E751/100000","v":7.183000000000001E-3},{"$f":"P746-P746*O746","v":97395.5933510612},{"$f":"P751*5*N751","v":0.07098921310375474},null,0.00049,{"$f":"E751/100000","v":7.183000000000001E-3},{"$f":"U746-U746*T746","v":97395.5933510612},0.00696481789314596]
[null,null,36,18,null,{"v":1.335E-3,"d":"0.001335"},{"$nulls":7},2.1760000000000002E-7,null,null,0,null,0.00056,null,null,0]
[null,null,37,19,null,{"v":1.421E-3,"d":"0.001421"},{"$nulls":7},3.0982500000000004E-7,null,null,0,null,6.2999999999999992E-4,null,null,0]
[null,null,38,20,null,0.001522,{"$nulls":7},4.25e-07,null,null,0,null,6.9999999999999988E-4,null,null,0]
[null,null,39,21,null,0.001643,{"$nulls":7},5.6567500000000009E-7,null,null,0,null,0.00077,null,null,0]
[null,null,40,22,{"$f":"(F756+F757+F758+F759+F760)*100000","v":{"v":1072.5,"d":"1,072.500000"}},0.001778,null,{"$f":"74665/2","v":37332.5},{"$f":"1517/2","v":{"v":758.5,"d":"759"}},{"$f":"E756*I756/H756","v":21.790430589968526},{"$nulls":3},7.344e-07,{"$f":"E756/100000","v":0.010725},{"$f":"P751-P751*O751","v":96696.00080402053},{"$f":"P756*5*N756","v":0.3550677149523634},null,8.3999999999999993E-4,{"$f":"E756/100000","v":0.010725},{"$f":"U751-U751*T751","v":96696.00080402053},0.01769919894831942]
[null,null,41,23,null,{"v":1.933E-3,"d":"0.001933"},{"$nulls":7},9.3372500000000011E-7,null,null,0,null,9.0999999999999989E-4,null,null,0]
[null,null,42,24,null,0.002118,{"$nulls":7},1.1662000000000002E-6,null,null,0,null,0.00098,null,null,0]
[null,null,43,25,null,0.002332,{"$nulls":7},1.4343750000000001E-6,null,null,0,null,0.00105,null,null,0]
[null,null,44,26,null,0.002564,{"$nulls":7},1.7408000000000001E-6,null,null,0,null,0.00112,null,null,0]
[null,null,45,27,{"$f":"(F761+F762+F763+F764+F765)*100000","v":{"v":1666.5,"d":"1,666.500000"}},0.002796,null,{"$f":"187568/2","v":{"v":93784,"d":"93,784"}},{"$f":"12488/2","v":{"v":6244,"d":"6,244"}},{"$f":"E761*I761/H761","v":110.9531050072507},{"$nulls":3},2.0880250000000002E-6,{"$f":"E761/100000","v":0.016665},{"$f":"P756-P756*O756","v":95658.93619539741},{"$f":"P761*5*N761","v":0.9986912512469736},null,1.1899999999999999E-3,{"$f":"E761/100000","v":0.016665},{"$f":"U756-U756*T756","v":95658.93619539741},0.12630250631158088]
[null,null,46,28,null,0.003034,{"$nulls":7},2.4786000000000003E-6,null,null,0,null,1.2599999999999998E-3,null,null,0]
[null,null,47,29,null,{"v":3.297E-3,"d":"0.003297"},{"$nulls":7},2.915075e-06,null,null,0,null,1.3299999999999998E-3,null,null,0]
[null,null,48,30,null,{"v":0.0036,"d":"0.003600"},{"$nulls":7},3.4e-06,null,null,0,null,1.3999999999999998E-3,null,null,0]
[null,null,49,31,null,0.003938,{"$nulls":7},3.935925e-06,null,null,0,null,1.47E-3,null,null,0]
[null,null,50,32,{"$f":"(F766+F767+F768+F769+F770)*100000","v":{"v":2526.4,"d":"2,526.400000"}},0.004306,null,{"$f":"187568/2","v":{"v":93784,"d":"93,784"}},{"$f":"12488/2","v":{"v":6244,"d":"6,244"}},{"$f":"E766*I766/H766","v":168.2039750917001},{"$nulls":3},4.5254000000000008E-6,{"$f":"E766/100000","v":0.025264},{"$f":"P761-P761*O761","v":94064.78002370111},{"$f":"P766*5*N766","v":2.1284037775962856},null,0.00154,{"$f":"E766/100000","v":0.025264},{"$f":"U761-U761*T761","v":94064.78002370111},0.2436598767081382]
[null,null,51,33,null,0.004682,{"$nulls":7},5.170975e-06,null,null,0,null,1.6099999999999999E-3,null,null,0]
[null,null,52,34,null,{"v":5.058E-3,"d":"0.005058"},{"$nulls":7},5.8752e-06,null,null,0,null,1.6799999999999999E-3,null,null,0]
[null,null,53,35,null,{"v":5.424E-3,"d":"0.005424"},{"$nulls":7},6.6406250000000005E-6,null,null,0,null,1.7499999999999998E-3,null,null,0]
[null,null,54,36,null,0.005794,{"$nulls":7},7.4698000000000009E-6,null,null,0,null,1.8199999999999998E-3,null,null,0]
[null,null,55,37,{"$f":"(F771+F772+F773+F774+F775)*100000","v":{"v":3574.5,"d":"3,574.500000"}},0.006186,null,{"$f":"303307/2","v":{"v":151653.5,"d":"151,654"}},{"$f":"30964/2","v":{"v":15482,"d":"15,482"}},{"$f":"E771*I771/H771","v":364.9134968859934},{"$nulls":3},8.365275000000001E-6,{"$f":"E771/100000","v":0.035745},{"$f":"P766-P766*O766","v":91688.32742118233},{"$f":"P771*5*N771","v":3.8349903658411555},null,1.8899999999999998E-3,{"$f":"E771/100000","v":0.035745},{"$f":"U766-U766*T766","v":91688.32742118233},0.6323620246566506]
[null,null,56,38,null,0.006622,{"$nulls":7},9.3296000000000013E-6,null,null,0,null,0.00196,null,null,0]
[null,null,57,39,null,0.007102,{"$nulls":7},1.0365325e-05,null,null,0,null,2.0299999999999997E-3,null,null,0]
[null,null,58,40,null,{"v":0.00763,"d":"0.007630"},{"$nulls":7},1.1475000000000001E-5,null,null,0,null,0.0021,null,null,0]
[null,null,59,41,null,0.008205,{"$nulls":7},1.2661175000000002E-5,null,null,0,null,2.1699999999999996E-3,null,null,0]
[null,null,60,42,{"$f":"(F776+F777+F778+F779+F780)*100000","v":{"v":5144.400000000001,"d":"5,144.400000"}},0.008826,null,{"$f":"303307/2","v":{"v":151653.5,"d":"151,654"}},{"$f":"30964/2","v":{"v":15482,"d":"15,482"}},{"$f":"E776*I776/H776","v":525.1814221234591},{"$nulls":3},1.3926400000000001E-5,{"$f":"E776/100000","v":0.051444000000000004},{"$f":"P771-P771*O771","v":88410.92815751217},{"$f":"P776*5*N776","v":6.156229749463888},null,0.00224,{"$f":"E776/100000","v":0.051444000000000004},{"$f":"U771-U771*T771","v":88410.92815751217},1.0400718043747856]
[null,null,61,43,null,{"v":9.495E-3,"d":"0.009495"},{"$nulls":7},1.5273225E-5,null,null,0,null,2.31E-3,null,null,0]
[null,null,62,44,null,0.010217,{"$nulls":7},1.6704200000000002E-5,null,null,0,null,2.3799999999999997E-3,null,null,0]
[null,null,63,45,null,{"v":0.01101,"d":"0.011010"},{"$nulls":7},1.8221875e-05,null,null,0,null,0.00245,null,null,0]
[null,null,64,46,null,0.011896,{"$nulls":7},1.9828800000000002E-5,null,null,0,null,2.5199999999999997E-3,null,null,0]
[null,null,65,{"$f":"C781-$O$51","v":47},{"$f":"(F781+F782+F783+F784+F785)*100000","v":{"v":7712.8,"d":"7,712.800000"}},0.012923,null,{"$f":"401032/2","v":{"v":200516,"d":"200,516"}},{"$f":"48536/2","v":{"v":24268,"d":"24,268"}},{"$f":"E781*I781/H781","v":933.4628179297413},{"$nulls":3},{"$f":"IF($D781<10,0, IF(AND(OR($D781>10, $D781=10),$D781<10+$B$718),$B$716*$B$717*(($D781-10)^3), $B$716*$B$717*(($D781-10)^3-($D781-10-$B$718)^3)))","v":2.1527525000000002E-5},{"$f":"E781/100000","v":0.077128},{"$f":"P776-P776*O776","v":83862.71636937711},{"$f":"P781*5*N781","v":9.026783616048375},null,{"$f":"IF($D781<10,0,IF(AND(OR($D781>10,$D781=10),$D781<10+$B$718),$B$715*$B$717*(($D781-10)),$B$715*$B$717*(($D781-10)-($D781-10-$B$718))))","v":0.00259},{"$f":"E781/100000","v":0.077128},{"$f":"U776-U776*T776","v":83862.71636937711},2.027522643322296]
[null,null,66,48,null,0.014095,{"$nulls":7},2.33206e-05,null,null,{"$f":"P782*N782","v":0},null,2.6599999999999996E-3,null,null,0]
[null,null,67,49,null,0.015356,{"$nulls":7},2.5210575E-5,null,null,0,null,0.00273,null,null,0]
[null,null,68,50,null,0.016682,{"$nulls":7},2.72E-5,null,null,0,null,2.7999999999999995E-3,null,null,0]
[null,null,69,51,null,0.018072,{"$nulls":7},2.9291425e-05,null,null,0,null,2.8699999999999997E-3,null,null,0]
[null,null,70,52,{"$f":"(F786+F787+F788+F789+F790)*100000","v":{"v":11861.8,"d":"11,861.800000"}},{"v":0.01963,"d":"0.019630"},null,{"$f":"401032/2","v":{"v":200516,"d":"200,516"}},{"$f":"48536/2","v":{"v":24268,"d":"24,268"}},{"$f":"E786*I786/H786","v":1435.6069460791157},{"$nulls":3},3.14874e-05,{"$f":"E786/100000","v":0.11861799999999999},{"$f":"P781-P781*O781","v":77394.55278123979},{"$f":"P786*5*N786","v":12.184766206220049},null,0.00294,{"$f":"E786/100000","v":0.11861799999999999},{"$f":"U781-U781*T781","v":77394.55278123979},3.266579832306177]
[null,null,71,53,null,{"v":0.02143,"d":"0.021430"},{"$nulls":7},3.3790475e-05,null,null,0,null,3.0099999999999997E-3,null,null,0]
[null,null,72,54,null,0.023431,{"$nulls":7},3.6203200000000006E-5,null,null,0,null,0.00308,null,null,0]
[null,null,73,55,null,0.025763,{"$nulls":7},3.8728125e-05,null,null,0,null,3.1499999999999996E-3,null,null,0]
[null,null,74,56,null,0.028364,{"$nulls":7},4.1367375000000005E-5,null,null,0,null,3.1499999999999996E-3,null,null,0]
[null,null,75,57,{"$f":"(F791+F792+F793+F794+F795)*100000","v":{"v":18984.100000000002,"d":"18,984.100000"}},{"v":0.03106,"d":"0.031060"},null,{"$f":"627727/2","v":{"v":313863.5,"d":"313,864"}},{"$f":"46860/2","v":{"v":23430,"d":"23,430"}},{"$f":"E791*I791/H791","v":1417.1684920355506},{"$nulls":3},4.4121375000000006E-5,{"$f":"E791/100000","v":0.189841},{"$f":"P786-P786*O786","v":68214.16571943469},{"$f":"P791*5*N791","v":15.048513930096615},null,3.1499999999999996E-3,{"$f":"E791/100000","v":0.189841},{"$f":"U786-U786*T786","v":68214.16571943469},3.045135440594344]
[null,null,76,58,null,0.034041,{"$nulls":7},4.6990125000000004E-5,null,null,0,null,3.1499999999999996E-3,null,null,0]
[null,null,77,59,null,0.037491,{"$nulls":7},4.9973625E-5,null,null,0,null,3.1499999999999996E-3,null,null,0]
[null,null,78,60,null,0.041456,{"$nulls":7},5.3071875e-05,null,null,0,null,3.1499999999999996E-3,null,null,0]
[null,null,79,61,null,0.045793,{"$nulls":7},5.6284875000000005E-5,null,null,0,null,3.1499999999999996E-3,null,null,0]
[null,null,80,62,{"$f":"(F796+F797+F798+F799+F800)*100000","v":{"v":31110.699999999997,"d":"31,110.700000"}},0.050433,null,{"$f":"627727/2","v":{"v":313863.5,"d":"313,864"}},{"$f":"46860/2","v":{"v":23430,"d":"23,430"}},{"$f":"E796*I796/H796","v":2322.422648699195},{"$nulls":3},5.9612625000000008E-5,{"$f":"E796/100000","v":0.31110699999999997},{"$f":"P791-P791*O791","v":55264.32028509149},{"$f":"P796*5*N796","v":16.472256005175264},null,3.1499999999999996E-3,{"$f":"E796/100000","v":0.31110699999999997},{"$f":"U791-U791*T791","v":55264.32028509149},{"$f":"U796*S796*J796/100000","v":4.042933936494479}]
[null,null,81,63,null,0.055465,{"$nulls":7},6.3055125E-5,null,null,0,null,3.1499999999999996E-3,null,null,{"$f":"U797*S797*J797/100000","v":0}]
[null,null,82,64,null,0.061442,{"$nulls":7},6.6612375000000011E-5,null,null,0,null,3.1499999999999996E-3,null,null,0]
[null,null,83,65,null,0.068173,{"$nulls":7},7.0284375e-05,null,null,0,null,3.1499999999999996E-3,null,null,0]
[null,null,84,66,null,0.075594,{"$nulls":7},7.4071125e-05,null,null,0,null,3.1499999999999996E-3,null,null,0]
[null,null,85,67,100000,null,null,{"v":733178,"d":"733,178"},{"v":17605,"d":"17,605"},{"$f":"E801*I801/H801","v":2401.1904339737416},{"$nulls":3},7.7972625e-05,{"$f":"E801/100000","v":1},{"$f":"P796-P796*O796","v":38071.203394157536},{"$f":"P801*6.5*N801","v":19.29532582608392},null,3.1499999999999996E-3,{"$f":"E801/100000","v":1},{"$f":"U796-U796*T796","v":38071.203394157536},{"$f":"U801*S801*J801/100000*3.5","v":10.078637086341148}]
{"$rows_empty":36}
[{"$nulls":16},{"$f":"SUM(Q716:Q835)/100000*1000000","v":855.7368265998377},{"$nulls":4},{"$f":"SUM(V716:V835)/100000*1000000","v":245.28131666536768}]
[]
[]
[]
["NICHOLSON CALCULATIONS:",5]
[]
["PARAMETERS:",{"$nulls":3},"Both genders",{"$nulls":14},"LUNG CANCER CALCULATIONS"]
["Kl",{"$f":"U57","v":0.013999999999999999},"AGE","AGE CORRECTED ON ONSET TIME","Death Rate per 100,000",null,null,"Number of death","Number of lung cancer deaths","Lung cancer death rate, per 100,000",{"$nulls":4},"MESOTHELIOMA CALCULATIONS",{"$nulls":3},"Asbestos RR of Lung Cancer-1)","Probability of Death Corrected for Asb.-Related Lung Cancer","Number of Survivals From 100,000 Corrected for Asbestos-Related Lung Cancer","Number of Lung Cancer Cases in Surviving Population (Original 100000)"]
["Km",{"$f":"V57","v":8.5000000000000007E-8},0,{"$f":"C846-$O$51","v":-18},637.2,null,null,26412,4,{"$f":"E846*I846/H846","v":0.09650159018627898},{"$nulls":3},{"$f":"IF($D846<10,0, IF(AND(OR($D846>10, $D846=10),$D846<10+$B$848),$B$846*$B$847*(($D846-10)^3), $B$846*$B$847*(($D846-10)^3-($D846-10-$B$848)^3)))","v":0},{"$f":"E846/100000","v":0.006372},{"$f":"100000","v":100000},{"$f":"P846*N846","v":0},null,{"$f":"IF($D846<10,0,IF(AND(OR($D846>10,$D846=10),$D846<10+$B$848),$B$845*$B$847*(($D846-10)),$B$845*$B$847*(($D846-10)-($D846-10-$B$848))))","v":0},{"$f":"E846/100000","v":0.006372},{"$f":"100000","v":100000},{"$f":"U846*S846*J846/100000","v":0}]
["f",{"$f":"M58*2.8","v":{"v":0.013999999999999999,"d":"1.40E-02"}},1,{"$f":"C847-$O$51","v":-17},{"$f":"(F847+F848+F849+F850)*100000","v":{"v":110.39999999999999,"d":"110.400000"}},0.000429,null,4450,3,{"$f":"E847*I847/H847","v":0.07442696629213483},{"$nulls":3},{"$f":"IF($D847<10,0, IF(AND(OR($D847>10, $D847=10),$D847<10+$B$848),$B$846*$B$847*(($D847-10)^3), $B$846*$B$847*(($D847-10)^3-($D847-10-$B$848)^3)))","v":0},{"$f":"E847/100000","v":0.001104},{"$f":"P846-P846*O846","v":99362.8},{"$f":"P847*4*N847","v":0},null,{"$f":"IF($D847<10,0,IF(AND(OR($D847>10,$D847=10),$D847<10+$B$848),$B$845*$B$847*(($D847-10)),$B$845*$B$847*(($D847-10)-($D847-10-$B$848))))","v":0},{"$f":"E847/100000","v":0.001104},{"$f":"U846-U846*T846","v":99362.8},{"$f":"U847*S847*J847/100000","v":0}]
["d",{"$f":"$H$51","v":45},2,-16,null,0.000288,{"$nulls":7},0,null,null,{"$f":"P848*N848","v":0},null,0,null,null,0]
[null,null,3,-15,null,0.000219,{"$nulls":7},0,null,null,0,null,0,null,null,0]
[null,null,4,-14,null,0.000168,{"$nulls":7},0,null,null,0,null,0,null,null,0]
[null,null,5,-13,{"$f":"(F851+F852+F853+F854+F855)*100000","v":{"v":62.5,"d":"62.500000"}},{"v":1.56E-4,"d":"0.000156"},null,{"$f":"5651/2","v":2825.5},{"$f":"5/2","v":{"v":2.5,"d":"3"}},{"$f":"E851*I851/H851","v":0.055299946912050965},{"$nulls":3},0,{"$f":"E851/100000","v":0.000625},{"$f":"P847-P847*O847","v":99253.1034688},{"$f":"P851*5*N851","v":0},null,0,{"$f":"E851/100000","v":0.000625},{"$f":"U847-U847*T847","v":99253.1034688},0]
[null,null,6,-12,null,0.000139,{"$nulls":7},0,null,null,0,null,0,null,null,0]
[null,null,7,-11,null,{"v":1.25E-4,"d":"0.000125"},{"$nulls":7},0,null,null,0,null,0,null,null,0]
[null,null,8,-10,null,{"v":1.1E-4,"d":"0.000110"},{"$nulls":7},0,null,null,0,null,0,null,null,0]
[null,null,9,-9,null,{"v":9.5e-05,"d":"0.000095"},{"$nulls":7},0,null,null,0,null,0,null,null,0]
[null,null,10,-8,{"$f":"(F856+F857+F858+F859+F860)*100000","v":{"v":75.1,"d":"75.100000"}},{"v":8.5e-05,"d":"0.000085"},null,{"$f":"5651/2","v":2825.5},{"$f":"5/2","v":{"v":2.5,"d":"3"}},{"$f":"E856*I856/H856","v":0.06644841620952044},{"$nulls":3},0,{"$f":"E856/100000","v":7.5099999999999993E-4},{"$f":"P851-P851*O851","v":99191.070279132},{"$f":"P856*5*N856","v":0},null,0,{"$f":"E856/100000","v":7.5099999999999993E-4},{"$f":"U851-U851*T851","v":99191.070279132},0]
[null,null,11,-7,null,{"v":9.1e-05,"d":"0.000091"},{"$nulls":7},0,null,null,0,null,0,null,null,0]
[null,null,12,-6,null,{"v":1.22E-4,"d":"0.000122"},{"$nulls":7},0,null,null,0,null,0,null,null,0]
[null,null,13,-5,null,{"v":1.85E-4,"d":"0.000185"},{"$nulls":7},0,null,null,0,null,0,null,null,0]
[null,null,14,-4,null,0.000268,{"$nulls":7},0,null,null,0,null,0,null,null,0]
[null,null,15,-3,{"$f":"(F861+F862+F863+F864+F865)*100000","v":{"v":259.2,"d":"259.200000"}},0.000355,null,{"$f":"30416/2","v":15208},{"$f":"25/2","v":{"v":12.5,"d":"13"}},{"$f":"E861*I861/H861","v":0.2130457653866386},{"$nulls":3},0,{"$f":"E861/100000","v":2.5919999999999997E-3},{"$f":"P856-P856*O856","v":99116.57778535238},{"$f":"P861*5*N861","v":0},null,0,{"$f":"E861/100000","v":2.5919999999999997E-3},{"$f":"U856-U856*T856","v":99116.57778535238},{"$f":"U861*S861*J861/100000","v":0}]
[null,null,16,-2,null,0.000438,{"$nulls":7},0,null,null,0,null,0,null,null,{"$f":"U862*S862*J862/100000","v":0}]
[null,null,17,-1,null,{"v":0.00052,"d":"0.000520"},{"$nulls":7},0,null,null,0,null,0,null,null,0]
[null,null,18,0,null,{"v":0.0006,"d":"0.000600"},{"$nulls":7},0,null,null,0,null,0,null,null,0]
[null,null,19,1,null,0.000679,{"$nulls":7},0,null,null,0,null,0,null,null,0]
[null,null,20,2,{"$f":"(F866+F867+F868+F869+F870)*100000","v":{"v":442.09999999999997,"d":"442.100000"}},0.000765,null,{"$f":"30416/2","v":15208},{"$f":"25/2","v":{"v":12.5,"d":"13"}},{"$f":"E866*I866/H866","v":0.363377827459232},{"$nulls":3},0,{"$f":"E866/100000","v":0.004421},{"$f":"P861-P861*O861","v":98859.66761573275},{"$f":"P866*5*N866","v":0},null,0,{"$f":"E866/100000","v":0.004421},{"$f":"U861-U861*T861","v":98859.66761573275},0]
[null,null,21,3,null,0.000848,{"$nulls":7},0,null,null,0,null,0,null,null,0]
[null,null,22,4,null,0.000911,{"$nulls":7},0,null,null,0,null,0,null,null,0]
[null,null,23,5,null,0.000944,{"$nulls":7},0,null,null,0,null,0,null,null,0]
[null,null,24,6,null,0.000953,{"$nulls":7},0,null,null,0,null,0,null,null,0]
[null,null,25,7,{"$f":"(F871+F872+F873+F874+F875)*100000","v":{"v":488.9000000000001,"d":"488.900000"}},0.000956,null,{"$f":"42502/2","v":21251},{"$f":"146/2","v":73},{"$f":"E871*I871/H871","v":1.6794362618229732},{"$nulls":3},0,{"$f":"E871/100000","v":4.889000000000001E-3},{"$f":"P866-P866*O866","v":98422.6090252036},{"$f":"P871*5*N871","v":0},null,0,{"$f":"E871/100000","v":4.889000000000001E-3},{"$f":"U866-U866*T866","v":98422.6090252036},0]
[null,null,26,8,null,0.000963,{"$nulls":7},0,null,null,0,null,0,null,null,0]
[null,null,27,9,null,0.000972,{"$nulls":7},0,null,null,0,null,0,null,null,0]
[null,null,28,10,null,0.000988,{"$nulls":7},0,null,null,0,null,0,null,null,0]
[null,null,29,11,null,{"v":1.01E-3,"d":"0.001010"},{"$nulls":7},1.19E-9,null,null,0,null,1.9599999999999997E-4,null,null,0]
[null,null,30,12,{"$f":"(F876+F877+F878+F879+F880)*100000","v":{"v":557.3,"d":"557.300000"}},0.001038,null,{"$f":"42502/2","v":21251},{"$f":"146/2","v":73},{"$f":"E876*I876/H876","v":1.9143993223848286},{"$nulls":3},9.52e-09,{"$f":"E876/100000","v":0.005573},{"$f":"P871-P871*O871","v":97941.42088967937},{"$f":"P876*5*N876","v":0.004662011634348738},null,3.9199999999999993E-4,{"$f":"E876/100000","v":0.005573},{"$f":"U871-U871*T871","v":97941.42088967937},7.34996039955669E-4]
[null,null,31,13,null,{"v":1.07E-3,"d":"0.001070"},{"$nulls":7},3.2130000000000004E-8,null,null,0,null,5.8799999999999987E-4,null,null,0]
[null,null,32,14,null,{"v":1.111E-3,"d":"0.001111"},{"$nulls":7},7.616e-08,null,null,0,null,7.8399999999999987E-4,null,null,0]
[null,null,33,15,null,{"v":1.152E-3,"d":"0.001152"},{"$nulls":7},1.4875e-07,null,null,0,null,9.7999999999999975E-4,null,null,0]
[null,null,34,16,null,0.001202,{"$nulls":7},2.5704000000000003E-7,null,null,0,null,1.1759999999999997E-3,null,null,0]
[null,null,35,17,{"$f":"(F881+F882+F883+F884+F885)*100000","v":{"v":718.3000000000001,"d":"718.300000"}},0.001262,null,{"$f":"74665/2","v":37332.5},{"$f":"1517/2","v":{"v":758.5,"d":"759"}},{"$f":"E881*I881/H881","v":14.59400120538405},{"$nulls":3},4.0817000000000003E-7,{"$f":"E881/100000","v":7.183000000000001E-3},{"$f":"P876-P876*O876","v":97395.5933510612},{"$f":"P881*5*N881","v":0.19876979669051326},null,1.3719999999999997E-3,{"$f":"E881/100000","v":7.183000000000001E-3},{"$f":"U876-U876*T876","v":97395.5933510612},0.019501490100808688]
[null,null,36,18,null,{"v":1.335E-3,"d":"0.001335"},{"$nulls":7},6.0928e-07,null,null,0,null,1.5679999999999997E-3,null,null,0]
[null,null,37,19,null,{"v":1.421E-3,"d":"0.001421"},{"$nulls":7},8.6751e-07,null,null,0,null,1.7639999999999997E-3,null,null,0]
[null,null,38,20,null,0.001522,{"$nulls":7},1.19E-6,null,null,0,null,1.9599999999999995E-3,null,null,0]
[null,null,39,21,null,0.001643,{"$nulls":7},1.5838900000000001E-6,null,null,0,null,2.1559999999999995E-3,null,null,0]
[null,null,40,22,{"$f":"(F886+F887+F888+F889+F890)*100000","v":{"v":1072.5,"d":"1,072.500000"}},0.001778,null,{"$f":"74665/2","v":37332.5},{"$f":"1517/2","v":{"v":758.5,"d":"759"}},{"$f":"E886*I886/H886","v":21.790430589968526},{"$nulls":3},2.0563200000000002E-6,{"$f":"E886/100000","v":0.010725},{"$f":"P881-P881*O881","v":96696.00080402053},{"$f":"P886*5*N886","v":0.9941896018666176},null,2.3519999999999995E-3,{"$f":"E886/100000","v":0.010725},{"$f":"U881-U881*T881","v":96696.00080402053},0.04955775705529437]
[null,null,41,23,null,{"v":1.933E-3,"d":"0.001933"},{"$nulls":7},2.61443e-06,null,null,0,null,2.5479999999999995E-3,null,null,0]
[null,null,42,24,null,0.002118,{"$nulls":7},3.2653600000000003E-6,null,null,0,null,2.7439999999999995E-3,null,null,0]
[null,null,43,25,null,0.002332,{"$nulls":7},4.01625e-06,null,null,0,null,2.9399999999999995E-3,null,null,0]
[null,null,44,26,null,0.002564,{"$nulls":7},4.87424e-06,null,null,0,null,3.1359999999999995E-3,null,null,0]
[null,null,45,27,{"$f":"(F891+F892+F893+F894+F895)*100000","v":{"v":1666.5,"d":"1,666.500000"}},0.002796,null,{"$f":"187568/2","v":{"v":93784,"d":"93,784"}},{"$f":"12488/2","v":{"v":6244,"d":"6,244"}},{"$f":"E891*I891/H891","v":110.9531050072507},{"$nulls":3},5.84647e-06,{"$f":"E891/100000","v":0.016665},{"$f":"P886-P886*O886","v":95658.93619539741},{"$f":"P891*5*N891","v":2.796335503491526},null,3.3319999999999995E-3,{"$f":"E891/100000","v":0.016665},{"$f":"U886-U886*T886","v":95658.93619539741},0.3536470176724265]
[null,null,46,28,null,0.003034,{"$nulls":7},6.94008e-06,null,null,0,null,3.5279999999999995E-3,null,null,0]
[null,null,47,29,null,{"v":3.297E-3,"d":"0.003297"},{"$nulls":7},8.16221e-06,null,null,0,null,3.7239999999999994E-3,null,null,0]
[null,null,48,30,null,{"v":0.0036,"d":"0.003600"},{"$nulls":7},9.52e-06,null,null,0,null,3.919999999999999E-3,null,null,0]
[null,null,49,31,null,0.003938,{"$nulls":7},1.102059E-5,null,null,0,null,4.115999999999999E-3,null,null,0]
[null,null,50,32,{"$f":"(F896+F897+F898+F899+F900)*100000","v":{"v":2526.4,"d":"2,526.400000"}},0.004306,null,{"$f":"187568/2","v":{"v":93784,"d":"93,784"}},{"$f":"12488/2","v":{"v":6244,"d":"6,244"}},{"$f":"E896*I896/H896","v":168.2039750917001},{"$nulls":3},1.2671120000000001E-5,{"$f":"E896/100000","v":0.025264},{"$f":"P891-P891*O891","v":94064.78002370111},{"$f":"P896*5*N896","v":5.959530577269599},null,4.311999999999999E-3,{"$f":"E896/100000","v":0.025264},{"$f":"U891-U891*T891","v":94064.78002370111},0.6822476547827868]
[null,null,51,33,null,0.004682,{"$nulls":7},1.447873E-5,null,null,0,null,4.507999999999999E-3,null,null,0]
[null,null,52,34,null,{"v":5.058E-3,"d":"0.005058"},{"$nulls":7},1.6450560000000002E-5,null,null,0,null,4.703999999999999E-3,null,null,0]
[null,null,53,35,null,{"v":5.424E-3,"d":"0.005424"},{"$nulls":7},1.859375e-05,null,null,0,null,4.899999999999999E-3,null,null,0]
[null,null,54,36,null,0.005794,{"$nulls":7},2.091544e-05,null,null,0,null,5.095999999999999E-3,null,null,0]
[null,null,55,37,{"$f":"(F901+F902+F903+F904+F905)*100000","v":{"v":3574.5,"d":"3,574.500000"}},0.006186,null,{"$f":"303307/2","v":{"v":151653.5,"d":"151,654"}},{"$f":"30964/2","v":{"v":15482,"d":"15,482"}},{"$f":"E901*I901/H901","v":364.9134968859934},{"$nulls":3},2.342277E-5,{"$f":"E901/100000","v":0.035745},{"$f":"P896-P896*O896","v":91688.32742118233},{"$f":"P901*5*N901","v":10.737973024355233},null,5.291999999999999E-3,{"$f":"E901/100000","v":0.035745},{"$f":"U896-U896*T896","v":91688.32742118233},1.7706136690386214]
[null,null,56,38,null,0.006622,{"$nulls":7},2.6122880000000002E-5,null,null,0,null,5.487999999999999E-3,null,null,0]
[null,null,57,39,null,0.007102,{"$nulls":7},2.902291E-5,null,null,0,null,0.005683999999999999,null,null,0]
[null,null,58,40,null,{"v":0.00763,"d":"0.007630"},{"$nulls":7},3.213e-05,null,null,0,null,0.005879999999999999,null,null,0]
[null,null,59,41,null,0.008205,{"$nulls":7},3.545129e-05,null,null,0,null,0.006075999999999999,null,null,0]
[null,null,60,42,{"$f":"(F906+F907+F908+F909+F910)*100000","v":{"v":5144.400000000001,"d":"5,144.400000"}},0.008826,null,{"$f":"303307/2","v":{"v":151653.5,"d":"151,654"}},{"$f":"30964/2","v":{"v":15482,"d":"15,482"}},{"$f":"E906*I906/H906","v":525.1814221234591},{"$nulls":3},3.899392e-05,{"$f":"E906/100000","v":0.051444000000000004},{"$f":"P901-P901*O901","v":88410.92815751217},{"$f":"P906*5*N906","v":17.237443298498885},null,0.006271999999999999,{"$f":"E906/100000","v":0.051444000000000004},{"$f":"U901-U901*T901","v":88410.92815751217},2.9122010522493995]
[null,null,61,43,null,{"v":9.495E-3,"d":"0.009495"},{"$nulls":7},4.2765030000000003E-5,null,null,0,null,0.006467999999999999,null,null,0]
[null,null,62,44,null,0.010217,{"$nulls":7},4.677176e-05,null,null,0,null,0.006663999999999999,null,null,0]
[null,null,63,45,null,{"v":0.01101,"d":"0.011010"},{"$nulls":7},5.102125e-05,null,null,0,null,0.006859999999999999,null,null,0]
[null,null,64,46,null,0.011896,{"$nulls":7},5.552064e-05,null,null,0,null,0.007055999999999999,null,null,0]
[null,null,65,{"$f":"C911-$O$51","v":47},{"$f":"(F911+F912+F913+F914+F915)*100000","v":{"v":7712.8,"d":"7,712.800000"}},0.012923,null,{"$f":"401032/2","v":{"v":200516,"d":"200,516"}},{"$f":"48536/2","v":{"v":24268,"d":"24,268"}},{"$f":"E911*I911/H911","v":933.4628179297413},{"$nulls":3},{"$f":"IF($D911<10,0, IF(AND(OR($D911>10, $D911=10),$D911<10+$B$848),$B$846*$B$847*(($D911-10)^3), $B$846*$B$847*(($D911-10)^3-($D911-10-$B$848)^3)))","v":6.0277070000000004E-5},{"$f":"E911/100000","v":0.077128},{"$f":"P906-P906*O906","v":83862.71636937711},{"$f":"P911*5*N911","v":25.27499412493545},null,{"$f":"IF($D911<10,0,IF(AND(OR($D911>10,$D911=10),$D911<10+$B$848),$B$845*$B$847*(($D911-10)),$B$845*$B$847*(($D911-10)-($D911-10-$B$848))))","v":0.007251999999999999},{"$f":"E911/100000","v":0.077128},{"$f":"U906-U906*T906","v":83862.71636937711},5.67706340130243]
[null,null,66,48,null,0.014095,{"$nulls":7},6.529768e-05,null,null,{"$f":"P912*N912","v":0},null,0.007447999999999999,null,null,0]
[null,null,67,49,null,0.015356,{"$nulls":7},7.058961E-5,null,null,0,null,0.007643999999999999,null,null,0]
[null,null,68,50,null,0.016682,{"$nulls":7},7.616e-05,null,null,0,null,7.839999999999998E-3,null,null,0]
[null,null,69,51,null,0.018072,{"$nulls":7},8.2015990000000008E-5,null,null,0,null,8.035999999999998E-3,null,null,0]
[null,null,70,52,{"$f":"(F916+F917+F918+F919+F920)*100000","v":{"v":11861.8,"d":"11,861.800000"}},{"v":0.01963,"d":"0.019630"},null,{"$f":"401032/2","v":{"v":200516,"d":"200,516"}},{"$f":"48536/2","v":{"v":24268,"d":"24,268"}},{"$f":"E916*I916/H916","v":1435.6069460791157},{"$nulls":3},8.816472e-05,{"$f":"E916/100000","v":0.11861799999999999},{"$f":"P911-P911*O911","v":77394.55278123979},{"$f":"P916*5*N916","v":34.117345377416136},null,8.231999999999998E-3,{"$f":"E916/100000","v":0.11861799999999999},{"$f":"U911-U911*T911","v":77394.55278123979},9.146423530457293]
[null,null,71,53,null,{"v":0.02143,"d":"0.021430"},{"$nulls":7},9.461333e-05,null,null,0,null,8.427999999999998E-3,null,null,0]
[null,null,72,54,null,0.023431,{"$nulls":7},1.0136896000000001E-4,null,null,0,null,8.623999999999998E-3,null,null,0]
[null,null,73,55,null,0.025763,{"$nulls":7},0.00010843875,null,null,0,null,8.819999999999998E-3,null,null,0]
[null,null,74,56,null,0.028364,{"$nulls":7},1.1582865000000001E-4,null,null,0,null,8.819999999999998E-3,null,null,0]
[null,null,75,57,{"$f":"(F921+F922+F923+F924+F925)*100000","v":{"v":18984.100000000002,"d":"18,984.100000"}},{"v":0.03106,"d":"0.031060"},null,{"$f":"627727/2","v":{"v":313863.5,"d":"313,864"}},{"$f":"46860/2","v":{"v":23430,"d":"23,430"}},{"$f":"E921*I921/H921","v":1417.1684920355506},{"$nulls":3},1.2353985E-4,{"$f":"E921/100000","v":0.189841},{"$f":"P916-P916*O916","v":68214.16571943469},{"$f":"P921*5*N921","v":42.135839004270515},null,8.819999999999998E-3,{"$f":"E921/100000","v":0.189841},{"$f":"U916-U916*T916","v":68214.16571943469},8.526379233664162]
[null,null,76,58,null,0.034041,{"$nulls":7},1.3157235E-4,null,null,0,null,8.819999999999998E-3,null,null,0]
[null,null,77,59,null,0.037491,{"$nulls":7},0.00013992615,null,null,0,null,8.819999999999998E-3,null,null,0]
[null,null,78,60,null,0.041456,{"$nulls":7},1.4860125E-4,null,null,0,null,8.819999999999998E-3,null,null,0]
[null,null,79,61,null,0.045793,{"$nulls":7},0.00015759765,null,null,0,null,8.819999999999998E-3,null,null,0]
[null,null,80,62,{"$f":"(F926+F927+F928+F929+F930)*100000","v":{"v":31110.699999999997,"d":"31,110.700000"}},0.050433,null,{"$f":"627727/2","v":{"v":313863.5,"d":"313,864"}},{"$f":"46860/2","v":{"v":23430,"d":"23,430"}},{"$f":"E926*I926/H926","v":2322.422648699195},{"$nulls":3},0.00016691535,{"$f":"E926/100000","v":0.31110699999999997},{"$f":"P921-P921*O921","v":55264.32028509149},{"$f":"P926*5*N926","v":46.12231681449073},null,8.819999999999998E-3,{"$f":"E926/100000","v":0.31110699999999997},{"$f":"U921-U921*T921","v":55264.32028509149},{"$f":"U926*S926*J926/100000","v":11.32021502218454}]
[null,null,81,63,null,0.055465,{"$nulls":7},1.7655435E-4,null,null,0,null,8.819999999999998E-3,null,null,{"$f":"U927*S927*J927/100000","v":0}]
[null,null,82,64,null,0.061442,{"$nulls":7},1.8651465000000002E-4,null,null,0,null,8.819999999999998E-3,null,null,0]
[null,null,83,65,null,0.068173,{"$nulls":7},0.00019679625,null,null,0,null,8.819999999999998E-3,null,null,0]
[null,null,84,66,null,0.075594,{"$nulls":7},0.00020739915,null,null,0,null,8.819999999999998E-3,null,null,0]
[null,null,85,67,100000,null,null,{"v":733178,"d":"733,178"},{"v":17605,"d":"17,605"},{"$f":"E931*I931/H931","v":2401.1904339737416},{"$nulls":3},2.1832335000000001E-4,{"$f":"E931/100000","v":1},{"$f":"P926-P926*O926","v":38071.203394157536},{"$f":"P931*6.5*N931","v":54.026912313034984},null,8.819999999999998E-3,{"$f":"E931/100000","v":1},{"$f":"U926-U926*T926","v":38071.203394157536},{"$f":"U931*S931*J931/100000*3.5","v":28.22018384175521}]
{"$rows_empty":36}
[{"$nulls":16},{"$f":"SUM(Q846:Q965)/100000*1000000","v":2396.063114479545},{"$nulls":4},{"$f":"SUM(V846:V965)/100000*1000000","v":686.7876866630293}]
[]
[]
["NICHOLSON CALCULATIONS:",6]
[]
["PARAMETERS:",{"$nulls":3},"Both genders",{"$nulls":14},"LUNG CANCER CALCULATIONS"]
["Kl",{"$f":"J72*10^-2","v":0},"AGE","AGE CORRECTED ON ONSET TIME","Death Rate per 100,000",null,null,"Number of death","Number of lung cancer deaths","Lung cancer death rate, per 100,000",{"$nulls":4},"MESOTHELIOMA CALCULATIONS",{"$nulls":3},"Asbestos RR of Lung Cancer-1)","Probability of Death Corrected for Asb.-Related Lung Cancer","Number of Survivals From 100,000 Corrected for Asbestos-Related Lung Cancer","Number of Lung Cancer Cases in Surviving Population (Original 100000)"]
["Km",{"$f":"J67*10^-8","v":0},0,{"$f":"C975-$O$51","v":-18},637.2,null,null,26412,4,{"$f":"E975*I975/H975","v":0.09650159018627898},{"$nulls":3},{"$f":"IF($D975<10,0, IF(AND(OR($D975>10, $D975=10),$D975<10+$B$977),$B$975*$B$976*(($D975-10)^3), $B$975*$B$976*(($D975-10)^3-($D975-10-$B$977)^3)))","v":0},{"$f":"E975/100000","v":0.006372},{"$f":"100000","v":100000},{"$f":"P975*N975","v":0},null,{"$f":"IF($D975<10,0,IF(AND(OR($D975>10,$D975=10),$D975<10+$B$590),$B$587*$B$589*(($D975-10)),$B$587*$B$589*(($D975-10)-($D975-10-$B$590))))","v":0},{"$f":"E975/100000","v":0.006372},{"$f":"100000","v":100000},{"$f":"U975*S975*J975/100000","v":0}]
["f",{"$f":"J61*2.8","v":{"v":0,"d":"0.00E+00"}},1,{"$f":"C976-$O$51","v":-17},{"$f":"(F976+F977+F978+F979)*100000","v":{"v":110.39999999999999,"d":"110.400000"}},0.000429,null,4450,3,{"$f":"E976*I976/H976","v":0.07442696629213483},{"$nulls":3},{"$f":"IF($D976<10,0, IF(AND(OR($D976>10, $D976=10),$D976<10+$B$977),$B$975*$B$976*(($D976-10)^3), $B$975*$B$976*(($D976-10)^3-($D976-10-$B$977)^3)))","v":0},{"$f":"E976/100000","v":0.001104},{"$f":"P975-P975*O975","v":99362.8},{"$f":"P976*4*N976","v":0},null,{"$f":"IF($D976<10,0,IF(AND(OR($D976>10,$D976=10),$D976<10+$B$590),$B$587*$B$589*(($D976-10)),$B$587*$B$589*(($D976-10)-($D976-10-$B$590))))","v":0},{"$f":"E976/100000","v":0.001104},{"$f":"U975-U975*T975","v":99362.8},{"$f":"U976*S976*J976/100000","v":0}]
["d",{"$f":"$H$51","v":45},2,-16,null,0.000288,{"$nulls":7},0,null,null,{"$f":"P977*N977","v":0},null,0,null,null,0]
[null,null,3,-15,null,0.000219,{"$nulls":7},0,null,null,0,null,0,null,null,0]
[null,null,4,-14,null,0.000168,{"$nulls":7},0,null,null,0,null,0,null,null,0]
[null,null,5,-13,{"$f":"(F980+F981+F982+F983+F984)*100000","v":{"v":62.5,"d":"62.500000"}},{"v":1.56E-4,"d":"0.000156"},null,{"$f":"5651/2","v":2825.5},{"$f":"5/2","v":{"v":2.5,"d":"3"}},{"$f":"E980*I980/H980","v":0.055299946912050965},{"$nulls":3},0,{"$f":"E980/100000","v":0.000625},{"$f":"P976-P976*O976","v":99253.1034688},{"$f":"P980*5*N980","v":0},null,0,{"$f":"E980/100000","v":0.000625},{"$f":"U976-U976*T976","v":99253.1034688},0]
[null,null,6,-12,null,0.000139,{"$nulls":7},0,null,null,0,null,0,null,null,0]
[null,null,7,-11,null,{"v":1.25E-4,"d":"0.000125"},{"$nulls":7},0,null,null,0,null,0,null,null,0]
[null,null,8,-10,null,{"v":1.1E-4,"d":"0.000110"},{"$nulls":7},0,null,null,0,null,0,null,null,0]
[null,null,9,-9,null,{"v":9.5e-05,"d":"0.000095"},{"$nulls":7},0,null,null,0,null,0,null,null,0]
[null,null,10,-8,{"$f":"(F985+F986+F987+F988+F989)*100000","v":{"v":75.1,"d":"75.100000"}},{"v":8.5e-05,"d":"0.000085"},null,{"$f":"5651/2","v":2825.5},{"$f":"5/2","v":{"v":2.5,"d":"3"}},{"$f":"E985*I985/H985","v":0.06644841620952044},{"$nulls":3},0,{"$f":"E985/100000","v":7.5099999999999993E-4},{"$f":"P980-P980*O980","v":99191.070279132},{"$f":"P985*5*N985","v":0},null,0,{"$f":"E985/100000","v":7.5099999999999993E-4},{"$f":"U980-U980*T980","v":99191.070279132},0]
[null,null,11,-7,null,{"v":9.1e-05,"d":"0.000091"},{"$nulls":7},0,null,null,0,null,0,null,null,0]
[null,null,12,-6,null,{"v":1.22E-4,"d":"0.000122"},{"$nulls":7},0,null,null,0,null,0,null,null,0]
[null,null,13,-5,null,{"v":1.85E-4,"d":"0.000185"},{"$nulls":7},0,null,null,0,null,0,null,null,0]
[null,null,14,-4,null,0.000268,{"$nulls":7},0,null,null,0,null,0,null,null,0]
[null,null,15,-3,{"$f":"(F990+F991+F992+F993+F994)*100000","v":{"v":259.2,"d":"259.200000"}},0.000355,null,{"$f":"30416/2","v":15208},{"$f":"25/2","v":{"v":12.5,"d":"13"}},{"$f":"E990*I990/H990","v":0.2130457653866386},{"$nulls":3},0,{"$f":"E990/100000","v":2.5919999999999997E-3},{"$f":"P985-P985*O985","v":99116.57778535238},{"$f":"P990*5*N990","v":0},null,0,{"$f":"E990/100000","v":2.5919999999999997E-3},{"$f":"U985-U985*T985","v":99116.57778535238},{"$f":"U990*S990*J990/100000","v":0}]
[null,null,16,-2,null,0.000438,{"$nulls":7},0,null,null,0,null,0,null,null,{"$f":"U991*S991*J991/100000","v":0}]
[null,null,17,-1,null,{"v":0.00052,"d":"0.000520"},{"$nulls":7},0,null,null,0,null,0,null,null,0]
[null,null,18,0,null,{"v":0.0006,"d":"0.000600"},{"$nulls":7},0,null,null,0,null,0,null,null,0]
[null,null,19,1,null,0.000679,{"$nulls":7},0,null,null,0,null,0,null,null,0]
[null,null,20,2,{"$f":"(F995+F996+F997+F998+F999)*100000","v":{"v":442.09999999999997,"d":"442.100000"}},0.000765,null,{"$f":"30416/2","v":15208},{"$f":"25/2","v":{"v":12.5,"d":"13"}},{"$f":"E995*I995/H995","v":0.363377827459232},{"$nulls":3},0,{"$f":"E995/100000","v":0.004421},{"$f":"P990-P990*O990","v":98859.66761573275},{"$f":"P995*5*N995","v":0},null,0,{"$f":"E995/100000","v":0.004421},{"$f":"U990-U990*T990","v":98859.66761573275},0]
[null,null,21,3,null,0.000848,{"$nulls":7},0,null,null,0,null,0,null,null,0]
[null,null,22,4,null,0.000911,{"$nulls":7},0,null,null,0,null,0,null,null,0]
[null,null,23,5,null,0.000944,{"$nulls":7},0,null,null,0,null,0,null,null,0]
[null,null,24,6,null,0.000953,{"$nulls":7},0,null,null,0,null,0,null,null,0]
[null,null,25,7,{"$f":"(F1000+F1001+F1002+F1003+F1004)*100000","v":{"v":488.9000000000001,"d":"488.900000"}},0.000956,null,{"$f":"42502/2","v":21251},{"$f":"146/2","v":73},{"$f":"E1000*I1000/H1000","v":1.6794362618229732},{"$nulls":3},0,{"$f":"E1000/100000","v":4.889000000000001E-3},{"$f":"P995-P995*O995","v":98422.6090252036},{"$f":"P1000*5*N1000","v":0},null,0,{"$f":"E1000/100000","v":4.889000000000001E-3},{"$f":"U995-U995*T995","v":98422.6090252036},0]
[null,null,26,8,null,0.000963,{"$nulls":7},0,null,null,0,null,0,null,null,0]
[null,null,27,9,null,0.000972,{"$nulls":7},0,null,null,0,null,0,null,null,0]
[null,null,28,10,null,0.000988,{"$nulls":7},0,null,null,0,null,0,null,null,0]
[null,null,29,11,null,{"v":1.01E-3,"d":"0.001010"},{"$nulls":7},0,null,null,0,null,1.4E-3,null,null,0]
[null,null,30,12,{"$f":"(F1005+F1006+F1007+F1008+F1009)*100000","v":{"v":557.3,"d":"557.300000"}},0.001038,null,{"$f":"42502/2","v":21251},{"$f":"146/2","v":73},{"$f":"E1005*I1005/H1005","v":1.9143993223848286},{"$nulls":3},0,{"$f":"E1005/100000","v":0.005573},{"$f":"P1000-P1000*O1000","v":97941.42088967937},{"$f":"P1005*5*N1005","v":0},null,2.8E-3,{"$f":"E1005/100000","v":0.005573},{"$f":"U1000-U1000*T1000","v":97941.42088967937},0.005249971713969065]
[null,null,31,13,null,{"v":1.07E-3,"d":"0.001070"},{"$nulls":7},0,null,null,0,null,0.0042,null,null,0]
[null,null,32,14,null,{"v":1.111E-3,"d":"0.001111"},{"$nulls":7},0,null,null,0,null,0.0056,null,null,0]
[null,null,33,15,null,{"v":1.152E-3,"d":"0.001152"},{"$nulls":7},0,null,null,0,null,0.007,null,null,0]
[null,null,34,16,null,0.001202,{"$nulls":7},0,null,null,0,null,0.0084,null,null,0]
[null,null,35,17,{"$f":"(F1010+F1011+F1012+F1013+F1014)*100000","v":{"v":718.3000000000001,"d":"718.300000"}},0.001262,null,{"$f":"74665/2","v":37332.5},{"$f":"1517/2","v":{"v":758.5,"d":"759"}},{"$f":"E1010*I1010/H1010","v":14.59400120538405},{"$nulls":3},0,{"$f":"E1010/100000","v":7.183000000000001E-3},{"$f":"P1005-P1005*O1005","v":97395.5933510612},{"$f":"P1010*5*N1010","v":0},null,0.0098,{"$f":"E1010/100000","v":7.183000000000001E-3},{"$f":"U1005-U1005*T1005","v":97395.5933510612},0.13929635786291922]
[null,null,36,18,null,{"v":1.335E-3,"d":"0.001335"},{"$nulls":7},0,null,null,0,null,0.0112,null,null,0]
[null,null,37,19,null,{"v":1.421E-3,"d":"0.001421"},{"$nulls":7},0,null,null,0,null,0.0126,null,null,0]
[null,null,38,20,null,0.001522,{"$nulls":7},0,null,null,0,null,0.014,null,null,0]
[null,null,39,21,null,0.001643,{"$nulls":7},0,null,null,0,null,0.0154,null,null,0]
[null,null,40,22,{"$f":"(F1015+F1016+F1017+F1018+F1019)*100000","v":{"v":1072.5,"d":"1,072.500000"}},0.001778,null,{"$f":"74665/2","v":37332.5},{"$f":"1517/2","v":{"v":758.5,"d":"759"}},{"$f":"E1015*I1015/H1015","v":21.790430589968526},{"$nulls":3},0,{"$f":"E1015/100000","v":0.010725},{"$f":"P1010-P1010*O1010","v":96696.00080402053},{"$f":"P1015*5*N1015","v":0},null,0.0168,{"$f":"E1015/100000","v":0.010725},{"$f":"U1010-U1010*T1010","v":96696.00080402053},0.3539839789663884]
[null,null,41,23,null,{"v":1.933E-3,"d":"0.001933"},{"$nulls":7},0,null,null,0,null,0.0182,null,null,0]
[null,null,42,24,null,0.002118,{"$nulls":7},0,null,null,0,null,0.0196,null,null,0]
[null,null,43,25,null,0.002332,{"$nulls":7},0,null,null,0,null,0.021,null,null,0]
[null,null,44,26,null,0.002564,{"$nulls":7},0,null,null,0,null,0.0224,null,null,0]
[null,null,45,27,{"$f":"(F1020+F1021+F1022+F1023+F1024)*100000","v":{"v":1666.5,"d":"1,666.500000"}},0.002796,null,{"$f":"187568/2","v":{"v":93784,"d":"93,784"}},{"$f":"12488/2","v":{"v":6244,"d":"6,244"}},{"$f":"E1020*I1020/H1020","v":110.9531050072507},{"$nulls":3},0,{"$f":"E1020/100000","v":0.016665},{"$f":"P1015-P1015*O1015","v":95658.93619539741},{"$f":"P1020*5*N1020","v":0},null,0.023799999999999998,{"$f":"E1020/100000","v":0.016665},{"$f":"U1015-U1015*T1015","v":95658.93619539741},2.526050126231618]
[null,null,46,28,null,0.003034,{"$nulls":7},0,null,null,0,null,0.0252,null,null,0]
[null,null,47,29,null,{"v":3.297E-3,"d":"0.003297"},{"$nulls":7},0,null,null,0,null,0.0266,null,null,0]
[null,null,48,30,null,{"v":0.0036,"d":"0.003600"},{"$nulls":7},0,null,null,0,null,0.028,null,null,0]
[null,null,49,31,null,0.003938,{"$nulls":7},0,null,null,0,null,0.0294,null,null,0]
[null,null,50,32,{"$f":"(F1025+F1026+F1027+F1028+F1029)*100000","v":{"v":2526.4,"d":"2,526.400000"}},0.004306,null,{"$f":"187568/2","v":{"v":93784,"d":"93,784"}},{"$f":"12488/2","v":{"v":6244,"d":"6,244"}},{"$f":"E1025*I1025/H1025","v":168.2039750917001},{"$nulls":3},0,{"$f":"E1025/100000","v":0.025264},{"$f":"P1020-P1020*O1020","v":94064.78002370111},{"$f":"P1025*5*N1025","v":0},null,0.0308,{"$f":"E1025/100000","v":0.025264},{"$f":"U1020-U1020*T1020","v":94064.78002370111},4.873197534162764]
[null,null,51,33,null,0.004682,{"$nulls":7},0,null,null,0,null,0.0322,null,null,0]
[null,null,52,34,null,{"v":5.058E-3,"d":"0.005058"},{"$nulls":7},0,null,null,0,null,0.0336,null,null,0]
[null,null,53,35,null,{"v":5.424E-3,"d":"0.005424"},{"$nulls":7},0,null,null,0,null,0.034999999999999996,null,null,0]
[null,null,54,36,null,0.005794,{"$nulls":7},0,null,null,0,null,0.0364,null,null,0]
[null,null,55,37,{"$f":"(F1030+F1031+F1032+F1033+F1034)*100000","v":{"v":3574.5,"d":"3,574.500000"}},0.006186,null,{"$f":"303307/2","v":{"v":151653.5,"d":"151,654"}},{"$f":"30964/2","v":{"v":15482,"d":"15,482"}},{"$f":"E1030*I1030/H1030","v":364.9134968859934},{"$nulls":3},0,{"$f":"E1030/100000","v":0.035745},{"$f":"P1025-P1025*O1025","v":91688.32742118233},{"$f":"P1030*5*N1030","v":0},null,0.0378,{"$f":"E1030/100000","v":0.035745},{"$f":"U1025-U1025*T1025","v":91688.32742118233},12.647240493133012]
[null,null,56,38,null,0.006622,{"$nulls":7},0,null,null,0,null,0.0392,null,null,0]
[null,null,57,39,null,0.007102,{"$nulls":7},0,null,null,0,null,0.0406,null,null,0]
[null,null,58,40,null,{"v":0.00763,"d":"0.007630"},{"$nulls":7},0,null,null,0,null,0.042,null,null,0]
[null,null,59,41,null,0.008205,{"$nulls":7},0,null,null,0,null,0.0434,null,null,0]
[null,null,60,42,{"$f":"(F1035+F1036+F1037+F1038+F1039)*100000","v":{"v":5144.400000000001,"d":"5,144.400000"}},0.008826,null,{"$f":"303307/2","v":{"v":151653.5,"d":"151,654"}},{"$f":"30964/2","v":{"v":15482,"d":"15,482"}},{"$f":"E1035*I1035/H1035","v":525.1814221234591},{"$nulls":3},0,{"$f":"E1035/100000","v":0.051444000000000004},{"$f":"P1030-P1030*O1030","v":88410.92815751217},{"$f":"P1035*5*N1035","v":0},null,0.0448,{"$f":"E1035/100000","v":0.051444000000000004},{"$f":"U1030-U1030*T1030","v":88410.92815751217},20.801436087495716]
[null,null,61,43,null,{"v":9.495E-3,"d":"0.009495"},{"$nulls":7},0,null,null,0,null,0.0462,null,null,0]
[null,null,62,44,null,0.010217,{"$nulls":7},0,null,null,0,null,0.047599999999999996,null,null,0]
[null,null,63,45,null,{"v":0.01101,"d":"0.011010"},{"$nulls":7},0,null,null,0,null,0.049,null,null,0]
[null,null,64,46,null,0.011896,{"$nulls":7},0,null,null,0,null,0.0504,null,null,0]
[null,null,65,{"$f":"C1040-$O$51","v":47},{"$f":"(F1040+F1041+F1042+F1043+F1044)*100000","v":{"v":7712.8,"d":"7,712.800000"}},0.012923,null,{"$f":"401032/2","v":{"v":200516,"d":"200,516"}},{"$f":"48536/2","v":{"v":24268,"d":"24,268"}},{"$f":"E1040*I1040/H1040","v":933.4628179297413},{"$nulls":3},{"$f":"IF($D1040<10,0, IF(AND(OR($D1040>10, $D1040=10),$D1040<10+$B$977),$B$975*$B$976*(($D1040-10)^3), $B$975*$B$976*(($D1040-10)^3-($D1040-10-$B$977)^3)))","v":0},{"$f":"E1040/100000","v":0.077128},{"$f":"P1035-P1035*O1035","v":83862.71636937711},{"$f":"P1040*5*N1040","v":0},null,{"$f":"IF($D1040<10,0,IF(AND(OR($D1040>10,$D1040=10),$D1040<10+$B$590),$B$587*$B$589*(($D1040-10)),$B$587*$B$589*(($D1040-10)-($D1040-10-$B$590))))","v":0.0518},{"$f":"E1040/100000","v":0.077128},{"$f":"U1035-U1035*T1035","v":83862.71636937711},40.55045286644592]
[null,null,66,48,null,0.014095,{"$nulls":7},0,null,null,{"$f":"P1041*N1041","v":0},null,0.0532,null,null,0]
[null,null,67,49,null,0.015356,{"$nulls":7},0,null,null,0,null,0.0546,null,null,0]
[null,null,68,50,null,0.016682,{"$nulls":7},0,null,null,0,null,0.056,null,null,0]
[null,null,69,51,null,0.018072,{"$nulls":7},0,null,null,0,null,0.0574,null,null,0]
[null,null,70,52,{"$f":"(F1045+F1046+F1047+F1048+F1049)*100000","v":{"v":11861.8,"d":"11,861.800000"}},{"v":0.01963,"d":"0.019630"},null,{"$f":"401032/2","v":{"v":200516,"d":"200,516"}},{"$f":"48536/2","v":{"v":24268,"d":"24,268"}},{"$f":"E1045*I1045/H1045","v":1435.6069460791157},{"$nulls":3},0,{"$f":"E1045/100000","v":0.11861799999999999},{"$f":"P1040-P1040*O1040","v":77394.55278123979},{"$f":"P1045*5*N1045","v":0},null,0.0588,{"$f":"E1045/100000","v":0.11861799999999999},{"$f":"U1040-U1040*T1040","v":77394.55278123979},65.33159664612354]
[null,null,71,53,null,{"v":0.02143,"d":"0.021430"},{"$nulls":7},0,null,null,0,null,0.0602,null,null,0]
[null,null,72,54,null,0.023431,{"$nulls":7},0,null,null,0,null,0.0616,null,null,0]
[null,null,73,55,null,0.025763,{"$nulls":7},0,null,null,0,null,0.063,null,null,0]
[null,null,74,56,null,0.028364,{"$nulls":7},0,null,null,0,null,0.063,null,null,0]
[null,null,75,57,{"$f":"(F1050+F1051+F1052+F1053+F1054)*100000","v":{"v":18984.100000000002,"d":"18,984.100000"}},{"v":0.03106,"d":"0.031060"},null,{"$f":"627727/2","v":{"v":313863.5,"d":"313,864"}},{"$f":"46860/2","v":{"v":23430,"d":"23,430"}},{"$f":"E1050*I1050/H1050","v":1417.1684920355506},{"$nulls":3},0,{"$f":"E1050/100000","v":0.189841},{"$f":"P1045-P1045*O1045","v":68214.16571943469},{"$f":"P1050*5*N1050","v":0},null,0.063,{"$f":"E1050/100000","v":0.189841},{"$f":"U1045-U1045*T1045","v":68214.16571943469},60.90270881188688]
[null,null,76,58,null,0.034041,{"$nulls":7},0,null,null,0,null,0.063,null,null,0]
[null,null,77,59,null,0.037491,{"$nulls":7},0,null,null,0,null,0.063,null,null,0]
[null,null,78,60,null,0.041456,{"$nulls":7},0,null,null,0,null,0.063,null,null,0]
[null,null,79,61,null,0.045793,{"$nulls":7},0,null,null,0,null,0.063,null,null,0]
[null,null,80,62,{"$f":"(F1055+F1056+F1057+F1058+F1059)*100000","v":{"v":31110.699999999997,"d":"31,110.700000"}},0.050433,null,{"$f":"627727/2","v":{"v":313863.5,"d":"313,864"}},{"$f":"46860/2","v":{"v":23430,"d":"23,430"}},{"$f":"E1055*I1055/H1055","v":2322.422648699195},{"$nulls":3},0,{"$f":"E1055/100000","v":0.31110699999999997},{"$f":"P1050-P1050*O1050","v":55264.32028509149},{"$f":"P1055*5*N1055","v":0},null,0.063,{"$f":"E1055/100000","v":0.31110699999999997},{"$f":"U1050-U1050*T1050","v":55264.32028509149},{"$f":"U1055*S1055*J1055/100000","v":80.85867872988959}]
[null,null,81,63,null,0.055465,{"$nulls":7},0,null,null,0,null,0.063,null,null,{"$f":"U1056*S1056*J1056/100000","v":0}]
[null,null,82,64,null,0.061442,{"$nulls":7},0,null,null,0,null,0.063,null,null,0]
[null,null,83,65,null,0.068173,{"$nulls":7},0,null,null,0,null,0.063,null,null,0]
[null,null,84,66,null,0.075594,{"$nulls":7},0,null,null,0,null,0.063,null,null,0]
[null,null,85,67,100000,null,null,{"v":733178,"d":"733,178"},{"v":17605,"d":"17,605"},{"$f":"E1060*I1060/H1060","v":2401.1904339737416},{"$nulls":3},0,{"$f":"E1060/100000","v":1},{"$f":"P1055-P1055*O1055","v":38071.203394157536},{"$f":"P1060*6.5*N1060","v":0},null,0.063,{"$f":"E1060/100000","v":1},{"$f":"U1055-U1055*T1055","v":38071.203394157536},{"$f":"U1060*S1060*J1060/100000*3.5","v":201.57274172682295}]
{"$rows_empty":36}
[{"$nulls":16},{"$f":"SUM(Q975:Q1094)/100000*1000000","v":0},{"$nulls":4},{"$f":"SUM(V975:V1094)/100000*1000000","v":4905.626333307354}]
[]
[]
["NICHOLSON CALCULATIONS:",7]
[]
["PARAMETERS:",{"$nulls":3},"Both genders",{"$nulls":14},"LUNG CANCER CALCULATIONS"]
["Kl",{"$f":"K72*10^-2","v":0},"AGE","AGE CORRECTED ON ONSET TIME","Death Rate per 100,000",null,null,"Number of death","Number of lung cancer deaths","Lung cancer death rate, per 100,000",null,null,"Hodgson 2005 risk for summing",null,"MESOTHELIOMA CALCULATIONS",{"$nulls":3},"Asbestos RR of Lung Cancer-1)","Probability of Death Corrected for Asb.-Related Lung Cancer","Number of Survivals From 100,000 Corrected for Asbestos-Related Lung Cancer","Number of Lung Cancer Cases in Surviving Population (Original 100000)"]
["Km",{"$f":"K67*10^-8","v":0},0,{"$f":"C1104-$O$51","v":-18},637.2,null,null,26412,4,{"$f":"E1104*I1104/H1104","v":0.09650159018627898},null,null,{"$f":"IF(C1104+1-10<0,0,(C1104+1-10)^$B$1108)*0.5^(1/$B$1109)*$B$1112*$B$1105","v":{"$error":"#REF!"}},{"$f":"M1104","v":{"$error":"#REF!"}},{"$f":"E1104/100000","v":0.006372},{"$f":"100000","v":100000},{"$f":"P1104*N1104","v":{"$error":"#REF!"}},null,{"$f":"IF($D1104<10,0,IF(AND(OR($D1104>10,$D1104=10),$D1104<10+$B$1106),$B$1103*$B$1105*(($D1104-10)),$B$1103*$B$1105*(($D1104-10)-($D1104-10-$B$1106))))","v":0},{"$f":"E1104/100000","v":0.006372},{"$f":"100000","v":100000},{"$f":"U1104*S1104*J1104/100000","v":0}]
["f",{"$f":"#REF!","v":{"$error":"#REF!"}},1,{"$f":"C1105-$O$51","v":-17},{"$f":"(F1105+F1106+F1107+F1108)*100000","v":{"v":110.39999999999999,"d":"110.400000"}},0.000429,null,4450,3,{"$f":"E1105*I1105/H1105","v":0.07442696629213483},null,null,{"$f":"IF(C1105+1-10<0,0,(C1105+1-10)^$B$1108)*0.5^(1/$B$1109)*$B$1112*$B$1105","v":{"$error":"#REF!"}},{"$f":"M1105","v":{"$error":"#REF!"}},{"$f":"E1105/100000","v":0.001104},{"$f":"P1104-P1104*O1104","v":99362.8},{"$f":"P1105*4*N1105","v":{"$error":"#REF!"}},null,{"$f":"IF($D1105<10,0,IF(AND(OR($D1105>10,$D1105=10),$D1105<10+$B$1106),$B$1103*$B$1105*(($D1105-10)),$B$1103*$B$1105*(($D1105-10)-($D1105-10-$B$1106))))","v":0},{"$f":"E1105/100000","v":0.001104},{"$f":"U1104-U1104*T1104","v":99362.8},{"$f":"U1105*S1105*J1105/100000","v":0}]
["d",{"$f":"$H$51","v":45},2,-16,null,0.000288,{"$nulls":6},{"$error":"#REF!"},{"$f":"SUM($M$1104,M1105)","v":{"$error":"#REF!"}},null,null,{"$f":"P1106*N1106","v":{"$error":"#REF!"}},null,0,null,null,0]
[null,null,3,-15,null,0.000219,{"$nulls":6},{"$error":"#REF!"},{"$f":"SUM($M$1104,M1106)","v":{"$error":"#REF!"}},null,null,{"$error":"#REF!"},null,0,null,null,0]
["Power",4.1,4,-14,null,0.000168,{"$nulls":6},{"$error":"#REF!"},{"$error":"#REF!"},null,null,{"$error":"#REF!"},null,0,null,null,0]
["Clearance",15,5,-13,{"$f":"(F1109+F1110+F1111+F1112+F1113)*100000","v":{"v":62.5,"d":"62.500000"}},{"v":1.56E-4,"d":"0.000156"},null,{"$f":"5651/2","v":2825.5},{"$f":"5/2","v":{"v":2.5,"d":"3"}},{"$f":"E1109*I1109/H1109","v":0.055299946912050965},null,null,{"$error":"#REF!"},{"$error":"#REF!"},{"$f":"E1109/100000","v":0.000625},{"$f":"P1105-P1105*O1105","v":99253.1034688},{"$f":"P1109*5*N1109","v":{"$error":"#REF!"}},null,0,{"$f":"E1109/100000","v":0.000625},{"$f":"U1105-U1105*T1105","v":99253.1034688},0]
[null,null,6,-12,null,0.000139,{"$nulls":6},{"$error":"#REF!"},{"$error":"#REF!"},null,null,{"$error":"#REF!"},null,0,null,null,0]
[null,null,7,-11,null,{"v":1.25E-4,"d":"0.000125"},{"$nulls":6},{"$error":"#REF!"},{"$error":"#REF!"},null,null,{"$error":"#REF!"},null,0,null,null,0]
["Bi",{"$f":"1*10^-9","v":{"v":1e-09,"d":"0.0"}},8,-10,null,{"v":1.1E-4,"d":"0.000110"},{"$nulls":6},{"$error":"#REF!"},{"$error":"#REF!"},null,null,{"$error":"#REF!"},null,0,null,null,0]
[null,null,9,-9,null,{"v":9.5e-05,"d":"0.000095"},{"$nulls":6},{"$error":"#REF!"},{"$error":"#REF!"},null,null,{"$error":"#REF!"},null,0,null,null,0]
[null,null,10,-8,{"$f":"(F1114+F1115+F1116+F1117+F1118)*100000","v":{"v":75.1,"d":"75.100000"}},{"v":8.5e-05,"d":"0.000085"},null,{"$f":"5651/2","v":2825.5},{"$f":"5/2","v":{"v":2.5,"d":"3"}},{"$f":"E1114*I1114/H1114","v":0.06644841620952044},null,null,{"$error":"#REF!"},{"$error":"#REF!"},{"$f":"E1114/100000","v":7.5099999999999993E-4},{"$f":"P1109-P1109*O1109","v":99191.070279132},{"$f":"P1114*5*N1114","v":{"$error":"#REF!"}},null,0,{"$f":"E1114/100000","v":7.5099999999999993E-4},{"$f":"U1109-U1109*T1109","v":99191.070279132},0]
[null,null,11,-7,null,{"v":9.1e-05,"d":"0.000091"},{"$nulls":6},{"$error":"#REF!"},{"$error":"#REF!"},null,null,{"$error":"#REF!"},null,0,null,null,0]
[null,null,12,-6,null,{"v":1.22E-4,"d":"0.000122"},{"$nulls":6},{"$error":"#REF!"},{"$error":"#REF!"},null,null,{"$error":"#REF!"},null,0,null,null,0]
[null,null,13,-5,null,{"v":1.85E-4,"d":"0.000185"},{"$nulls":6},{"$error":"#REF!"},{"$error":"#REF!"},null,null,{"$error":"#REF!"},null,0,null,null,0]
[null,null,14,-4,null,0.000268,{"$nulls":6},{"$error":"#REF!"},{"$error":"#REF!"},null,null,{"$error":"#REF!"},null,0,null,null,0]
[null,null,15,-3,{"$f":"(F1119+F1120+F1121+F1122+F1123)*100000","v":{"v":259.2,"d":"259.200000"}},0.000355,null,{"$f":"30416/2","v":15208},{"$f":"25/2","v":{"v":12.5,"d":"13"}},{"$f":"E1119*I1119/H1119","v":0.2130457653866386},null,null,{"$error":"#REF!"},{"$error":"#REF!"},{"$f":"E1119/100000","v":2.5919999999999997E-3},{"$f":"P1114-P1114*O1114","v":99116.57778535238},{"$f":"P1119*5*N1119","v":{"$error":"#REF!"}},null,0,{"$f":"E1119/100000","v":2.5919999999999997E-3},{"$f":"U1114-U1114*T1114","v":99116.57778535238},{"$f":"U1119*S1119*J1119/100000","v":0}]
[null,null,16,-2,null,0.000438,{"$nulls":6},{"$error":"#REF!"},{"$error":"#REF!"},null,null,{"$error":"#REF!"},null,0,null,null,0]
[null,null,17,-1,null,{"v":0.00052,"d":"0.000520"},{"$nulls":6},{"$error":"#REF!"},{"$error":"#REF!"},null,null,{"$error":"#REF!"},null,0,null,null,0]
[null,null,18,0,null,{"v":0.0006,"d":"0.000600"},{"$nulls":6},{"$error":"#REF!"},{"$error":"#REF!"},null,null,{"$error":"#REF!"},null,0,null,null,0]
[null,null,19,1,null,0.000679,{"$nulls":6},{"$error":"#REF!"},{"$error":"#REF!"},null,null,{"$error":"#REF!"},null,0,null,null,0]
[null,null,20,2,{"$f":"(F1124+F1125+F1126+F1127+F1128)*100000","v":{"v":442.09999999999997,"d":"442.100000"}},0.000765,null,{"$f":"30416/2","v":15208},{"$f":"25/2","v":{"v":12.5,"d":"13"}},{"$f":"E1124*I1124/H1124","v":0.363377827459232},null,null,{"$error":"#REF!"},{"$error":"#REF!"},{"$f":"E1124/100000","v":0.004421},{"$f":"P1119-P1119*O1119","v":98859.66761573275},{"$f":"P1124*5*N1124","v":{"$error":"#REF!"}},null,0,{"$f":"E1124/100000","v":0.004421},{"$f":"U1119-U1119*T1119","v":98859.66761573275},0]
[null,null,21,3,null,0.000848,{"$nulls":6},{"$error":"#REF!"},{"$error":"#REF!"},null,null,{"$error":"#REF!"},null,0,null,null,0]
[null,null,22,4,null,0.000911,{"$nulls":6},{"$error":"#REF!"},{"$error":"#REF!"},null,null,{"$error":"#REF!"},null,0,null,null,0]
[null,null,23,5,null,0.000944,{"$nulls":6},{"$error":"#REF!"},{"$error":"#REF!"},null,null,{"$error":"#REF!"},null,0,null,null,0]
[null,null,24,6,null,0.000953,{"$nulls":6},{"$error":"#REF!"},{"$error":"#REF!"},null,null,{"$error":"#REF!"},null,0,null,null,0]
[null,null,25,7,{"$f":"(F1129+F1130+F1131+F1132+F1133)*100000","v":{"v":488.9000000000001,"d":"488.900000"}},0.000956,null,{"$f":"42502/2","v":21251},{"$f":"146/2","v":73},{"$f":"E1129*I1129/H1129","v":1.6794362618229732},null,null,{"$error":"#REF!"},{"$error":"#REF!"},{"$f":"E1129/100000","v":4.889000000000001E-3},{"$f":"P1124-P1124*O1124","v":98422.6090252036},{"$f":"P1129*5*N1129","v":{"$error":"#REF!"}},null,0,{"$f":"E1129/100000","v":4.889000000000001E-3},{"$f":"U1124-U1124*T1124","v":98422.6090252036},0]
[null,null,26,8,null,0.000963,{"$nulls":6},{"$error":"#REF!"},{"$error":"#REF!"},null,null,{"$error":"#REF!"},null,0,null,null,0]
[null,null,27,9,null,0.000972,{"$nulls":6},{"$error":"#REF!"},{"$error":"#REF!"},null,null,{"$error":"#REF!"},null,0,null,null,0]
[null,null,28,10,null,0.000988,{"$nulls":6},{"$error":"#REF!"},{"$error":"#REF!"},null,null,{"$error":"#REF!"},null,{"$error":"#REF!"},null,null,{"$error":"#REF!"}]
[null,null,29,11,null,{"v":1.01E-3,"d":"0.001010"},{"$nulls":6},{"$error":"#REF!"},{"$error":"#REF!"},null,null,{"$error":"#REF!"},null,{"$error":"#REF!"},null,null,{"$error":"#REF!"}]
[null,null,30,12,{"$f":"(F1134+F1135+F1136+F1137+F1138)*100000","v":{"v":557.3,"d":"557.300000"}},0.001038,null,{"$f":"42502/2","v":21251},{"$f":"146/2","v":73},{"$f":"E1134*I1134/H1134","v":1.9143993223848286},null,null,{"$error":"#REF!"},{"$error":"#REF!"},{"$f":"E1134/100000","v":0.005573},{"$f":"P1129-P1129*O1129","v":97941.42088967937},{"$f":"P1134*5*N1134","v":{"$error":"#REF!"}},null,{"$error":"#REF!"},{"$f":"E1134/100000","v":0.005573},{"$f":"U1129-U1129*T1129","v":97941.42088967937},{"$error":"#REF!"}]
[null,null,31,13,null,{"v":1.07E-3,"d":"0.001070"},{"$nulls":6},{"$error":"#REF!"},{"$error":"#REF!"},null,null,{"$error":"#REF!"},null,{"$error":"#REF!"},null,null,{"$error":"#REF!"}]
[null,null,32,14,null,{"v":1.111E-3,"d":"0.001111"},{"$nulls":6},{"$error":"#REF!"},{"$error":"#REF!"},null,null,{"$error":"#REF!"},null,{"$error":"#REF!"},null,null,{"$error":"#REF!"}]
[null,null,33,15,null,{"v":1.152E-3,"d":"0.001152"},{"$nulls":6},{"$error":"#REF!"},{"$error":"#REF!"},null,null,{"$error":"#REF!"},null,{"$error":"#REF!"},null,null,{"$error":"#REF!"}]
[null,null,34,16,null,0.001202,{"$nulls":6},{"$error":"#REF!"},{"$error":"#REF!"},null,null,{"$error":"#REF!"},null,{"$error":"#REF!"},null,null,{"$error":"#REF!"}]
[null,null,35,17,{"$f":"(F1139+F1140+F1141+F1142+F1143)*100000","v":{"v":718.3000000000001,"d":"718.300000"}},0.001262,null,{"$f":"74665/2","v":37332.5},{"$f":"1517/2","v":{"v":758.5,"d":"759"}},{"$f":"E1139*I1139/H1139","v":14.59400120538405},null,null,{"$error":"#REF!"},{"$error":"#REF!"},{"$f":"E1139/100000","v":7.183000000000001E-3},{"$f":"P1134-P1134*O1134","v":97395.5933510612},{"$f":"P1139*5*N1139","v":{"$error":"#REF!"}},null,{"$error":"#REF!"},{"$f":"E1139/100000","v":7.183000000000001E-3},{"$f":"U1134-U1134*T1134","v":97395.5933510612},{"$error":"#REF!"}]
[null,null,36,18,null,{"v":1.335E-3,"d":"0.001335"},{"$nulls":6},{"$error":"#REF!"},{"$error":"#REF!"},null,null,{"$error":"#REF!"},null,{"$error":"#REF!"},null,null,{"$error":"#REF!"}]
[null,null,37,19,null,{"v":1.421E-3,"d":"0.001421"},{"$nulls":6},{"$error":"#REF!"},{"$error":"#REF!"},null,null,{"$error":"#REF!"},null,{"$error":"#REF!"},null,null,{"$error":"#REF!"}]
[null,null,38,20,null,0.001522,{"$nulls":6},{"$error":"#REF!"},{"$error":"#REF!"},null,null,{"$error":"#REF!"},null,{"$error":"#REF!"},null,null,{"$error":"#REF!"}]
[null,null,39,21,null,0.001643,{"$nulls":6},{"$error":"#REF!"},{"$error":"#REF!"},null,null,{"$error":"#REF!"},null,{"$error":"#REF!"},null,null,{"$error":"#REF!"}]
[null,null,40,22,{"$f":"(F1144+F1145+F1146+F1147+F1148)*100000","v":{"v":1072.5,"d":"1,072.500000"}},0.001778,null,{"$f":"74665/2","v":37332.5},{"$f":"1517/2","v":{"v":758.5,"d":"759"}},{"$f":"E1144*I1144/H1144","v":21.790430589968526},null,null,{"$error":"#REF!"},{"$error":"#REF!"},{"$f":"E1144/100000","v":0.010725},{"$f":"P1139-P1139*O1139","v":96696.00080402053},{"$f":"P1144*5*N1144","v":{"$error":"#REF!"}},null,{"$error":"#REF!"},{"$f":"E1144/100000","v":0.010725},{"$f":"U1139-U1139*T1139","v":96696.00080402053},{"$error":"#REF!"}]
[null,null,41,23,null,{"v":1.933E-3,"d":"0.001933"},{"$nulls":6},{"$error":"#REF!"},{"$error":"#REF!"},null,null,{"$error":"#REF!"},null,{"$error":"#REF!"},null,null,{"$error":"#REF!"}]
[null,null,42,24,null,0.002118,{"$nulls":6},{"$error":"#REF!"},{"$error":"#REF!"},null,null,{"$error":"#REF!"},null,{"$error":"#REF!"},null,null,{"$error":"#REF!"}]
[null,null,43,25,null,0.002332,{"$nulls":6},{"$error":"#REF!"},{"$error":"#REF!"},null,null,{"$error":"#REF!"},null,{"$error":"#REF!"},null,null,{"$error":"#REF!"}]
[null,null,44,26,null,0.002564,{"$nulls":6},{"$error":"#REF!"},{"$error":"#REF!"},null,null,{"$error":"#REF!"},null,{"$error":"#REF!"},null,null,{"$error":"#REF!"}]
[null,null,45,27,{"$f":"(F1149+F1150+F1151+F1152+F1153)*100000","v":{"v":1666.5,"d":"1,666.500000"}},0.002796,null,{"$f":"187568/2","v":{"v":93784,"d":"93,784"}},{"$f":"12488/2","v":{"v":6244,"d":"6,244"}},{"$f":"E1149*I1149/H1149","v":110.9531050072507},null,null,{"$error":"#REF!"},{"$error":"#REF!"},{"$f":"E1149/100000","v":0.016665},{"$f":"P1144-P1144*O1144","v":95658.93619539741},{"$f":"P1149*5*N1149","v":{"$error":"#REF!"}},null,{"$error":"#REF!"},{"$f":"E1149/100000","v":0.016665},{"$f":"U1144-U1144*T1144","v":95658.93619539741},{"$error":"#REF!"}]
[null,null,46,28,null,0.003034,{"$nulls":6},{"$error":"#REF!"},{"$error":"#REF!"},null,null,{"$error":"#REF!"},null,{"$error":"#REF!"},null,null,{"$error":"#REF!"}]
[null,null,47,29,null,{"v":3.297E-3,"d":"0.003297"},{"$nulls":6},{"$error":"#REF!"},{"$error":"#REF!"},null,null,{"$error":"#REF!"},null,{"$error":"#REF!"},null,null,{"$error":"#REF!"}]
[null,null,48,30,null,{"v":0.0036,"d":"0.003600"},{"$nulls":6},{"$error":"#REF!"},{"$error":"#REF!"},null,null,{"$error":"#REF!"},null,{"$error":"#REF!"},null,null,{"$error":"#REF!"}]
[null,null,49,31,null,0.003938,{"$nulls":6},{"$error":"#REF!"},{"$error":"#REF!"},null,null,{"$error":"#REF!"},null,{"$error":"#REF!"},null,null,{"$error":"#REF!"}]
[null,null,50,32,{"$f":"(F1154+F1155+F1156+F1157+F1158)*100000","v":{"v":2526.4,"d":"2,526.400000"}},0.004306,null,{"$f":"187568/2","v":{"v":93784,"d":"93,784"}},{"$f":"12488/2","v":{"v":6244,"d":"6,244"}},{"$f":"E1154*I1154/H1154","v":168.2039750917001},null,null,{"$error":"#REF!"},{"$error":"#REF!"},{"$f":"E1154/100000","v":0.025264},{"$f":"P1149-P1149*O1149","v":94064.78002370111},{"$f":"P1154*5*N1154","v":{"$error":"#REF!"}},null,{"$error":"#REF!"},{"$f":"E1154/100000","v":0.025264},{"$f":"U1149-U1149*T1149","v":94064.78002370111},{"$error":"#REF!"}]
[null,null,51,33,null,0.004682,{"$nulls":6},{"$error":"#REF!"},{"$error":"#REF!"},null,null,{"$error":"#REF!"},null,{"$error":"#REF!"},null,null,{"$error":"#REF!"}]
[null,null,52,34,null,{"v":5.058E-3,"d":"0.005058"},{"$nulls":6},{"$error":"#REF!"},{"$error":"#REF!"},null,null,{"$error":"#REF!"},null,{"$error":"#REF!"},null,null,{"$error":"#REF!"}]
[null,null,53,35,null,{"v":5.424E-3,"d":"0.005424"},{"$nulls":6},{"$error":"#REF!"},{"$error":"#REF!"},null,null,{"$error":"#REF!"},null,{"$error":"#REF!"},null,null,{"$error":"#REF!"}]
[null,null,54,36,null,0.005794,{"$nulls":6},{"$error":"#REF!"},{"$error":"#REF!"},null,null,{"$error":"#REF!"},null,{"$error":"#REF!"},null,null,{"$error":"#REF!"}]
[null,null,55,37,{"$f":"(F1159+F1160+F1161+F1162+F1163)*100000","v":{"v":3574.5,"d":"3,574.500000"}},0.006186,null,{"$f":"303307/2","v":{"v":151653.5,"d":"151,654"}},{"$f":"30964/2","v":{"v":15482,"d":"15,482"}},{"$f":"E1159*I1159/H1159","v":364.9134968859934},null,null,{"$error":"#REF!"},{"$error":"#REF!"},{"$f":"E1159/100000","v":0.035745},{"$f":"P1154-P1154*O1154","v":91688.32742118233},{"$f":"P1159*5*N1159","v":{"$error":"#REF!"}},null,{"$error":"#REF!"},{"$f":"E1159/100000","v":0.035745},{"$f":"U1154-U1154*T1154","v":91688.32742118233},{"$error":"#REF!"}]
[null,null,56,38,null,0.006622,{"$nulls":6},{"$error":"#REF!"},{"$error":"#REF!"},null,null,{"$error":"#REF!"},null,{"$error":"#REF!"},null,null,{"$error":"#REF!"}]
[null,null,57,39,null,0.007102,{"$nulls":6},{"$error":"#REF!"},{"$error":"#REF!"},null,null,{"$error":"#REF!"},null,{"$error":"#REF!"},null,null,{"$error":"#REF!"}]
[null,null,58,40,null,{"v":0.00763,"d":"0.007630"},{"$nulls":6},{"$error":"#REF!"},{"$error":"#REF!"},null,null,{"$error":"#REF!"},null,{"$error":"#REF!"},null,null,{"$error":"#REF!"}]
[null,null,59,41,null,0.008205,{"$nulls":6},{"$error":"#REF!"},{"$error":"#REF!"},null,null,{"$error":"#REF!"},null,{"$error":"#REF!"},null,null,{"$error":"#REF!"}]
[null,null,60,42,{"$f":"(F1164+F1165+F1166+F1167+F1168)*100000","v":{"v":5144.400000000001,"d":"5,144.400000"}},0.008826,null,{"$f":"303307/2","v":{"v":151653.5,"d":"151,654"}},{"$f":"30964/2","v":{"v":15482,"d":"15,482"}},{"$f":"E1164*I1164/H1164","v":525.1814221234591},null,null,{"$error":"#REF!"},{"$error":"#REF!"},{"$f":"E1164/100000","v":0.051444000000000004},{"$f":"P1159-P1159*O1159","v":88410.92815751217},{"$f":"P1164*5*N1164","v":{"$error":"#REF!"}},null,{"$error":"#REF!"},{"$f":"E1164/100000","v":0.051444000000000004},{"$f":"U1159-U1159*T1159","v":88410.92815751217},{"$error":"#REF!"}]
[null,null,61,43,null,{"v":9.495E-3,"d":"0.009495"},{"$nulls":6},{"$error":"#REF!"},{"$error":"#REF!"},null,null,{"$error":"#REF!"},null,{"$error":"#REF!"},null,null,{"$error":"#REF!"}]
[null,null,62,44,null,0.010217,{"$nulls":6},{"$error":"#REF!"},{"$error":"#REF!"},null,null,{"$error":"#REF!"},null,{"$error":"#REF!"},null,null,{"$error":"#REF!"}]
[null,null,63,45,null,{"v":0.01101,"d":"0.011010"},{"$nulls":6},{"$error":"#REF!"},{"$error":"#REF!"},null,null,{"$error":"#REF!"},null,{"$error":"#REF!"},null,null,{"$error":"#REF!"}]
[null,null,64,46,null,0.011896,{"$nulls":6},{"$error":"#REF!"},{"$error":"#REF!"},null,null,{"$error":"#REF!"},null,{"$error":"#REF!"},null,null,{"$error":"#REF!"}]
[null,null,65,{"$f":"C1169-$O$51","v":47},{"$f":"(F1169+F1170+F1171+F1172+F1173)*100000","v":{"v":7712.8,"d":"7,712.800000"}},0.012923,null,{"$f":"401032/2","v":{"v":200516,"d":"200,516"}},{"$f":"48536/2","v":{"v":24268,"d":"24,268"}},{"$f":"E1169*I1169/H1169","v":933.4628179297413},null,null,{"$f":"IF(C1169+1-10<0,0,(C1169+1-10)^$B$1108)*0.5^(1/$B$1109)*$B$1112*$B$1105","v":{"$error":"#REF!"}},{"$error":"#REF!"},{"$f":"E1169/100000","v":0.077128},{"$f":"P1164-P1164*O1164","v":83862.71636937711},{"$f":"P1169*5*N1169","v":{"$error":"#REF!"}},null,{"$f":"IF($D1169<10,0,IF(AND(OR($D1169>10,$D1169=10),$D1169<10+$B$1106),$B$1103*$B$1105*(($D1169-10)),$B$1103*$B$1105*(($D1169-10)-($D1169-10-$B$1106))))","v":{"$error":"#REF!"}},{"$f":"E1169/100000","v":0.077128},{"$f":"U1164-U1164*T1164","v":83862.71636937711},{"$error":"#REF!"}]
[null,null,66,48,null,0.014095,{"$nulls":6},{"$error":"#REF!"},{"$error":"#REF!"},null,null,{"$f":"P1170*N1170","v":{"$error":"#REF!"}},null,{"$error":"#REF!"},null,null,{"$f":"U1170*S1170*J1170/100000","v":{"$error":"#REF!"}}]
[null,null,67,49,null,0.015356,{"$nulls":6},{"$error":"#REF!"},{"$f":"SUM($M$1104,M1170)","v":{"$error":"#REF!"}},null,null,{"$error":"#REF!"},null,{"$error":"#REF!"},null,null,{"$error":"#REF!"}]
[null,null,68,50,null,0.016682,{"$nulls":6},{"$error":"#REF!"},{"$error":"#REF!"},null,null,{"$error":"#REF!"},null,{"$error":"#REF!"},null,null,{"$error":"#REF!"}]
[null,null,69,51,null,0.018072,{"$nulls":6},{"$error":"#REF!"},{"$error":"#REF!"},null,null,{"$error":"#REF!"},null,{"$error":"#REF!"},null,null,{"$error":"#REF!"}]
[null,null,70,52,{"$f":"(F1174+F1175+F1176+F1177+F1178)*100000","v":{"v":11861.8,"d":"11,861.800000"}},{"v":0.01963,"d":"0.019630"},null,{"$f":"401032/2","v":{"v":200516,"d":"200,516"}},{"$f":"48536/2","v":{"v":24268,"d":"24,268"}},{"$f":"E1174*I1174/H1174","v":1435.6069460791157},null,null,{"$error":"#REF!"},{"$error":"#REF!"},{"$f":"E1174/100000","v":0.11861799999999999},{"$f":"P1169-P1169*O1169","v":77394.55278123979},{"$f":"P1174*5*N1174","v":{"$error":"#REF!"}},null,{"$error":"#REF!"},{"$f":"E1174/100000","v":0.11861799999999999},{"$f":"U1169-U1169*T1169","v":77394.55278123979},{"$error":"#REF!"}]
[null,null,71,53,null,{"v":0.02143,"d":"0.021430"},{"$nulls":6},{"$error":"#REF!"},{"$error":"#REF!"},null,null,{"$error":"#REF!"},null,{"$error":"#REF!"},null,null,{"$error":"#REF!"}]
[null,null,72,54,null,0.023431,{"$nulls":6},{"$error":"#REF!"},{"$error":"#REF!"},null,null,{"$error":"#REF!"},null,{"$error":"#REF!"},null,null,{"$error":"#REF!"}]
[null,null,73,55,null,0.025763,{"$nulls":6},{"$error":"#REF!"},{"$error":"#REF!"},null,null,{"$error":"#REF!"},null,{"$error":"#REF!"},null,null,{"$error":"#REF!"}]
[null,null,74,56,null,0.028364,{"$nulls":6},{"$error":"#REF!"},{"$error":"#REF!"},null,null,{"$error":"#REF!"},null,{"$error":"#REF!"},null,null,{"$error":"#REF!"}]
[null,null,75,57,{"$f":"(F1179+F1180+F1181+F1182+F1183)*100000","v":{"v":18984.100000000002,"d":"18,984.100000"}},{"v":0.03106,"d":"0.031060"},null,{"$f":"627727/2","v":{"v":313863.5,"d":"313,864"}},{"$f":"46860/2","v":{"v":23430,"d":"23,430"}},{"$f":"E1179*I1179/H1179","v":1417.1684920355506},null,null,{"$error":"#REF!"},{"$error":"#REF!"},{"$f":"E1179/100000","v":0.189841},{"$f":"P1174-P1174*O1174","v":68214.16571943469},{"$f":"P1179*5*N1179","v":{"$error":"#REF!"}},null,{"$error":"#REF!"},{"$f":"E1179/100000","v":0.189841},{"$f":"U1174-U1174*T1174","v":68214.16571943469},{"$error":"#REF!"}]
[null,null,76,58,null,0.034041,{"$nulls":6},{"$error":"#REF!"},{"$error":"#REF!"},null,null,{"$error":"#REF!"},null,{"$error":"#REF!"},null,null,{"$error":"#REF!"}]
[null,null,77,59,null,0.037491,{"$nulls":6},{"$error":"#REF!"},{"$error":"#REF!"},null,null,{"$error":"#REF!"},null,{"$error":"#REF!"},null,null,{"$error":"#REF!"}]
[null,null,78,60,null,0.041456,{"$nulls":6},{"$error":"#REF!"},{"$error":"#REF!"},null,null,{"$error":"#REF!"},null,{"$error":"#REF!"},null,null,{"$error":"#REF!"}]
[null,null,79,61,null,0.045793,{"$nulls":6},{"$error":"#REF!"},{"$error":"#REF!"},null,null,{"$error":"#REF!"},null,{"$error":"#REF!"},null,null,{"$error":"#REF!"}]
[null,null,80,62,{"$f":"(F1184+F1185+F1186+F1187+F1188)*100000","v":{"v":31110.699999999997,"d":"31,110.700000"}},0.050433,null,{"$f":"627727/2","v":{"v":313863.5,"d":"313,864"}},{"$f":"46860/2","v":{"v":23430,"d":"23,430"}},{"$f":"E1184*I1184/H1184","v":2322.422648699195},null,null,{"$error":"#REF!"},{"$error":"#REF!"},{"$f":"E1184/100000","v":0.31110699999999997},{"$f":"P1179-P1179*O1179","v":55264.32028509149},{"$f":"P1184*5*N1184","v":{"$error":"#REF!"}},null,{"$error":"#REF!"},{"$f":"E1184/100000","v":0.31110699999999997},{"$f":"U1179-U1179*T1179","v":55264.32028509149},{"$f":"U1184*S1184*J1184/100000","v":{"$error":"#REF!"}}]
[null,null,81,63,null,0.055465,{"$nulls":6},{"$error":"#REF!"},{"$error":"#REF!"},null,null,{"$error":"#REF!"},null,{"$error":"#REF!"},null,null,{"$error":"#REF!"}]
[null,null,82,64,null,0.061442,{"$nulls":6},{"$error":"#REF!"},{"$error":"#REF!"},null,null,{"$error":"#REF!"},null,{"$error":"#REF!"},null,null,{"$error":"#REF!"}]
[null,null,83,65,null,0.068173,{"$nulls":6},{"$error":"#REF!"},{"$error":"#REF!"},null,null,{"$error":"#REF!"},null,{"$error":"#REF!"},null,null,{"$error":"#REF!"}]
[null,null,84,66,null,0.075594,{"$nulls":6},{"$error":"#REF!"},{"$error":"#REF!"},null,null,{"$error":"#REF!"},null,{"$error":"#REF!"},null,null,{"$error":"#REF!"}]
[null,null,85,67,100000,null,null,{"v":733178,"d":"733,178"},{"v":17605,"d":"17,605"},{"$f":"E1189*I1189/H1189","v":2401.1904339737416},null,null,{"$error":"#REF!"},{"$error":"#REF!"},{"$f":"E1189/100000","v":1},{"$f":"P1184-P1184*O1184","v":38071.203394157536},{"$f":"P1189*6.5*N1189","v":{"$error":"#REF!"}},null,{"$error":"#REF!"},{"$f":"E1189/100000","v":1},{"$f":"U1184-U1184*T1184","v":38071.203394157536},{"$f":"U1189*S1189*J1189/100000*3.5","v":{"$error":"#REF!"}}]
{"$rows_empty":36}
[{"$nulls":16},{"$f":"SUM(Q1104:Q1223)/100000*1000000","v":{"$error":"#REF!"}},{"$nulls":4},{"$f":"SUM(V1104:V1223)/100000*1000000","v":{"$error":"#REF!"}}]
[]
[]
["NICHOLSON CALCULATIONS:",8]
[]
["PARAMETERS:",{"$nulls":3},"Both genders",{"$nulls":14},"LUNG CANCER CALCULATIONS"]
["Kl",0.01,"AGE","AGE CORRECTED ON ONSET TIME","Death Rate per 100,000",null,null,"Number of death","Number of lung cancer deaths","Lung cancer death rate, per 100,000",{"$nulls":4},"MESOTHELIOMA CALCULATIONS",{"$nulls":3},"Asbestos RR of Lung Cancer-1)","Probability of Death Corrected for Asb.-Related Lung Cancer","Number of Survivals From 100,000 Corrected for Asbestos-Related Lung Cancer","Number of Lung Cancer Cases in Surviving Population (Original 100000)"]
["Km",{"$f":"7.2*10^-11","v":7.2e-11},0,{"$f":"C1233-$O$51","v":-18},637.2,null,null,26412,4,{"$f":"E1233*I1233/H1233","v":0.09650159018627898},{"$nulls":3},{"$f":"IF($D1233<0,0, IF($D1233<$B$1235,$B$1233*$B$1234*(($D1233)^4), $B$1233*$B$1234*(($D1233)^4-($D1233-$B$1235)^4)))","v":0},{"$f":"E1233/100000","v":0.006372},{"$f":"100000","v":100000},{"$f":"P1233*N1233","v":0},null,{"$f":"IF($D1233<10,0,IF(AND(OR($D1233>10,$D1233=10),$D1233<10+$B$1235),$B$1232*$B$1234*(($D1233-10)),$B$1232*$B$1234*(($D1233-10)-($D1233-10-$B$1235))))","v":0},{"$f":"E1233/100000","v":0.006372},{"$f":"100000","v":100000},{"$f":"U1233*S1233*J1233/100000","v":0}]
["f",{"$f":"$M$51*2.8","v":{"$error":"#REF!"}},1,{"$f":"C1234-$O$51","v":-17},{"$f":"(F1234+F1235+F1236+F1237)*100000","v":{"v":110.39999999999999,"d":"110.400000"}},0.000429,null,4450,3,{"$f":"E1234*I1234/H1234","v":0.07442696629213483},{"$nulls":3},{"$f":"IF($D1234<0,0, IF($D1234<$B$1235,$B$1233*$B$1234*(($D1234)^4), $B$1233*$B$1234*(($D1234)^4-($D1234-$B$1235)^4)))","v":0},{"$f":"E1234/100000","v":0.001104},{"$f":"P1233-P1233*O1233","v":99362.8},{"$f":"P1234*4*N1234","v":0},null,{"$f":"IF($D1234<10,0,IF(AND(OR($D1234>10,$D1234=10),$D1234<10+$B$1235),$B$1232*$B$1234*(($D1234-10)),$B$1232*$B$1234*(($D1234-10)-($D1234-10-$B$1235))))","v":0},{"$f":"E1234/100000","v":0.001104},{"$f":"U1233-U1233*T1233","v":99362.8},{"$f":"U1234*S1234*J1234/100000","v":0}]
["d",{"$f":"$H$51","v":45},2,-16,null,0.000288,{"$nulls":7},0,null,null,{"$f":"P1235*N1235","v":0},null,0,null,null,0]
[null,null,3,-15,null,0.000219,{"$nulls":7},0,null,null,0,null,0,null,null,0]
[null,null,4,-14,null,0.000168,{"$nulls":7},0,null,null,0,null,0,null,null,0]
[null,null,5,-13,{"$f":"(F1238+F1239+F1240+F1241+F1242)*100000","v":{"v":62.5,"d":"62.500000"}},{"v":1.56E-4,"d":"0.000156"},null,{"$f":"5651/2","v":2825.5},{"$f":"5/2","v":{"v":2.5,"d":"3"}},{"$f":"E1238*I1238/H1238","v":0.055299946912050965},{"$nulls":3},0,{"$f":"E1238/100000","v":0.000625},{"$f":"P1234-P1234*O1234","v":99253.1034688},{"$f":"P1238*5*N1238","v":0},null,0,{"$f":"E1238/100000","v":0.000625},{"$f":"U1234-U1234*T1234","v":99253.1034688},0]
[null,null,6,-12,null,0.000139,{"$nulls":7},0,null,null,0,null,0,null,null,0]
[null,null,7,-11,null,{"v":1.25E-4,"d":"0.000125"},{"$nulls":7},0,null,null,0,null,0,null,null,0]
[null,null,8,-10,null,{"v":1.1E-4,"d":"0.000110"},{"$nulls":7},0,null,null,0,null,0,null,null,0]
[null,null,9,-9,null,{"v":9.5e-05,"d":"0.000095"},{"$nulls":7},0,null,null,0,null,0,null,null,0]
[null,null,10,-8,{"$f":"(F1243+F1244+F1245+F1246+F1247)*100000","v":{"v":75.1,"d":"75.100000"}},{"v":8.5e-05,"d":"0.000085"},null,{"$f":"5651/2","v":2825.5},{"$f":"5/2","v":{"v":2.5,"d":"3"}},{"$f":"E1243*I1243/H1243","v":0.06644841620952044},{"$nulls":3},0,{"$f":"E1243/100000","v":7.5099999999999993E-4},{"$f":"P1238-P1238*O1238","v":99191.070279132},{"$f":"P1243*5*N1243","v":0},null,0,{"$f":"E1243/100000","v":7.5099999999999993E-4},{"$f":"U1238-U1238*T1238","v":99191.070279132},0]
[null,null,11,-7,null,{"v":9.1e-05,"d":"0.000091"},{"$nulls":7},0,null,null,0,null,0,null,null,0]
[null,null,12,-6,null,{"v":1.22E-4,"d":"0.000122"},{"$nulls":7},0,null,null,0,null,0,null,null,0]
[null,null,13,-5,null,{"v":1.85E-4,"d":"0.000185"},{"$nulls":7},0,null,null,0,null,0,null,null,0]
[null,null,14,-4,null,0.000268,{"$nulls":7},0,null,null,0,null,0,null,null,0]
[null,null,15,-3,{"$f":"(F1248+F1249+F1250+F1251+F1252)*100000","v":{"v":259.2,"d":"259.200000"}},0.000355,null,{"$f":"30416/2","v":15208},{"$f":"25/2","v":{"v":12.5,"d":"13"}},{"$f":"E1248*I1248/H1248","v":0.2130457653866386},{"$nulls":3},0,{"$f":"E1248/100000","v":2.5919999999999997E-3},{"$f":"P1243-P1243*O1243","v":99116.57778535238},{"$f":"P1248*5*N1248","v":0},null,0,{"$f":"E1248/100000","v":2.5919999999999997E-3},{"$f":"U1243-U1243*T1243","v":99116.57778535238},{"$f":"U1248*S1248*J1248/100000","v":0}]
[null,null,16,-2,null,0.000438,{"$nulls":7},0,null,null,0,null,0,null,null,0]
[null,null,17,-1,null,{"v":0.00052,"d":"0.000520"},{"$nulls":7},0,null,null,0,null,0,null,null,0]
[null,null,18,0,null,{"v":0.0006,"d":"0.000600"},{"$nulls":7},{"$error":"#REF!"},null,null,{"$error":"#REF!"},null,0,null,null,0]
[null,null,19,1,null,0.000679,{"$nulls":7},{"$error":"#REF!"},null,null,{"$error":"#REF!"},null,0,null,null,0]
[null,null,20,2,{"$f":"(F1253+F1254+F1255+F1256+F1257)*100000","v":{"v":442.09999999999997,"d":"442.100000"}},0.000765,null,{"$f":"30416/2","v":15208},{"$f":"25/2","v":{"v":12.5,"d":"13"}},{"$f":"E1253*I1253/H1253","v":0.363377827459232},{"$nulls":3},{"$error":"#REF!"},{"$f":"E1253/100000","v":0.004421},{"$f":"P1248-P1248*O1248","v":98859.66761573275},{"$f":"P1253*5*N1253","v":{"$error":"#REF!"}},null,0,{"$f":"E1253/100000","v":0.004421},{"$f":"U1248-U1248*T1248","v":98859.66761573275},0]
[null,null,21,3,null,0.000848,{"$nulls":7},{"$error":"#REF!"},null,null,{"$error":"#REF!"},null,0,null,null,0]
[null,null,22,4,null,0.000911,{"$nulls":7},{"$error":"#REF!"},null,null,{"$error":"#REF!"},null,0,null,null,0]
[null,null,23,5,null,0.000944,{"$nulls":7},{"$error":"#REF!"},null,null,{"$error":"#REF!"},null,0,null,null,0]
[null,null,24,6,null,0.000953,{"$nulls":7},{"$error":"#REF!"},null,null,{"$error":"#REF!"},null,0,null,null,0]
[null,null,25,7,{"$f":"(F1258+F1259+F1260+F1261+F1262)*100000","v":{"v":488.9000000000001,"d":"488.900000"}},0.000956,null,{"$f":"42502/2","v":21251},{"$f":"146/2","v":73},{"$f":"E1258*I1258/H1258","v":1.6794362618229732},{"$nulls":3},{"$error":"#REF!"},{"$f":"E1258/100000","v":4.889000000000001E-3},{"$f":"P1253-P1253*O1253","v":98422.6090252036},{"$f":"P1258*5*N1258","v":{"$error":"#REF!"}},null,0,{"$f":"E1258/100000","v":4.889000000000001E-3},{"$f":"U1253-U1253*T1253","v":98422.6090252036},0]
[null,null,26,8,null,0.000963,{"$nulls":7},{"$error":"#REF!"},null,null,{"$error":"#REF!"},null,0,null,null,0]
[null,null,27,9,null,0.000972,{"$nulls":7},{"$error":"#REF!"},null,null,{"$error":"#REF!"},null,0,null,null,0]
[null,null,28,10,null,0.000988,{"$nulls":7},{"$error":"#REF!"},null,null,{"$error":"#REF!"},null,{"$error":"#REF!"},null,null,{"$error":"#REF!"}]
[null,null,29,11,null,{"v":1.01E-3,"d":"0.001010"},{"$nulls":7},{"$error":"#REF!"},null,null,{"$error":"#REF!"},null,{"$error":"#REF!"},null,null,{"$error":"#REF!"}]
[null,null,30,12,{"$f":"(F1263+F1264+F1265+F1266+F1267)*100000","v":{"v":557.3,"d":"557.300000"}},0.001038,null,{"$f":"42502/2","v":21251},{"$f":"146/2","v":73},{"$f":"E1263*I1263/H1263","v":1.9143993223848286},{"$nulls":3},{"$error":"#REF!"},{"$f":"E1263/100000","v":0.005573},{"$f":"P1258-P1258*O1258","v":97941.42088967937},{"$f":"P1263*5*N1263","v":{"$error":"#REF!"}},null,{"$error":"#REF!"},{"$f":"E1263/100000","v":0.005573},{"$f":"U1258-U1258*T1258","v":97941.42088967937},{"$error":"#REF!"}]
[null,null,31,13,null,{"v":1.07E-3,"d":"0.001070"},{"$nulls":7},{"$error":"#REF!"},null,null,{"$error":"#REF!"},null,{"$error":"#REF!"},null,null,{"$error":"#REF!"}]
[null,null,32,14,null,{"v":1.111E-3,"d":"0.001111"},{"$nulls":7},{"$error":"#REF!"},null,null,{"$error":"#REF!"},null,{"$error":"#REF!"},null,null,{"$error":"#REF!"}]
[null,null,33,15,null,{"v":1.152E-3,"d":"0.001152"},{"$nulls":7},{"$error":"#REF!"},null,null,{"$error":"#REF!"},null,{"$error":"#REF!"},null,null,{"$error":"#REF!"}]
[null,null,34,16,null,0.001202,{"$nulls":7},{"$error":"#REF!"},null,null,{"$error":"#REF!"},null,{"$error":"#REF!"},null,null,{"$error":"#REF!"}]
[null,null,35,17,{"$f":"(F1268+F1269+F1270+F1271+F1272)*100000","v":{"v":718.3000000000001,"d":"718.300000"}},0.001262,null,{"$f":"74665/2","v":37332.5},{"$f":"1517/2","v":{"v":758.5,"d":"759"}},{"$f":"E1268*I1268/H1268","v":14.59400120538405},{"$nulls":3},{"$error":"#REF!"},{"$f":"E1268/100000","v":7.183000000000001E-3},{"$f":"P1263-P1263*O1263","v":97395.5933510612},{"$f":"P1268*5*N1268","v":{"$error":"#REF!"}},null,{"$error":"#REF!"},{"$f":"E1268/100000","v":7.183000000000001E-3},{"$f":"U1263-U1263*T1263","v":97395.5933510612},{"$error":"#REF!"}]
[null,null,36,18,null,{"v":1.335E-3,"d":"0.001335"},{"$nulls":7},{"$error":"#REF!"},null,null,{"$error":"#REF!"},null,{"$error":"#REF!"},null,null,{"$error":"#REF!"}]
[null,null,37,19,null,{"v":1.421E-3,"d":"0.001421"},{"$nulls":7},{"$error":"#REF!"},null,null,{"$error":"#REF!"},null,{"$error":"#REF!"},null,null,{"$error":"#REF!"}]
[null,null,38,20,null,0.001522,{"$nulls":7},{"$error":"#REF!"},null,null,{"$error":"#REF!"},null,{"$error":"#REF!"},null,null,{"$error":"#REF!"}]
[null,null,39,21,null,0.001643,{"$nulls":7},{"$error":"#REF!"},null,null,{"$error":"#REF!"},null,{"$error":"#REF!"},null,null,{"$error":"#REF!"}]
[null,null,40,22,{"$f":"(F1273+F1274+F1275+F1276+F1277)*100000","v":{"v":1072.5,"d":"1,072.500000"}},0.001778,null,{"$f":"74665/2","v":37332.5},{"$f":"1517/2","v":{"v":758.5,"d":"759"}},{"$f":"E1273*I1273/H1273","v":21.790430589968526},{"$nulls":3},{"$error":"#REF!"},{"$f":"E1273/100000","v":0.010725},{"$f":"P1268-P1268*O1268","v":96696.00080402053},{"$f":"P1273*5*N1273","v":{"$error":"#REF!"}},null,{"$error":"#REF!"},{"$f":"E1273/100000","v":0.010725},{"$f":"U1268-U1268*T1268","v":96696.00080402053},{"$error":"#REF!"}]
[null,null,41,23,null,{"v":1.933E-3,"d":"0.001933"},{"$nulls":7},{"$error":"#REF!"},null,null,{"$error":"#REF!"},null,{"$error":"#REF!"},null,null,{"$error":"#REF!"}]
[null,null,42,24,null,0.002118,{"$nulls":7},{"$error":"#REF!"},null,null,{"$error":"#REF!"},null,{"$error":"#REF!"},null,null,{"$error":"#REF!"}]
[null,null,43,25,null,0.002332,{"$nulls":7},{"$error":"#REF!"},null,null,{"$error":"#REF!"},null,{"$error":"#REF!"},null,null,{"$error":"#REF!"}]
[null,null,44,26,null,0.002564,{"$nulls":7},{"$error":"#REF!"},null,null,{"$error":"#REF!"},null,{"$error":"#REF!"},null,null,{"$error":"#REF!"}]
[null,null,45,27,{"$f":"(F1278+F1279+F1280+F1281+F1282)*100000","v":{"v":1666.5,"d":"1,666.500000"}},0.002796,null,{"$f":"187568/2","v":{"v":93784,"d":"93,784"}},{"$f":"12488/2","v":{"v":6244,"d":"6,244"}},{"$f":"E1278*I1278/H1278","v":110.9531050072507},{"$nulls":3},{"$error":"#REF!"},{"$f":"E1278/100000","v":0.016665},{"$f":"P1273-P1273*O1273","v":95658.93619539741},{"$f":"P1278*5*N1278","v":{"$error":"#REF!"}},null,{"$error":"#REF!"},{"$f":"E1278/100000","v":0.016665},{"$f":"U1273-U1273*T1273","v":95658.93619539741},{"$error":"#REF!"}]
[null,null,46,28,null,0.003034,{"$nulls":7},{"$error":"#REF!"},null,null,{"$error":"#REF!"},null,{"$error":"#REF!"},null,null,{"$error":"#REF!"}]
[null,null,47,29,null,{"v":3.297E-3,"d":"0.003297"},{"$nulls":7},{"$error":"#REF!"},null,null,{"$error":"#REF!"},null,{"$error":"#REF!"},null,null,{"$error":"#REF!"}]
[null,null,48,30,null,{"v":0.0036,"d":"0.003600"},{"$nulls":7},{"$error":"#REF!"},null,null,{"$error":"#REF!"},null,{"$error":"#REF!"},null,null,{"$error":"#REF!"}]
[null,null,49,31,null,0.003938,{"$nulls":7},{"$error":"#REF!"},null,null,{"$error":"#REF!"},null,{"$error":"#REF!"},null,null,{"$error":"#REF!"}]
[null,null,50,32,{"$f":"(F1283+F1284+F1285+F1286+F1287)*100000","v":{"v":2526.4,"d":"2,526.400000"}},0.004306,null,{"$f":"187568/2","v":{"v":93784,"d":"93,784"}},{"$f":"12488/2","v":{"v":6244,"d":"6,244"}},{"$f":"E1283*I1283/H1283","v":168.2039750917001},{"$nulls":3},{"$error":"#REF!"},{"$f":"E1283/100000","v":0.025264},{"$f":"P1278-P1278*O1278","v":94064.78002370111},{"$f":"P1283*5*N1283","v":{"$error":"#REF!"}},null,{"$error":"#REF!"},{"$f":"E1283/100000","v":0.025264},{"$f":"U1278-U1278*T1278","v":94064.78002370111},{"$error":"#REF!"}]
[null,null,51,33,null,0.004682,{"$nulls":7},{"$error":"#REF!"},null,null,{"$error":"#REF!"},null,{"$error":"#REF!"},null,null,{"$error":"#REF!"}]
[null,null,52,34,null,{"v":5.058E-3,"d":"0.005058"},{"$nulls":7},{"$error":"#REF!"},null,null,{"$error":"#REF!"},null,{"$error":"#REF!"},null,null,{"$error":"#REF!"}]
[null,null,53,35,null,{"v":5.424E-3,"d":"0.005424"},{"$nulls":7},{"$error":"#REF!"},null,null,{"$error":"#REF!"},null,{"$error":"#REF!"},null,null,{"$error":"#REF!"}]
[null,null,54,36,null,0.005794,{"$nulls":7},{"$error":"#REF!"},null,null,{"$error":"#REF!"},null,{"$error":"#REF!"},null,null,{"$error":"#REF!"}]
[null,null,55,37,{"$f":"(F1288+F1289+F1290+F1291+F1292)*100000","v":{"v":3574.5,"d":"3,574.500000"}},0.006186,null,{"$f":"303307/2","v":{"v":151653.5,"d":"151,654"}},{"$f":"30964/2","v":{"v":15482,"d":"15,482"}},{"$f":"E1288*I1288/H1288","v":364.9134968859934},{"$nulls":3},{"$error":"#REF!"},{"$f":"E1288/100000","v":0.035745},{"$f":"P1283-P1283*O1283","v":91688.32742118233},{"$f":"P1288*5*N1288","v":{"$error":"#REF!"}},null,{"$error":"#REF!"},{"$f":"E1288/100000","v":0.035745},{"$f":"U1283-U1283*T1283","v":91688.32742118233},{"$error":"#REF!"}]
[null,null,56,38,null,0.006622,{"$nulls":7},{"$error":"#REF!"},null,null,{"$error":"#REF!"},null,{"$error":"#REF!"},null,null,{"$error":"#REF!"}]
[null,null,57,39,null,0.007102,{"$nulls":7},{"$error":"#REF!"},null,null,{"$error":"#REF!"},null,{"$error":"#REF!"},null,null,{"$error":"#REF!"}]
[null,null,58,40,null,{"v":0.00763,"d":"0.007630"},{"$nulls":7},{"$error":"#REF!"},null,null,{"$error":"#REF!"},null,{"$error":"#REF!"},null,null,{"$error":"#REF!"}]
[null,null,59,41,null,0.008205,{"$nulls":7},{"$error":"#REF!"},null,null,{"$error":"#REF!"},null,{"$error":"#REF!"},null,null,{"$error":"#REF!"}]
[null,null,60,42,{"$f":"(F1293+F1294+F1295+F1296+F1297)*100000","v":{"v":5144.400000000001,"d":"5,144.400000"}},0.008826,null,{"$f":"303307/2","v":{"v":151653.5,"d":"151,654"}},{"$f":"30964/2","v":{"v":15482,"d":"15,482"}},{"$f":"E1293*I1293/H1293","v":525.1814221234591},{"$nulls":3},{"$error":"#REF!"},{"$f":"E1293/100000","v":0.051444000000000004},{"$f":"P1288-P1288*O1288","v":88410.92815751217},{"$f":"P1293*5*N1293","v":{"$error":"#REF!"}},null,{"$error":"#REF!"},{"$f":"E1293/100000","v":0.051444000000000004},{"$f":"U1288-U1288*T1288","v":88410.92815751217},{"$error":"#REF!"}]
[null,null,61,43,null,{"v":9.495E-3,"d":"0.009495"},{"$nulls":7},{"$error":"#REF!"},null,null,{"$error":"#REF!"},null,{"$error":"#REF!"},null,null,{"$error":"#REF!"}]
[null,null,62,44,null,0.010217,{"$nulls":7},{"$error":"#REF!"},null,null,{"$error":"#REF!"},null,{"$error":"#REF!"},null,null,{"$error":"#REF!"}]
[null,null,63,45,null,{"v":0.01101,"d":"0.011010"},{"$nulls":7},{"$error":"#REF!"},null,null,{"$error":"#REF!"},null,{"$error":"#REF!"},null,null,{"$error":"#REF!"}]
[null,null,64,46,null,0.011896,{"$nulls":7},{"$error":"#REF!"},null,null,{"$error":"#REF!"},null,{"$error":"#REF!"},null,null,{"$error":"#REF!"}]
[null,null,65,{"$f":"C1298-$O$51","v":47},{"$f":"(F1298+F1299+F1300+F1301+F1302)*100000","v":{"v":7712.8,"d":"7,712.800000"}},0.012923,null,{"$f":"401032/2","v":{"v":200516,"d":"200,516"}},{"$f":"48536/2","v":{"v":24268,"d":"24,268"}},{"$f":"E1298*I1298/H1298","v":933.4628179297413},{"$nulls":3},{"$f":"IF($D1298<0,0, IF($D1298<$B$1235,$B$1233*$B$1234*(($D1298)^4), $B$1233*$B$1234*(($D1298)^4-($D1298-$B$1235)^4)))","v":{"$error":"#REF!"}},{"$f":"E1298/100000","v":0.077128},{"$f":"P1293-P1293*O1293","v":83862.71636937711},{"$f":"P1298*5*N1298","v":{"$error":"#REF!"}},null,{"$f":"IF($D1298<10,0,IF(AND(OR($D1298>10,$D1298=10),$D1298<10+$B$1235),$B$1232*$B$1234*(($D1298-10)),$B$1232*$B$1234*(($D1298-10)-($D1298-10-$B$1235))))","v":{"$error":"#REF!"}},{"$f":"E1298/100000","v":0.077128},{"$f":"U1293-U1293*T1293","v":83862.71636937711},{"$error":"#REF!"}]
[null,null,66,48,null,0.014095,{"$nulls":7},{"$error":"#REF!"},null,null,{"$f":"P1299*N1299","v":{"$error":"#REF!"}},null,{"$error":"#REF!"},null,null,{"$f":"U1299*S1299*J1299/100000","v":{"$error":"#REF!"}}]
[null,null,67,49,null,0.015356,{"$nulls":7},{"$error":"#REF!"},null,null,{"$error":"#REF!"},null,{"$error":"#REF!"},null,null,{"$error":"#REF!"}]
[null,null,68,50,null,0.016682,{"$nulls":7},{"$error":"#REF!"},null,null,{"$error":"#REF!"},null,{"$error":"#REF!"},null,null,{"$error":"#REF!"}]
[null,null,69,51,null,0.018072,{"$nulls":7},{"$error":"#REF!"},null,null,{"$error":"#REF!"},null,{"$error":"#REF!"},null,null,{"$error":"#REF!"}]
[null,null,70,52,{"$f":"(F1303+F1304+F1305+F1306+F1307)*100000","v":{"v":11861.8,"d":"11,861.800000"}},{"v":0.01963,"d":"0.019630"},null,{"$f":"401032/2","v":{"v":200516,"d":"200,516"}},{"$f":"48536/2","v":{"v":24268,"d":"24,268"}},{"$f":"E1303*I1303/H1303","v":1435.6069460791157},{"$nulls":3},{"$error":"#REF!"},{"$f":"E1303/100000","v":0.11861799999999999},{"$f":"P1298-P1298*O1298","v":77394.55278123979},{"$f":"P1303*5*N1303","v":{"$error":"#REF!"}},null,{"$error":"#REF!"},{"$f":"E1303/100000","v":0.11861799999999999},{"$f":"U1298-U1298*T1298","v":77394.55278123979},{"$error":"#REF!"}]
[null,null,71,53,null,{"v":0.02143,"d":"0.021430"},{"$nulls":7},{"$error":"#REF!"},null,null,{"$error":"#REF!"},null,{"$error":"#REF!"},null,null,{"$error":"#REF!"}]
[null,null,72,54,null,0.023431,{"$nulls":7},{"$error":"#REF!"},null,null,{"$error":"#REF!"},null,{"$error":"#REF!"},null,null,{"$error":"#REF!"}]
[null,null,73,55,null,0.025763,{"$nulls":7},{"$error":"#REF!"},null,null,{"$error":"#REF!"},null,{"$error":"#REF!"},null,null,{"$error":"#REF!"}]
[null,null,74,56,null,0.028364,{"$nulls":7},{"$error":"#REF!"},null,null,{"$error":"#REF!"},null,{"$error":"#REF!"},null,null,{"$error":"#REF!"}]
[null,null,75,57,{"$f":"(F1308+F1309+F1310+F1311+F1312)*100000","v":{"v":18984.100000000002,"d":"18,984.100000"}},{"v":0.03106,"d":"0.031060"},null,{"$f":"627727/2","v":{"v":313863.5,"d":"313,864"}},{"$f":"46860/2","v":{"v":23430,"d":"23,430"}},{"$f":"E1308*I1308/H1308","v":1417.1684920355506},{"$nulls":3},{"$error":"#REF!"},{"$f":"E1308/100000","v":0.189841},{"$f":"P1303-P1303*O1303","v":68214.16571943469},{"$f":"P1308*5*N1308","v":{"$error":"#REF!"}},null,{"$error":"#REF!"},{"$f":"E1308/100000","v":0.189841},{"$f":"U1303-U1303*T1303","v":68214.16571943469},{"$error":"#REF!"}]
[null,null,76,58,null,0.034041,{"$nulls":7},{"$error":"#REF!"},null,null,{"$error":"#REF!"},null,{"$error":"#REF!"},null,null,{"$error":"#REF!"}]
[null,null,77,59,null,0.037491,{"$nulls":7},{"$error":"#REF!"},null,null,{"$error":"#REF!"},null,{"$error":"#REF!"},null,null,{"$error":"#REF!"}]
[null,null,78,60,null,0.041456,{"$nulls":7},{"$error":"#REF!"},null,null,{"$error":"#REF!"},null,{"$error":"#REF!"},null,null,{"$error":"#REF!"}]
[null,null,79,61,null,0.045793,{"$nulls":7},{"$error":"#REF!"},null,null,{"$error":"#REF!"},null,{"$error":"#REF!"},null,null,{"$error":"#REF!"}]
[null,null,80,62,{"$f":"(F1313+F1314+F1315+F1316+F1317)*100000","v":{"v":31110.699999999997,"d":"31,110.700000"}},0.050433,null,{"$f":"627727/2","v":{"v":313863.5,"d":"313,864"}},{"$f":"46860/2","v":{"v":23430,"d":"23,430"}},{"$f":"E1313*I1313/H1313","v":2322.422648699195},{"$nulls":3},{"$error":"#REF!"},{"$f":"E1313/100000","v":0.31110699999999997},{"$f":"P1308-P1308*O1308","v":55264.32028509149},{"$f":"P1313*5*N1313","v":{"$error":"#REF!"}},null,{"$error":"#REF!"},{"$f":"E1313/100000","v":0.31110699999999997},{"$f":"U1308-U1308*T1308","v":55264.32028509149},{"$f":"U1313*S1313*J1313/100000","v":{"$error":"#REF!"}}]
[null,null,81,63,null,0.055465,{"$nulls":7},{"$error":"#REF!"},null,null,{"$error":"#REF!"},null,{"$error":"#REF!"},null,null,{"$error":"#REF!"}]
[null,null,82,64,null,0.061442,{"$nulls":7},{"$error":"#REF!"},null,null,{"$error":"#REF!"},null,{"$error":"#REF!"},null,null,{"$error":"#REF!"}]
[null,null,83,65,null,0.068173,{"$nulls":7},{"$error":"#REF!"},null,null,{"$error":"#REF!"},null,{"$error":"#REF!"},null,null,{"$error":"#REF!"}]
[null,null,84,66,null,0.075594,{"$nulls":7},{"$error":"#REF!"},null,null,{"$error":"#REF!"},null,{"$error":"#REF!"},null,null,{"$error":"#REF!"}]
[null,null,85,67,100000,null,null,{"v":733178,"d":"733,178"},{"v":17605,"d":"17,605"},{"$f":"E1318*I1318/H1318","v":2401.1904339737416},{"$nulls":3},{"$error":"#REF!"},{"$f":"E1318/100000","v":1},{"$f":"P1313-P1313*O1313","v":38071.203394157536},{"$f":"P1318*6.5*N1318","v":{"$error":"#REF!"}},null,{"$error":"#REF!"},{"$f":"E1318/100000","v":1},{"$f":"U1313-U1313*T1313","v":38071.203394157536},{"$f":"U1318*S1318*J1318/100000*3.5","v":{"$error":"#REF!"}}]

{"sheet":"Scenario 3","index":2,"n_rows":1318,"n_cols":46,"rows_kept":1318,"merged":[[2,4,2,8],[3,0,3,1],[3,4,3,5],[3,7,3,8],[3,10,3,11]]}
["SCENARIO 3.","FIBER-SPECIFIC TEM RESULTS ARE KNOWN"]
[]
[{"$nulls":4},"RISK ASSESSMENT RESULTS:"]
["OCCUPATIONAL EXPOSURE DATA:"]
[{"$nulls":4},"Total Cancer, per 1,000,000",null,"Lung Cancer, per 1,000,000",null,"Mesothelioma, per 1,000,000"]
["Chrysotile  ",{"$nulls":3},"Berman, Crump 2008:",null,"Berman, Crump 2008:",null,"Berman, Crump 2008:"]
["Long Thin (f/cc) (length > 10 µm, width<0.4 µm)",0.059,null,"Best estimate:",{"$f":"G7+I7","v":{"v":719.6111092426071,"d":"720"}},null,{"$f":"AA53","v":{"v":719.6111092426071,"d":"720"}},null,{"$f":"0","v":0}]
[{"$nulls":3},"Upper bound:",{"$f":"I8+G8","v":{"v":2440.32146186215,"d":"2440"}},null,{"$f":"G7/0.49*1.4","v":{"v":2056.031740693163,"d":"2056"}},null,{"$f":"Z53","v":{"v":384.2897211689869,"d":"384"}}]
[]
["Long All Width (f/cc) (length > 10 µm, all width)",0.1,null,"Best estimate:",{"$f":"G10+I10","v":{"v":721.8513375314978,"d":"722"}},null,{"$f":"AA54","v":{"v":721.8513375314978,"d":"722"}},null,{"$f":"0","v":0}]
[{"$nulls":3},"Upper bound:",{"$f":"G11+I11","v":{"v":2085.2722667325324,"d":"2085"}},null,{"$f":"G10/0.29*0.73","v":{"v":1817.074056544805,"d":"1817"}},null,{"$f":"Z54","v":{"v":268.1982101877277,"d":"268"}}]
["Amphibole"]
["Long Thin (f/cc) (length > 10 µm, width<0.4 µm)",0.0013,null,"Best estimate:",{"$f":"I13+G13","v":{"v":1016.2100497124283,"d":"1016"}},null,{"$f":"W838","v":{"v":249.16316857552735,"d":"249"}},null,{"$f":"R838","v":{"v":767.0468811369009,"d":"767"}}]
[{"$nulls":3},"Upper bound:",{"$f":"G14+I14","v":{"v":2392.3488417647895,"d":"2392"}},null,{"$f":"G13/7.7*26.6","v":{"v":860.7454914427309,"d":"861"}},null,{"$f":"I13/30.8*61.5","v":{"v":1531.6033503220585,"d":"1532"}}]
[]
["Long All Width (f/cc) (length > 10 µm, all width)",0.0027,null,"Best estimate:",{"$f":"I16+G16","v":{"v":895.2488707997832,"d":"895"}},null,{"$f":"W968","v":{"v":181.45849140015935,"d":"181"}},null,{"$f":"R968","v":{"v":713.7903793996238,"d":"714"}}]
[{"$nulls":3},"Upper bound:",{"$f":"G17+I17","v":{"v":2025.6874379027659,"d":"2026"}},null,{"$f":"G16/2.7*9.9","v":{"v":665.3478018005842,"d":"665"}},null,{"$f":"I16/13.8*26.3","v":{"v":1360.3396361021817,"d":"1360"}}]
["Duration (years)",30]
[]
["Onset age (years)",18]
[]
["Exposure duration during the shift (hours)",8]
[]
["Shift duration (hour)",8]
["Protection factor",1]
{"$rows_empty":17}
["EPA, IRIS Method (Current USEPA Asbestos Risk Assessment Method)"]
[{"$nulls":8},"Duration of exposure",{"$nulls":4},"Average PCME Receptor Asbestos Concentration Exposure, Ambient Equivalent (f/cc)","Total Lifetime Exposure (f/cc years, work place equivalent)","Onset time, years","K1, coefficient for UNIT risk calculation","K2, coefficient for UNIT risk calculation","Unit Risk (EPA, duraion and onset time adjusted)","Excess Lifetime Cancer Risk (ELCR) (Cases per million)",null,"Lung cancer potency factor, Kl","Mesothelioma potency factor, Km",null,"Excess Lifetime Cancer Risk (ELCR) (Cases per million)","Excess Lifetime Mesothelioma Risk (cases per million)","Excess Lifetime Lung Cancer Risk (Cases per million)",null,"Calculated Unit Risk"]
[{"$nulls":15},"Range"]
[]
[{"$nulls":15},"Lower"]
[]
[{"$nulls":15},"Upper"]
[]
[{"$nulls":7},{"$f":"#REF!*(B22/B24)/B25","v":{"$error":"#REF!"}},{"$f":"B18","v":30},{"$f":"1","v":1},{"$f":"1-J51","v":0},{"v":1,"d":"100%"},{"$f":"L51*K51+J51","v":{"v":1,"d":"100%"}},{"$f":"H51*M51/2.8*B24/8","v":{"$error":"#REF!"}},{"$f":"I51*N51*2.8","v":{"$error":"#REF!"}},{"$f":"B20","v":18},{"$f":"-0.0176401+0.2492567*EXP(-P51/24.7806941)","v":{"v":0.10291553930588737,"d":"0.103"}},{"$f":"0.0415839+0.0039973*EXP(P51/-18.2212632)","v":{"v":0.04307239012159984,"d":"0.043"}},{"$f":"Q51*(1-EXP(-1*R51*I51))","v":{"v":0.0746473550368054,"d":"0.075"}},{"$f":"N51*S51*1000000","v":{"$error":"#REF!"}},"Total:",{"$f":"1*10^-2","v":0.01},{"$f":"1*10^-8","v":1E-8},null,{"$f":"R452+W452","v":{"$error":"#REF!"}},{"$f":"R452","v":{"$error":"#REF!"}},{"$f":"W452","v":{"$error":"#REF!"}},null,{"$f":"Y51/N51/1000000","v":{"$error":"#REF!"}}]
[{"$nulls":7},"including:",{"$nulls":5},"including:"]
[{"$nulls":6},"TWA  Asbestos Concentration (f/cc) (PCME, chrysotile):",{"$f":"B7*B22/B24/B25","v":0.059},{"$nulls":4},"Average PCME Chrysotile Receptor Asbestos Concentration Exposure (f/cc)",{"$f":"H53*(M51/2.8)*B24/8","v":0.02107142857142857},{"$f":"I51*N53*2.8","v":{"v":1.7699999999999998,"d":"1.77E+00"}},null,null,"\"","\"",null,"Chrysotile:",{"$f":"0.49*10^-2","v":0.0049},{"$f":"0*10^-8","v":0},null,{"$f":"Z53+AA53","v":1103.900830411594},{"$f":"R581","v":384.2897211689869},{"$f":"W581","v":719.6111092426071}]
[{"$nulls":6},"TWA  Asbestos Concentration (f/cc) (PCME, tremolite-actinolite)",{"$f":"B10*B22/B24/B25","v":0.1},{"$nulls":4},"Average PCME Tremolite-Actinolite Receptor Asbestos Concentration Exposure (f/cc)",{"$f":"H54*M51/2.8*B24/8","v":0.03571428571428572},{"$f":"I51*N54*2.8","v":{"v":3.0000000000000004,"d":"3.00E+00"}},{"$nulls":5},"Tremolite-Actinolite (as amosite for mesothelioma):",{"$f":"0.29*10^-2","v":0.0029},{"$f":"0*10^-8","v":0},null,{"$f":"Z54+AA54","v":990.0495477192255},{"$f":"R710","v":268.1982101877277},{"$f":"W710","v":721.8513375314978}]
[]
[{"$nulls":6},"TWA  Asbestos Concentration (f/cc) (PCME, tremolite-actinolite)",{"$f":"B13*$B$22/$B$24/$B$25","v":{"v":0.0013,"d":"0.001300"}},{"$nulls":4},"Average PCME Crocidolite Receptor Asbestos concentration Exposure (f/cc)",{"$f":"H56*$M$51/2.8*$B$24/8","v":4.6428571428571428E-4},{"$f":"$I$51*N56*2.8","v":{"v":0.039,"d":"3.90E-02"}},{"$nulls":4},"Crocidolite",null,{"$f":"7.7*10^-2","v":0.077},{"$f":"30.8*10^-8","v":3.08e-07}]
[{"$nulls":19},"Amosite",null,{"$f":"13.8*10^-2","v":0.138},{"$f":"2.7*10^-8","v":2.7000000000000004E-8}]
[{"$nulls":6},"TWA Asbestos Concentration (f/cc), (PCME, amosite)",{"$f":"B16*$B$22/$B$24/$B$25","v":{"v":0.0027,"d":"0.002700"}},{"$nulls":4},"Amosite ",{"$f":"H58*$M$51/2.8*$B$24/8","v":9.642857142857144E-4},{"$f":"I51*N58*2.8","v":0.081}]
[]
[{"$nulls":25},"Lung cancer male",{"$nulls":5},"P",{"$nulls":3},"Mesothelioma both genders",{"$nulls":4},"mesothelioma male 1977 ",null,"Death rate"]
[{"$nulls":25},{"v":0,"d":"0.00"},799.9,0,{"$f":"AA61/100000","v":0.007999},{"$f":"AB61/100000","v":0},{"$f":"100000","v":100000},{"$f":"IF(Z61<10,0,IF(AND(OR(Z61>10,Z61=10),Z61<10+$I$63),$I$60*$I$62*(Z61-10),$I$60*$I$62*Z61))","v":0},{"$f":"AD61*AF61","v":0},{"$f":"AE61*AG61","v":0},null,{"$f":"IF(K61<10,0, IF(AND(OR(K61>10, K61=10),K61<10+$I$63),$I$61*$I$62*((K61-10)^3), $I$61*$I$62*((K61-10)^3-(K61-10-$I$63)^3)))","v":0},{"$f":"R61+AJ61","v":0},{"$f":"100000","v":100000},{"$f":"AL61*AJ61","v":0},null,100000,{"$f":"IF($K61<10,0, IF(AND(OR($K61>10, $K61=10),$K61<10+$I$63),$I$61*$I$62*(($K61-10)^3), $I$61*$I$62*(($K61-10)^3-($K61-10-$I$63)^3)))","v":0},{"$f":"(AO61-AO62)/AO61","v":0.01586},{"$f":"AQ61+AP61","v":0.01586},{"$f":"100000","v":100000},{"$f":"AS61*AP61","v":0}]
[{"$nulls":25},{"v":1,"d":"1.00"},36.5,0,{"$f":"AA62/100000","v":0.000365},0,{"$f":"AE61-AC61*AE61*2","v":98400.2},{"$f":"IF(Z62<10,0,IF(AND(OR(Z62>10,Z62=10),Z62<10+$I$63),$I$60*$I$62*(Z62-10),$I$60*$I$62*Z62))","v":0},{"$f":"AD62*AF62","v":0},0,null,{"$f":"IF(K62<10,0, IF(AND(OR(K62>10, K62=10),K62<10+$I$63),$I$61*$I$62*((K62-10)^3), $I$61*$I$62*((K62-10)^3-(K62-10-$I$63)^3)))","v":0},{"$f":"R62+AJ62","v":0},{"$f":"AL61-AL61*AK61","v":100000},{"$f":"AL62*AJ62","v":0},null,98414,{"$f":"IF($K62<10,0, IF(AND(OR($K62>10, $K62=10),$K62<10+$I$63),$I$61*$I$62*(($K62-10)^3), $I$61*$I$62*(($K62-10)^3-($K62-10-$I$63)^3)))","v":0},{"$f":"(AO62-AO63)/AO62","v":1.0364379051760928E-3},{"$f":"AQ62+AP62","v":1.0364379051760928E-3},{"$f":"AS61-AS61*AR61","v":98414},{"$f":"AS62*AP62","v":0}]
[{"$nulls":25},{"v":5,"d":"5.00"},18.3,0,1.83E-4,0,{"$f":"AE62-AC62*AE62*5","v":98220.619635},0,0,0,null,0,0,{"$f":"AL62-AL62*AK62","v":100000},0,null,98312,0,8.0356416307266658E-4,8.0356416307266658E-4,{"$f":"AS62-AS62*AR62","v":98312},0]
[{"$nulls":25},{"v":10,"d":"10.00"},25,0,0.00025,0,{"$f":"AE63-AC63*AE63*5","v":98130.74776803397},0,0,0,null,0,0,100000,0,null,98233,0,6.4133234249183068E-4,6.4133234249183068E-4,98233,0]
[{"$nulls":25},{"v":15,"d":"15.00"},94.9,0,9.4900000000000008E-4,0,98008.08433332392,0,0,0,null,0,0,100000,0,null,98170,0,0.000539879800346338,0.000539879800346338,98170,0]
[{"$nulls":25},{"v":20,"d":"20.00"},142,0,1.42E-3,0,97543.03597316229,0,0,0,null,0,0,100000,0,null,98117,0,4.8921185931082283E-4,4.8921185931082283E-4,98117,0]
[{"$nulls":25},{"v":25,"d":"25.00"},141.9,0.3,1.4190000000000001E-3,3e-06,96850.48041775284,0,{"$f":"AD67*AF67*5","v":0},0,null,0,0,100000,0,null,98069,0,4.4866369596916459E-4,4.4866369596916459E-4,98069,0]
[{"$nulls":25},{"v":30,"d":"30.00"},157.3,0.8,1.5730000000000002E-3,8e-06,96163.32625918889,0,0,0,null,0,0,100000,0,null,98025,0,4.1826064779393009E-4,4.1826064779393009E-4,98025,0]
[{"$nulls":25},{"v":35,"d":"35.00"},209.8,3.3,2.098E-3,3.2999999999999996E-5,95407.00169816037,0,0,0,null,0,0,100000,0,null,97984,0,3.6740692357935988E-4,3.6740692357935988E-4,97984,0]
[{"$nulls":25},{"v":40,"d":"40.00"},303.3,10.4,0.003033,1.0400000000000001E-4,94406.18225034667,0,0,0,null,0,0,100000,0,null,97948,0,3.1649446645158657E-4,3.1649446645158657E-4,97948,0]
[{"$nulls":25},{"v":45,"d":"45.00"},461.7,26,0.004617,0.00026,92974.51249652015,0,0,0,null,0,0,100000,0,null,97917,0,2.757437421489629E-4,2.757437421489629E-4,97917,0]
[{"$nulls":25},{"v":50,"d":"50.00"},658.3,54.6,6.5829999999999994E-3,0.000546,90828.19587553799,0,0,0,null,0,0,100000,0,null,97890,0,2.7581979773214831E-4,2.7581979773214831E-4,97890,0]
[{"$nulls":25},{"v":55,"d":"55.00"},1007.5,118,0.010075,0.00118,87838.58580829465,0,0,0,null,0,0,100000,0,null,97863,0,0.000357642827217641,0.000357642827217641,97863,0]
[{"$nulls":25},{"v":60,"d":"60.00"},1565.5,206.2,0.015655,2.062E-3,83413.71704820181,0,0,0,null,0,0,100000,0,null,97828,0,5.3154516089463141E-4,5.3154516089463141E-4,97828,0]
[{"$nulls":25},{"v":65,"d":"65.00"},2399.3,327.5,0.023993,0.003275,76884.50834625382,0,0,0,null,0,0,100000,0,null,97776,0,7.7728685976108651E-4,7.7728685976108651E-4,97776,0]
[{"$nulls":25},{"v":70,"d":"70.00"},3705.4,444,0.037054000000000004,0.00444,67661.05830249548,0,0,0,null,0,0,100000,0,null,97700,0,1.0440122824974412E-3,1.0440122824974412E-3,97700,0]
[{"$nulls":25},{"v":75,"d":"75.00"},5591.2,507.3,0.055911999999999996,0.005073,55125.49403079214,0,0,0,null,0,0,100000,0,null,97598,0,1.3012561732822395E-3,1.3012561732822395E-3,97598,0]
[{"$nulls":25},{"v":80,"d":"80.00"},8956.9,549.6,0.089569,5.496E-3,39714.61091954389,0,0,0,null,0,0,100000,0,null,97471,0,1.5184003447179161E-3,1.5184003447179161E-3,97471,0]
[{"$nulls":25},{"v":85,"d":"85.00"},16605.4,499,0.166054,0.00499,21928.620992280757,0,0,0,null,0,0,100000,0,null,97323,0,1.6851104055567543E-3,1.6851104055567543E-3,97323,0]
[{"$nulls":35},0,0,100000,0,null,97159,0,1.7908788686585905E-3,1.7908788686585905E-3,97159,0]
[{"$nulls":35},0,0,100000,0,null,96985,0,1.8972005980306232E-3,1.8972005980306232E-3,96985,0]
[{"$nulls":33},{"$f":"SUM(AH61:AH79)/100000*1000000","v":0},null,0,0,100000,0,null,96801,0,2.0041115277734736E-3,2.0041115277734736E-3,96801,0]
[{"$nulls":35},0,0,100000,0,null,96607,0,0.002070243357106628,0.002070243357106628,96607,0]
[{"$nulls":35},0,0,100000,0,null,96407,0,0.002074538155943033,0.002074538155943033,96407,0]
[{"$nulls":35},0,0,100000,0,null,96207,0,2.0476680491024564E-3,2.0476680491024564E-3,96207,0]
[{"$nulls":25},"Lung cancer female",{"$nulls":9},0,0,100000,0,null,96010,0,2.0102072700760336E-3,2.0102072700760336E-3,96010,0]
[{"$nulls":31},"P",{"$nulls":3},0,0,100000,0,null,95817,0,1.9725100973731176E-3,1.9725100973731176E-3,95817,0]
[{"$nulls":25},{"v":0,"d":"0.00"},654.3,0,{"$f":"AA88/100000","v":0.006542999999999999},{"$f":"AB88/100000","v":0},{"$f":"100000","v":100000},{"$f":"IF(Z88<10,0,IF(AND(OR(Z88>10,Z88=10),Z88<10+$I$63),$I$60*$I$62*(Z88-10),$I$60*$I$62*Z88))","v":0},{"$f":"AD88*AF88","v":0},{"$f":"AE88*AG88","v":0},null,0,0,100000,0,null,95628,0,1.9241226419040448E-3,1.9241226419040448E-3,95628,0]
[{"$nulls":25},{"v":1,"d":"1.00"},29.1,0,{"$f":"AA89/100000","v":0.000291},0,{"$f":"AE88-AC88*AE88*2","v":98691.4},{"$f":"IF(Z89<10,0,IF(AND(OR(Z89>10,Z89=10),Z89<10+$I$63),$I$60*$I$62*(Z89-10),$I$60*$I$62*Z89))","v":0},{"$f":"AD89*AF89","v":0},0,null,0,0,100000,0,null,95444,0,1.8963999832362433E-3,1.8963999832362433E-3,95444,0]
[{"$nulls":25},{"v":5,"d":"5.00"},14.5,0,1.45E-4,0,{"$f":"AE89-AC89*AE89*5","v":98547.804013},0,0,0,null,0,0,100000,0,null,95263,0,1.8790086392408386E-3,1.8790086392408386E-3,95263,0]
[{"$nulls":25},{"v":10,"d":"10.00"},16.6,0,1.6600000000000002E-4,0,{"$f":"AE90-AC90*AE90*5","v":98476.35685509058},0,0,0,null,0,0,100000,0,null,95084,0,1.8615119262967482E-3,1.8615119262967482E-3,95084,0]
[{"$nulls":25},{"v":15,"d":"15.00"},40,0,0.0004,0,98394.62147890085,0,0,0,null,0,0,100000,0,null,94907,0,1.8649836155394228E-3,1.8649836155394228E-3,94907,0]
[{"$nulls":25},{"v":20,"d":"20.00"},48.2,0,0.000482,0,98197.83223594305,0,0,0,null,0,0,100000,0,null,94730,0,1.8895809141771351E-3,1.8895809141771351E-3,94730,0]
[{"$nulls":25},{"v":25,"d":"25.00"},56.5,0,0.000565,0,97961.17546025442,0,0,0,null,0,0,100000,0,null,94551,0,1.9671923089126502E-3,1.9671923089126502E-3,94551,0]
[{"$nulls":25},{"v":30,"d":"30.00"},76,0.9,0.00076,9e-06,97684.4351395792,0,{"$f":"AD95*AF95*5","v":0},0,null,0,0,100000,0,null,94365,0,2.087638425263604E-3,2.087638425263604E-3,94365,0]
[{"$nulls":25},{"v":35,"d":"35.00"},115.1,2.6,0.001151,2.6000000000000002E-5,97313.2342860488,0,0,0,null,0,0,100000,0,null,94168,0,2.2300569195480417E-3,2.2300569195480417E-3,94168,0]
[{"$nulls":25},{"v":40,"d":"40.00"},172.2,8.1,1.7219999999999998E-3,8.099999999999999E-5,96753.19662273259,0,0,0,null,0,0,100000,0,null,93958,0,2.3840439345239363E-3,2.3840439345239363E-3,93958,0]
[{"$nulls":25},{"v":45,"d":"45.00"},254,16.6,0.00254,1.6600000000000002E-4,95920.15159981087,0,0,0,null,0,0,100000,0,null,93734,0,2.5711054686666525E-3,2.5711054686666525E-3,93734,0]
[{"$nulls":25},{"v":50,"d":"50.00"},386.3,35.1,0.003863,0.000351,94701.96567449327,0,0,0,null,0,0,100000,0,null,93493,0,0.002770260875145733,0.002770260875145733,93493,0]
[{"$nulls":25},{"v":55,"d":"55.00"},611.8,70.9,0.006117999999999999,7.090000000000001E-4,92872.79720749044,0,0,0,null,0,0,100000,0,null,93234,0,2.992470557950962E-3,2.992470557950962E-3,93234,0]
[{"$nulls":25},{"v":60,"d":"60.00"},982,122.3,0.00982,0.001223,90031.8183409133,0,0,0,null,0,0,100000,0,null,92955,0,3.2488838685385403E-3,3.2488838685385403E-3,92955,0]
[{"$nulls":25},{"v":65,"d":"65.00"},1527.5,181.6,0.015275,0.001816,85611.25606037446,0,0,0,null,0,0,100000,0,null,92653,0,3.5508834036674475E-3,3.5508834036674475E-3,92653,0]
[{"$nulls":25},{"v":70,"d":"70.00"},2381.8,238.7,0.023818000000000002,0.002387,79072.69637876336,0,0,0,null,0,0,100000,0,null,92324,0,3.8776482821368226E-3,3.8776482821368226E-3,92324,0]
[{"$nulls":25},{"v":75,"d":"75.00"},3812.6,268.6,0.038126,2.686E-3,69655.92896701643,0,0,0,null,0,0,100000,0,null,91966,0,0.004251571232846921,0.004251571232846921,91966,0]
[{"$nulls":25},{"v":80,"d":"80.00"},6444.8,272.8,0.064448,2.728E-3,56377.41922803409,0,0,0,null,0,0,100000,0,null,91575,0,0.004673764673764674,0.004673764673764674,91575,0]
[{"$nulls":25},{"v":85,"d":"85.00"},14768.6,213.5,0.147686,0.002135,38210.35965599238,0,0,0,null,0,0,100000,0,null,91147,0,0.005123591560885163,0.005123591560885163,91147,0]
[{"$nulls":35},0,0,100000,0,null,90680,0,5.6241729157476845E-3,5.6241729157476845E-3,90680,0]
[{"$nulls":35},0,0,100000,0,null,90170,0,6.177220805145836E-3,6.177220805145836E-3,90170,0]
[{"$nulls":33},{"$f":"SUM(AH88:AH106)/100000*1000000","v":0},null,0,0,100000,0,null,89613,0,0.006818207179761865,0.006818207179761865,89613,0]
[{"$nulls":35},0,0,100000,0,null,89002,0,0.007505449315745713,0.007505449315745713,89002,0]
[{"$nulls":25},"Lung cancer both genders",{"$nulls":9},0,0,100000,0,null,88334,0,0.0082754092421944,0.0082754092421944,88334,0]
[{"$nulls":26},"Total death/100,000","Lung cancer, per 100,000",{"$nulls":3},"P",{"$nulls":3},0,0,100000,0,null,87603,0,0.00910927707955207,0.00910927707955207,87603,0]
[{"$nulls":24},{"v":0,"d":"0.00"},{"$f":"Y113-$P$51","v":{"v":-18,"d":"-18.00"}},{"$f":"(AA61+AA88)/2","v":727.0999999999999},{"$f":"(AB61+AB88)/2","v":0},{"$f":"AA113/100000","v":0.007270999999999999},{"$f":"AB113/100000","v":0},{"$f":"100000","v":100000},{"$f":"IF(Z113<10,0,IF(AND(OR(Z113>10,Z113=10),Z113<10+$I$63),$I$60*$I$62*(Z113-10),$I$60*$I$62*Z113))","v":0},{"$f":"AD113*AF113","v":0},{"$f":"AE113*AG113","v":0},null,0,0,100000,0,null,86805,0,0.009953343701399688,0.009953343701399688,86805,0]
[{"$nulls":24},{"v":1,"d":"1.00"},{"$f":"Y114-$P$51","v":{"v":-17,"d":"-17.00"}},{"$f":"(AA62+AA89)/2","v":32.8},0,{"$f":"AA114/100000","v":3.2799999999999995E-4},0,{"$f":"AE113-AC113*AE113*2","v":98545.8},{"$f":"IF(Z114<10,0,IF(AND(OR(Z114>10,Z114=10),Z114<10+$I$63),$I$60*$I$62*(Z114-10),$I$60*$I$62*Z114))","v":0},{"$f":"AD114*AF114","v":0},0,null,0,0,100000,0,null,85941,0,0.010809741566888912,0.010809741566888912,85941,0]
[{"$nulls":24},{"v":5,"d":"5.00"},{"v":-13,"d":"-13.00"},16.4,0,1.6399999999999997E-4,0,{"$f":"AE114-AC114*AE114*5","v":98384.184888},0,0,0,null,0,0,100000,0,null,85012,0,0.011715993036277232,0.011715993036277232,85012,0]
[{"$nulls":24},{"v":10,"d":"10.00"},{"v":-8,"d":"-8.00"},20.8,0,2.0800000000000001E-4,0,{"$f":"AE115-AC115*AE115*5","v":98303.50985639184},0,0,0,null,0,0,100000,0,null,84016,0,0.012640449438202247,0.012640449438202247,84016,0]
[{"$nulls":24},{"v":15,"d":"15.00"},{"v":-3,"d":"-3.00"},67.45,0,6.7450000000000008E-4,0,98201.2742061412,0,0,0,null,0,0,100000,0,null,82954,0,0.013658171998939171,0.013658171998939171,82954,0]
[{"$nulls":24},{"v":20,"d":"20.00"},{"v":2,"d":"2.00"},95.1,0,9.5099999999999991E-4,0,97870.09040888099,0,0,0,null,0,0,100000,0,null,81821,0,0.014910597523863067,0.014910597523863067,81821,0]
[{"$nulls":24},{"v":25,"d":"25.00"},{"v":7,"d":"7.00"},99.2,0.15,0.000992,1.5E-6,97404.71812898676,0,{"$f":"AD119*AF119*5","v":0},0,null,0,0,100000,0,null,80601,0,0.016463815585414574,0.016463815585414574,80601,0]
[{"$nulls":24},{"v":30,"d":"30.00"},{"v":12,"d":"12.00"},116.65,0.8500000000000001,1.1665E-3,8.5000000000000016E-6,96921.59072706698,0,{"$f":"AD120*AF120*5","v":0},0,null,0,0,100000,0,null,79274,0,0.018265761788228172,0.018265761788228172,79274,0]
[{"$nulls":24},{"v":35,"d":"35.00"},{"v":17,"d":"17.00"},162.45,2.95,1.6244999999999999E-3,2.9500000000000002E-5,96356.29554915137,0,0,0,null,0,0,100000,0,null,77826,0,0.02025030195564464,0.02025030195564464,77826,0]
[{"$nulls":24},{"v":40,"d":"40.00"},{"v":22,"d":"22.00"},237.75,9.25,0.0023775,9.25e-05,95573.64153855339,0,0,0,null,0,0,100000,0,null,76250,0,0.022308196721311475,0.022308196721311475,76250,0]
[{"$nulls":24},{"v":45,"d":"45.00"},{"v":27,"d":"27.00"},357.85,21.3,0.0035785,2.13E-4,94437.50987476384,0,0,0,null,0,0,100000,0,null,74549,0,0.024292747052274345,0.024292747052274345,74549,0]
[{"$nulls":24},{"v":50,"d":"50.00"},{"v":32,"d":"32.00"},522.3,44.85,0.005222999999999999,0.0004485,92747.78672932963,0,0,0,null,0,0,100000,0,null,72738,0,0.026107399158624103,0.026107399158624103,72738,0]
[{"$nulls":24},{"v":55,"d":"55.00"},{"v":37,"d":"37.00"},809.65,94.45,0.0080965,0.0009445,90325.67827889319,0,0,0,null,0,0,100000,0,null,70839,0,0.027837772978161746,0.027837772978161746,70839,0]
[{"$nulls":24},{"v":60,"d":"60.00"},{"v":42,"d":"42.00"},1273.75,164.25,0.0127375,0.0016425,86669.06900796789,0,0,0,null,{"$f":"IF(K126<10,0, IF(AND(OR(K126>10, K126=10),K126<10+$I$63),$I$61*$I$62*((K126-10)^3), $I$61*$I$62*((K126-10)^3-(K126-10-$I$63)^3)))","v":0},{"$f":"R126+AJ126","v":0},100000,{"$f":"AL126*AJ126","v":0},null,68867,{"$f":"IF($K126<10,0, IF(AND(OR($K126>10, $K126=10),$K126<10+$I$63),$I$61*$I$62*(($K126-10)^3), $I$61*$I$62*(($K126-10)^3-($K126-10-$I$63)^3)))","v":0},{"$f":"(AO126-AO127)/AO126","v":0.02957875324901622},{"$f":"AQ126+AP126","v":0.02957875324901622},68867,{"$f":"AS126*AP126","v":0}]
[{"$nulls":24},{"v":65,"d":"65.00"},{"v":47,"d":"47.00"},1963.4,254.55,0.019634000000000002,2.5455E-3,81149.33267552294,0,0,0,null,0,0,{"$f":"AL126-AL126*AK126","v":100000},0,null,66830,0,0.03154272033517881,0.03154272033517881,{"$f":"AS126-AS126*AR126","v":66830},0]
[{"$nulls":24},{"v":70,"d":"70.00"},{"v":52,"d":"52.00"},3043.6000000000004,341.35,0.030436000000000005,3.4135000000000003E-3,73182.90268676684,0,0,0,null,0,0,100000,0,null,64722,0,0.0338679274435277,0.0338679274435277,64722,0]
[{"$nulls":24},{"v":75,"d":"75.00"},{"v":57,"d":"57.00"},4701.9,387.95000000000005,0.047019,3.8795000000000006E-3,62045.928555894665,0,0,0,null,0,0,100000,0,null,62530,0,0.036750359827282905,0.036750359827282905,62530,0]
[{"$nulls":24},{"v":80,"d":"80.00"},{"v":62,"d":"62.00"},7700.85,411.20000000000005,0.07700850000000001,0.004112,47459.24098204661,0,0,0,null,0,0,100000,0,null,60232,0,0.04012817107185549,0.04012817107185549,60232,0]
[{"$nulls":24},{"v":85,"d":"85.00"},{"v":67,"d":"67.00"},15687,356.25,0.15687,0.0035625,29185.416186216928,0,0,0,null,0,0,100000,0,null,57815,0,0.04377756637550809,0.04377756637550809,57815,0]
[{"$nulls":35},0,0,100000,0,null,55284,0,0.04760871138123146,0.04760871138123146,55284,0]
[{"$nulls":35},0,0,100000,0,null,52652,0,0.05183088961482945,0.05183088961482945,52652,0]
[{"$nulls":33},{"$f":"SUM(AH113:AH131)/100000*1000000","v":0},null,0,0,100000,0,null,49923,0,0.0564869899645454,0.0564869899645454,49923,0]
[{"$nulls":35},0,0,100000,0,null,47103,0,0.061567203787444534,0.061567203787444534,47103,0]
[{"$nulls":35},0,0,100000,0,null,44203,0,0.06703164943555867,0.06703164943555867,44203,0]
[{"$nulls":35},0,0,100000,0,null,41240,0,0.07286614936954414,0.07286614936954414,41240,0]
[{"$nulls":35},0,0,100000,0,null,38235,0,0.0790113770105924,0.0790113770105924,38235,0]
[{"$nulls":35},0,0,100000,0,null,35214,0,0.08539217356733117,0.08539217356733117,35214,0]
[{"$nulls":35},0,0,100000,0,null,32207,0,0.0919365355357531,0.0919365355357531,32207,0]
[{"$nulls":35},0,0,100000,0,null,29246,0,0.09850919783902072,0.09850919783902072,29246,0]
[{"$nulls":35},0,0,100000,0,null,26365,0,0.10487388583349137,0.10487388583349137,26365,0]
[{"$nulls":35},0,0,100000,0,null,23600,0,0.11059322033898306,0.11059322033898306,23600,0]
[{"$nulls":35},0,0,100000,0,null,20990,0,0.11495950452596475,0.11495950452596475,20990,0]
[{"$nulls":35},0,0,100000,0,null,18577,0,0.11702643053237875,0.11702643053237875,18577,0]
[{"$nulls":35},0,0,100000,0,null,16403,0,1,1,16403,0]
[{"$nulls":35},0,0,100000,0]
[{"$nulls":35},0,0,100000,0]
[{"$nulls":35},0,0,100000,0]
[{"$nulls":35},0,0,100000,0]
[{"$nulls":35},0,0,100000,0]
[{"$nulls":35},0,0,100000,0]
[{"$nulls":35},0,0,100000,0]
[{"$nulls":35},0,0,100000,0]
[{"$nulls":35},0,0,100000,0]
[{"$nulls":35},0,0,100000,0]
[{"$nulls":35},0,0,100000,0]
[{"$nulls":35},0,0,100000,0]
[{"$nulls":35},0,0,100000,0]
[{"$nulls":35},0,0,100000,0]
[{"$nulls":35},0,0,100000,0]
[{"$nulls":35},0,0,100000,0]
[{"$nulls":35},0,0,100000,0]
[{"$nulls":35},0,0,100000,0]
[{"$nulls":35},0,0,100000,0]
[{"$nulls":35},0,0,100000,0]
[{"$nulls":35},0,0,100000,0]
[{"$nulls":35},0,0,100000,0]
[{"$nulls":35},0,0,100000,0]
[{"$nulls":35},0,0,100000,0]
[{"$nulls":35},0,0,100000,0]
[{"$nulls":35},0,0,100000,0]
[{"$nulls":35},0,0,100000,0]
[{"$nulls":35},0,0,100000,0]
[{"$nulls":35},0,0,100000,0]
[{"$nulls":35},0,0,100000,0]
[{"$nulls":35},0,0,100000,0]
[{"$nulls":35},0,0,100000,0]
[{"$nulls":35},0,0,100000,0]
[{"$nulls":35},0,0,100000,0]
[]
[{"$nulls":38},"Both genders mesothelioma",{"$nulls":6},"Male mesethelioma 1977"]
[{"$nulls":38},{"$f":"SUM(AM61:AM180)/100000*1000000","v":0},{"$nulls":6},{"$f":"SUM(AT61:AT180)/100000*1000000","v":0}]
[]
[]
[]
["Hodgson and Darnton, 2000 ","Occupational Equivalent, Total Exposure, F/CC Years",null,"Lung Cancer Lifetime Excess Risk, per 1,000000","Age at Onset Correction Factor","Pleural Mesothelioma Lifetime Excess Risk, per 1,000,000","Peritoneal Mesothelioma Lifetime Excess Risk, per 1,000,000","Total Excess Risk, per 1,000,000","LUNG CANCER RELATIVE RISK"]
["Tremolite",{"$f":"O54","v":{"v":3.0000000000000004,"d":"3.00E+00"}},null,{"$f":"1.6*(B188^1.3)*54/1000*1000000/100","v":{"v":3603.888729458837,"d":"3.60E+03"}},{"$f":"10^(1.0787-0.0368*P51)","v":{"v":2.6079544390266034,"d":"2.61"}},{"$f":"0.13*(B188^0.75)*1000000/100*E188*0.7","v":{"v":5409.813998659689,"d":"5409.8139987"}},{"$f":"0.0006*(B188^2.1)*100000/100*10*E188*0.7","v":{"v":110.02817899919857,"d":"1.10E+02"}},{"$f":"D188+F188+G188","v":{"v":9123.730907117724,"d":"9123.7309071"}},{"$f":"(1.6*(B188^1.3))/100+1","v":{"v":1.0667386801751637,"d":"1.06674"}},{"$f":"F188+G188","v":{"v":5519.8421776588875,"d":"5519.84"}}]
["Chrysotile",{"$f":"O53","v":{"v":1.7699999999999998,"d":"1.77E+00"}},null,{"$f":"0.028*(B189^1.3)*54/1000*1000000/100*IF(B18<5,1.4,1)","v":{"v":31.76267255554044,"d":"3.18E+01"}},{"$f":"10^(1.0787-0.0368*P51)","v":{"v":2.6079544390266034,"d":"2.61"}},{"$f":"0.0047*(B189^0.75)*1000000/100*E189*0.7*IF(B18<5,1.4,1)","v":{"v":131.66666873265342,"d":"131.6666687"}},{"$f":"0*(B189^2.1)*100000/100*10*E189*0.7","v":{"v":0,"d":"0.00E+00"}},{"$f":"D189+F189+G189","v":{"v":163.42934128819385,"d":"163.4293413"}},{"$f":"(0.028*(B189^1.3))/100+1","v":{"v":1.0005881976399174,"d":"1.00059"}},{"$f":"F189+G189","v":{"v":131.66666873265342,"d":"131.67"}}]
["Crocidolite",{"$f":"O56","v":{"v":0.039,"d":"3.90E-02"}},null,{"$f":"1.6*(B190^1.3)*54/1000*1000000/100","v":{"v":12.732032296999435,"d":"1.27E+01"}},{"$f":"10^(1.0787-0.0368*P51)","v":{"v":2.6079544390266034,"d":"2.61"}},{"$f":"0.94*(B190^0.75)*1000000/100*E190*0.7","v":{"v":1505.9978396951165,"d":"1505.9978397"}},{"$f":"0.0022*(B190^2.1)*100000/100*10*E190*0.7","v":{"v":0.044162779149379425,"d":"4.42E-02"}},{"$f":"D190+F190+G190","v":{"v":1518.7740347712654,"d":"1518.7740348"}},{"$f":"(1.6*(B190^1.3))/100+1","v":{"v":1.0002357783758704,"d":"1.00024"}}]
["Amosite",{"$f":"O58","v":{"v":0.081,"d":"8.10E-02"}},null,{"$f":"1.6*(B191^1.3)*54/1000*1000000/100","v":{"v":32.92640130373073,"d":"3.29E+01"}},{"$f":"10^(1.0787-0.0368*P51)","v":{"v":2.6079544390266034,"d":"2.61"}},{"$f":"0.13*(B191^0.75)*1000000/100*E191*0.7","v":{"v":360.33392843187187,"d":"360.3339284"}},{"$f":"0.0006*(B191^2.1)*100000/100*10*E191*0.7","v":{"v":0.055894339700179985,"d":"5.59E-02"}},{"$f":"D191+F191+G191","v":{"v":393.3162240753027,"d":"393.3162241"}},{"$f":"(1.6*(B191^1.3))/100+1","v":{"v":1.0006097481722913,"d":"1.00061"}}]
["Moolgavkar, 2010 for Libby, Montana, Lifetable Method",{"$nulls":10},"Male",null,null,"Female ",null,null,"Total"]
[{"$nulls":7},"Kl",{"$f":"0.11*10^(-2)","v":0.0011},null,null,"Probability of death ",null,"LE","Probability of death","Sx (surviving till age x)","LE","Probability of death",null,null,"Mesothelioma male",{"$nulls":4},"Lung cancer male",{"$nulls":5},"P",{"$nulls":3},"Mesothelioma both genders",{"$nulls":4},"mesothelioma male 1977 ",null,"Death rate"]
[{"$nulls":7},"Km",{"$f":"0.5*10^(-8)","v":5e-09},0,{"$f":"J194-$P$51","v":-18},0.007379,{"v":100000,"d":"100,000"},75.38,0.006096,{"v":100000,"d":"100,000"},80.43,{"$f":"(L194+O194)/2","v":0.0067375},100000,null,{"$f":"IF($K194<10,0, IF(AND(OR($K194>10, $K194=10),$K194<10+$I$63),$I$61*$I$62*(($K194-10)^3), $I$61*$I$62*(($K194-10)^3-($K194-10-$I$63)^3)))","v":0},{"$f":"L194+U194","v":0.007379},{"$f":"100000","v":100000},{"$f":"W194*U194","v":0},null,{"v":0,"d":"0.00"},799.9,0,{"$f":"AA194/100000","v":0.007999},{"$f":"AB194/100000","v":0},{"$f":"100000","v":100000},{"$f":"IF(Z194<10,0,IF(AND(OR(Z194>10,Z194=10),Z194<10+$I$63),$I$60*$I$62*(Z194-10),$I$60*$I$62*Z194))","v":0},{"$f":"AD194*AF194","v":0},{"$f":"AE194*AG194","v":0},null,{"$f":"IF(K194<10,0, IF(AND(OR(K194>10, K194=10),K194<10+$I$196),$I$194*$I$195*((K194-10)^3), $I$194*$I$195*((K194-10)^3-(K194-10-$I$196)^3)))","v":0},{"$f":"R194+AJ194","v":0.0067375},{"$f":"100000","v":100000},{"$f":"AL194*AJ194","v":0},null,100000,{"$f":"IF($K194<10,0, IF(AND(OR($K194>10, $K194=10),$K194<10+$I$63),$I$61*$I$62*(($K194-10)^3), $I$61*$I$62*(($K194-10)^3-($K194-10-$I$63)^3)))","v":0},{"$f":"(AO194-AO195)/AO194","v":0.01586},{"$f":"AQ194+AP194","v":0.01586},{"$f":"100000","v":100000},{"$f":"AS194*AP194","v":0}]
[{"$nulls":7},"f",{"$f":"N51*2.8","v":{"$error":"#REF!"}},1,{"$f":"J195-$P$51","v":-17},0.000494,{"v":99262,"d":"99,262"},74.94,0.000434,{"v":99390,"d":"99,390"},79.92,{"$f":"(L195+O195)/2","v":4.64E-4},{"$f":"S194-R194*S194","v":99326.25},null,{"$f":"IF($K195<10,0, IF(AND(OR($K195>10, $K195=10),$K195<10+$I$63),$I$61*$I$62*(($K195-10)^3), $I$61*$I$62*(($K195-10)^3-($K195-10-$I$63)^3)))","v":0},{"$f":"L195+U195","v":0.000494},{"$f":"W194-W194*V194","v":99262.1},{"$f":"W195*U195","v":0},null,{"v":1,"d":"1.00"},36.5,0,{"$f":"AA195/100000","v":0.000365},0,{"$f":"AE194-AC194*AE194*2","v":98400.2},{"$f":"IF(Z195<10,0,IF(AND(OR(Z195>10,Z195=10),Z195<10+$I$63),$I$60*$I$62*(Z195-10),$I$60*$I$62*Z195))","v":0},{"$f":"AD195*AF195","v":0},0,null,{"$f":"IF(K195<10,0, IF(AND(OR(K195>10, K195=10),K195<10+$I$196),$I$194*$I$195*((K195-10)^3), $I$194*$I$195*((K195-10)^3-(K195-10-$I$196)^3)))","v":0},{"$f":"R195+AJ195","v":4.64E-4},{"$f":"AL194-AL194*AK194","v":99326.25},{"$f":"AL195*AJ195","v":0},null,98414,{"$f":"IF($K195<10,0, IF(AND(OR($K195>10, $K195=10),$K195<10+$I$63),$I$61*$I$62*(($K195-10)^3), $I$61*$I$62*(($K195-10)^3-($K195-10-$I$63)^3)))","v":0},{"$f":"(AO195-AO196)/AO195","v":1.0364379051760928E-3},{"$f":"AQ195+AP195","v":1.0364379051760928E-3},{"$f":"AS194-AS194*AR194","v":98414},{"$f":"AS195*AP195","v":0}]
[{"$nulls":7},"d",{"$f":"I51","v":30},2,-16,0.000317,{"v":99213,"d":"99,213"},73.98,0.000256,{"v":99347,"d":"99,347"},78.95,2.8649999999999997E-4,{"$f":"S195-R195*S195","v":99280.16262},null,0,0.000317,{"$f":"W195-W195*V195","v":99213.0645226},0,null,{"v":5,"d":"5.00"},18.3,0,1.83E-4,0,{"$f":"AE195-AC195*AE195*5","v":98220.619635},0,0,0,null,0,2.8649999999999997E-4,{"$f":"AL195-AL195*AK195","v":99280.16262},0,null,98312,0,8.0356416307266658E-4,8.0356416307266658E-4,{"$f":"AS195-AS195*AR195","v":98312},0]
[{"$nulls":9},3,-15,2.41E-4,{"v":99182,"d":"99,182"},73,1.92E-4,{"v":99322,"d":"99,322"},77.97,2.165E-4,99251.71885340937,null,0,2.41E-4,99181.61398114634,0,null,{"v":10,"d":"10.00"},25,0,0.00025,0,{"$f":"AE196-AC196*AE196*5","v":98130.74776803397},0,0,0,null,0,2.165E-4,99251.71885340937,0,null,98233,0,6.4133234249183068E-4,6.4133234249183068E-4,98233,0]
[{"$nulls":9},4,-14,0.0002,{"v":99158,"d":"99,158"},72.02,0.000148,{"v":99303,"d":"99,303"},76.99,1.74E-4,99230.23085627762,null,0,0.0002,99157.71121217687,0,null,{"v":15,"d":"15.00"},94.9,0,9.4900000000000008E-4,0,98008.08433332392,0,0,0,null,0,1.74E-4,99230.23085627762,0,null,98170,0,0.000539879800346338,0.000539879800346338,98170,0]
[{"$nulls":9},5,-13,0.000179,{"v":99138,"d":"99,138"},71.03,1.36E-4,{"v":99288,"d":"99,288"},76,1.5749999999999998E-4,99212.96479610863,null,0,0.000179,99137.87966993444,0,null,{"v":20,"d":"20.00"},142,0,1.42E-3,0,97543.03597316229,0,0,0,null,0,1.5749999999999998E-4,99212.96479610863,0,null,98117,0,4.8921185931082283E-4,4.8921185931082283E-4,98117,0]
[{"$nulls":9},6,-12,1.66E-4,{"v":99120,"d":"99,120"},70.04,0.000128,{"v":99275,"d":"99,275"},75.01,1.47E-4,99197.33875415324,null,0,1.66E-4,99120.13398947351,0,null,{"v":25,"d":"25.00"},141.9,0.3,1.4190000000000001E-3,3e-06,96850.48041775284,0,{"$f":"AD200*AF200*5","v":0},0,null,0,1.47E-4,99197.33875415324,0,null,98069,0,4.4866369596916459E-4,4.4866369596916459E-4,98069,0]
[{"$nulls":9},7,-11,0.000152,{"v":99104,"d":"99,104"},69.05,1.22E-4,{"v":99262,"d":"99,262"},74.02,1.37E-4,99182.75674535638,null,0,0.000152,99103.68004723126,0,null,{"v":30,"d":"30.00"},157.3,0.8,1.5730000000000002E-3,8e-06,96163.32625918889,0,0,0,null,0,1.37E-4,99182.75674535638,0,null,98025,0,4.1826064779393009E-4,4.1826064779393009E-4,98025,0]
[{"$nulls":7},"Libby Amphibole",{"$f":"AH267+AM316","v":{"$error":"#REF!"}},8,-10,0.000133,{"v":99089,"d":"99,089"},68.06,1.15E-4,{"v":99250,"d":"99,250"},73.03,0.000124,99169.16870768227,null,0,0.000133,99088.61628786408,0,null,{"v":35,"d":"35.00"},209.8,3.3,2.098E-3,3.2999999999999996E-5,95407.00169816037,0,0,0,null,0,0.000124,99169.16870768227,0,null,97984,0,3.6740692357935988E-4,3.6740692357935988E-4,97984,0]
[{"$nulls":9},9,-9,1.08E-4,{"v":99075,"d":"99,075"},67.07,1.06E-4,{"v":99238,"d":"99,238"},72.04,1.07E-4,99156.87173076252,null,0,1.08E-4,99075.43750189779,0,null,{"v":40,"d":"40.00"},303.3,10.4,0.003033,1.0400000000000001E-4,94406.18225034667,0,0,0,null,0,1.07E-4,99156.87173076252,0,null,97948,0,3.1649446645158657E-4,3.1649446645158657E-4,97948,0]
[{"$nulls":9},10,-8,8.9e-05,{"v":99065,"d":"99,065"},66.08,1E-4,{"v":99228,"d":"99,228"},71.04,9.4499999999999993E-5,99146.26194548733,null,0,8.9e-05,99064.73735464759,0,null,{"v":45,"d":"45.00"},461.7,26,0.004617,0.00026,92974.51249652015,0,0,0,null,0,9.4499999999999993E-5,99146.26194548733,0,null,97917,0,2.757437421489629E-4,2.757437421489629E-4,97917,0]
[{"$nulls":9},11,-7,9.4e-05,{"v":99056,"d":"99,056"},65.09,1.02E-4,{"v":99218,"d":"99,218"},70.05,9.8e-05,99136.89262373348,null,0,9.4e-05,99055.92059302302,0,null,{"v":50,"d":"50.00"},658.3,54.6,6.5829999999999994E-3,0.000546,90828.19587553799,0,0,0,null,0,9.8e-05,99136.89262373348,0,null,97890,0,2.7581979773214831E-4,2.7581979773214831E-4,97890,0]
[{"$nulls":9},12,-6,1.45E-4,{"v":99047,"d":"99,047"},64.09,1.2E-4,{"v":99208,"d":"99,208"},69.06,1.325E-4,99127.17720825635,null,0,1.45E-4,99046.60933648728,0,null,{"v":55,"d":"55.00"},1007.5,118,0.010075,0.00118,87838.58580829465,0,0,0,null,0,1.325E-4,99127.17720825635,0,null,97863,0,0.000357642827217641,0.000357642827217641,97863,0]
[{"$nulls":9},13,-5,2.52E-4,{"v":99032,"d":"99,032"},63.1,0.000157,{"v":99196,"d":"99,196"},68.07,2.0449999999999998E-4,99114.04285727626,null,0,2.52E-4,99032.2475781335,0,null,{"v":60,"d":"60.00"},1565.5,206.2,0.015655,2.062E-3,83413.71704820181,0,0,0,null,0,2.0449999999999998E-4,99114.04285727626,0,null,97828,0,5.3154516089463141E-4,5.3154516089463141E-4,97828,0]
[{"$nulls":9},14,-4,0.000401,{"v":99007,"d":"99,007"},62.12,0.000209,{"v":99180,"d":"99,180"},67.08,0.000305,99093.77403551195,null,0,0.000401,99007.2914517438,0,null,{"v":65,"d":"65.00"},2399.3,327.5,0.023993,0.003275,76884.50834625382,0,0,0,null,0,0.000305,99093.77403551195,0,null,97776,0,7.7728685976108651E-4,7.7728685976108651E-4,97776,0]
[{"$nulls":9},15,-3,0.000563,{"v":98968,"d":"98,968"},61.14,0.000267,{"v":99160,"d":"99,160"},66.09,4.15E-4,99063.55043443112,null,0,0.000563,98967.58952787165,0,null,{"v":70,"d":"70.00"},3705.4,444,0.037054000000000004,0.00444,67661.05830249548,0,0,0,null,0,4.15E-4,99063.55043443112,0,null,97700,0,1.0440122824974412E-3,1.0440122824974412E-3,97700,0]
[{"$nulls":9},16,-2,0.000719,{"v":98912,"d":"98,912"},60.18,0.000323,{"v":99133,"d":"99,133"},65.11,0.000521,99022.43906100083,null,0,0.000719,98911.87077496745,0,null,{"v":75,"d":"75.00"},5591.2,507.3,0.055911999999999996,0.005073,55125.49403079214,0,0,0,null,0,0.000521,99022.43906100083,0,null,97598,0,1.3012561732822395E-3,1.3012561732822395E-3,97598,0]
[{"$nulls":9},17,-1,0.000873,{"v":98841,"d":"98,841"},59.22,0.000369,{"v":99101,"d":"99,101"},64.13,0.000621,98970.84837025005,null,0,0.000873,98840.75313988025,0,null,{"v":80,"d":"80.00"},8956.9,549.6,0.089569,5.496E-3,39714.61091954389,0,0,{"$f":"AE211*AG211","v":0},null,0,0.000621,98970.84837025005,0,null,97471,0,1.5184003447179161E-3,1.5184003447179161E-3,97471,0]
[{"$nulls":9},18,0,0.001017,{"v":98754,"d":"98,754"},58.27,0.000401,{"v":99064,"d":"99,064"},63.15,0.000709,98909.38747341212,null,0,0.001017,98754.46516238914,0,null,{"v":85,"d":"85.00"},16605.4,499,0.166054,0.00499,21928.620992280757,0,0,0,null,0,0.000709,98909.38747341212,0,null,97323,0,1.6851104055567543E-3,1.6851104055567543E-3,97323,0]
[{"$nulls":9},19,1,0.001148,{"v":98654,"d":"98,654"},57.33,0.000422,{"v":99025,"d":"99,025"},62.18,7.85E-4,98839.26071769347,null,0,0.001148,98654.03187131899,0,{"$nulls":11},0,7.85E-4,98839.26071769347,0,null,97159,0,1.7908788686585905E-3,1.7908788686585905E-3,97159,0]
[{"$nulls":9},20,2,0.001285,{"v":98541,"d":"98,541"},56.4,0.000441,{"v":98983,"d":"98,983"},61.2,8.6299999999999994E-4,98761.67189803008,null,0,0.001285,98540.77704273071,0,{"$nulls":11},0,8.6299999999999994E-4,98761.67189803008,0,null,96985,0,1.8972005980306232E-3,1.8972005980306232E-3,96985,0]
[{"$nulls":9},21,3,0.001412,{"v":98414,"d":"98,414"},55.47,0.000463,{"v":98939,"d":"98,939"},60.23,0.0009375,98676.44057518207,null,0,0.001412,98414.1521442308,0,{"$nulls":9},{"$f":"SUM(AH194:AH212)/100000*1000000","v":0},null,0,0.0009375,98676.44057518207,0,null,96801,0,2.0041115277734736E-3,2.0041115277734736E-3,96801,0]
[{"$nulls":9},22,4,1.493E-3,{"v":98275,"d":"98,275"},54.54,0.000483,{"v":98894,"d":"98,894"},59.26,0.000988,98583.93141214285,null,0,1.493E-3,98275.19136140315,0,{"$nulls":11},0,0.000988,98583.93141214285,0,null,96607,0,0.002070243357106628,0.002070243357106628,96607,0]
[{"$nulls":9},23,5,1.513E-3,{"v":98128,"d":"98,128"},53.63,0.000499,{"v":98846,"d":"98,846"},58.29,0.001006,98486.53048790764,null,0,1.513E-3,98128.46650070058,0,{"$nulls":11},0,0.001006,98486.53048790764,0,null,96407,0,0.002074538155943033,0.002074538155943033,96407,0]
[{"$nulls":9},24,6,1.487E-3,{"v":97980,"d":"97,980"},52.71,5.13E-4,{"v":98796,"d":"98,796"},57.32,1E-3,98387.45303823681,null,0,1.487E-3,97979.99813088503,0,{"$nulls":11},0,1E-3,98387.45303823681,0,null,96207,0,2.0476680491024564E-3,2.0476680491024564E-3,96207,0]
[{"$nulls":9},25,7,1.446E-3,{"v":97834,"d":"97,834"},51.78,0.000528,{"v":98746,"d":"98,746"},56.35,0.000987,98289.06558519858,null,0,1.446E-3,97834.3018736644,0,null,"Lung cancer female",{"$nulls":9},0,0.000987,98289.06558519858,0,null,96010,0,2.0102072700760336E-3,2.0102072700760336E-3,96010,0]
[{"$nulls":9},26,8,0.001412,{"v":97693,"d":"97,693"},50.86,5.44E-4,{"v":98694,"d":"98,694"},55.38,9.7800000000000014E-4,98192.05427746598,null,0,0.001412,97692.83347315509,0,{"$nulls":7},"P",{"$nulls":3},0,9.7800000000000014E-4,98192.05427746598,0,null,95817,0,1.9725100973731176E-3,1.9725100973731176E-3,95817,0]
[{"$nulls":9},27,9,1.389E-3,{"v":97555,"d":"97,555"},49.93,0.000563,{"v":98640,"d":"98,640"},54.4,9.7600000000000009E-4,98096.02244838262,null,0,1.389E-3,97554.89119229099,0,null,{"v":0,"d":"0.00"},654.3,0,{"$f":"AA221/100000","v":0.006542999999999999},{"$f":"AB221/100000","v":0},{"$f":"100000","v":100000},{"$f":"IF(Z221<10,0,IF(AND(OR(Z221>10,Z221=10),Z221<10+$I$63),$I$60*$I$62*(Z221-10),$I$60*$I$62*Z221))","v":0},{"$f":"AD221*AF221","v":0},{"$f":"AE221*AG221","v":0},null,0,9.7600000000000009E-4,98096.02244838262,0,null,95628,0,1.9241226419040448E-3,1.9241226419040448E-3,95628,0]
[{"$nulls":9},28,10,0.001388,{"v":97419,"d":"97,419"},49,0.000585,{"v":98584,"d":"98,584"},53.44,0.0009865,98000.280730473,null,0,0.001388,97419.3874484249,0,null,{"v":1,"d":"1.00"},29.1,0,{"$f":"AA222/100000","v":0.000291},0,{"$f":"AE221-AC221*AE221*2","v":98691.4},{"$f":"IF(Z222<10,0,IF(AND(OR(Z222>10,Z222=10),Z222<10+$I$63),$I$60*$I$62*(Z222-10),$I$60*$I$62*Z222))","v":0},{"$f":"AD222*AF222","v":0},0,null,{"$error":"#REF!"},{"$error":"#REF!"},98000.280730473,{"$error":"#REF!"},null,95444,0,1.8963999832362433E-3,1.8963999832362433E-3,95444,0]
[{"$nulls":9},29,11,1.405E-3,{"v":97284,"d":"97,284"},48.07,0.000612,{"v":98527,"d":"98,527"},52.47,0.0010085,97903.60345353239,null,0,1.405E-3,97284.16933864648,0,null,{"v":5,"d":"5.00"},14.5,0,1.45E-4,0,{"$f":"AE222-AC222*AE222*5","v":98547.804013},0,0,0,null,{"$error":"#REF!"},{"$error":"#REF!"},{"$error":"#REF!"},{"$error":"#REF!"},null,95263,0,1.8790086392408386E-3,1.8790086392408386E-3,95263,0]
[{"$nulls":9},30,12,1.428E-3,{"v":97147,"d":"97,147"},47.13,0.000642,{"v":98466,"d":"98,466"},51.5,0.001035,97804.8676694495,null,0,1.428E-3,97147.48508072567,0,null,{"v":10,"d":"10.00"},16.6,0,1.6600000000000002E-4,0,{"$f":"AE223-AC223*AE223*5","v":98476.35685509058},0,0,0,null,{"$error":"#REF!"},{"$error":"#REF!"},{"$error":"#REF!"},{"$error":"#REF!"},null,95084,0,1.8615119262967482E-3,1.8615119262967482E-3,95084,0]
[{"$nulls":9},31,13,0.001453,{"v":97009,"d":"97,009"},46.2,6.78E-4,{"v":98403,"d":"98,403"},50.53,1.0655E-3,97703.63963141161,null,0,0.001453,97008.7584720304,0,null,{"v":15,"d":"15.00"},40,0,0.0004,0,98394.62147890085,0,0,0,null,{"$error":"#REF!"},{"$error":"#REF!"},{"$error":"#REF!"},{"$error":"#REF!"},null,94907,0,1.8649836155394228E-3,1.8649836155394228E-3,94907,0]
[{"$nulls":9},32,14,1.487E-3,{"v":96868,"d":"96,868"},45.27,0.000721,{"v":98336,"d":"98,336"},49.56,0.001104,97599.53640338435,null,0,1.487E-3,96867.80474597054,0,null,{"v":20,"d":"20.00"},48.2,0,0.000482,0,98197.83223594305,0,0,0,null,{"$error":"#REF!"},{"$error":"#REF!"},{"$error":"#REF!"},{"$error":"#REF!"},null,94730,0,1.8895809141771351E-3,1.8895809141771351E-3,94730,0]
[{"$nulls":9},33,15,1.529E-3,{"v":96724,"d":"96,724"},44.33,0.000771,{"v":98266,"d":"98,266"},48.6,1.15E-3,97491.78651519501,null,0,1.529E-3,96723.76232031328,0,null,{"v":25,"d":"25.00"},56.5,0,0.000565,0,97961.17546025442,0,0,0,null,{"$error":"#REF!"},{"$error":"#REF!"},{"$error":"#REF!"},{"$error":"#REF!"},null,94551,0,1.9671923089126502E-3,1.9671923089126502E-3,94551,0]
[{"$nulls":9},34,16,0.001584,{"v":96576,"d":"96,576"},43.4,0.00083,{"v":98190,"d":"98,190"},47.64,1.207E-3,97379.67096070254,null,0,0.001584,96575.87168772552,0,null,{"v":30,"d":"30.00"},76,0.9,0.00076,9e-06,97684.4351395792,0,{"$f":"AD228*AF228*5","v":0},0,null,{"$error":"#REF!"},{"$error":"#REF!"},{"$error":"#REF!"},{"$error":"#REF!"},null,94365,0,2.087638425263604E-3,2.087638425263604E-3,94365,0]
[{"$nulls":9},35,17,0.001651,{"v":96423,"d":"96,423"},42.47,0.000896,{"v":98108,"d":"98,108"},46.68,0.0012735,97262.13369785297,null,0,0.001651,96422.89550697217,0,null,{"v":35,"d":"35.00"},115.1,2.6,0.001151,2.6000000000000002E-5,97313.2342860488,0,0,0,null,{"$error":"#REF!"},{"$error":"#REF!"},{"$error":"#REF!"},{"$error":"#REF!"},null,94168,0,2.2300569195480417E-3,2.2300569195480417E-3,94168,0]
[{"$nulls":9},36,18,1.737E-3,{"v":96264,"d":"96,264"},41.54,0.000971,{"v":98020,"d":"98,020"},45.72,1.354E-3,97138.27037058875,null,0,1.737E-3,96263.70130649015,0,null,{"v":40,"d":"40.00"},172.2,8.1,1.7219999999999998E-3,8.099999999999999E-5,96753.19662273259,0,0,0,null,{"$error":"#REF!"},{"$error":"#REF!"},{"$error":"#REF!"},{"$error":"#REF!"},null,93958,0,2.3840439345239363E-3,2.3840439345239363E-3,93958,0]
[{"$nulls":9},37,19,0.001845,{"v":96096,"d":"96,096"},40.61,0.001056,{"v":97925,"d":"97,925"},44.76,1.4505E-3,97006.74515250698,null,0,0.001845,96096.49125732078,0,null,{"v":45,"d":"45.00"},254,16.6,0.00254,1.6600000000000002E-4,95920.15159981087,0,0,0,null,{"$error":"#REF!"},{"$error":"#REF!"},{"$error":"#REF!"},{"$error":"#REF!"},null,93734,0,2.5711054686666525E-3,2.5711054686666525E-3,93734,0]
[{"$nulls":9},38,20,0.001979,{"v":95919,"d":"95,919"},39.68,0.001153,{"v":97822,"d":"97,822"},43.81,0.001566,96866.03686866327,null,0,0.001979,95919.19323095103,0,null,{"v":50,"d":"50.00"},386.3,35.1,0.003863,0.000351,94701.96567449327,0,0,0,null,{"$error":"#REF!"},{"$error":"#REF!"},{"$error":"#REF!"},{"$error":"#REF!"},null,93493,0,0.002770260875145733,0.002770260875145733,93493,0]
[{"$nulls":9},39,21,2.14E-3,{"v":95729,"d":"95,729"},38.76,0.00126,{"v":97709,"d":"97,709"},42.86,1.7000000000000001E-3,96714.34465492694,null,0,2.14E-3,95729.36914754698,0,null,{"v":55,"d":"55.00"},611.8,70.9,0.006117999999999999,7.090000000000001E-4,92872.79720749044,0,0,0,null,{"$error":"#REF!"},{"$error":"#REF!"},{"$error":"#REF!"},{"$error":"#REF!"},null,93234,0,2.992470557950962E-3,2.992470557950962E-3,93234,0]
[{"$nulls":9},40,22,2.323E-3,{"v":95525,"d":"95,525"},37.84,1.377E-3,{"v":97586,"d":"97,586"},41.91,0.00185,96549.93026901357,null,0,2.323E-3,95524.50829757123,0,null,{"v":60,"d":"60.00"},982,122.3,0.00982,0.001223,90031.8183409133,0,0,0,null,{"$error":"#REF!"},{"$error":"#REF!"},{"$error":"#REF!"},{"$error":"#REF!"},null,92955,0,3.2488838685385403E-3,3.2488838685385403E-3,92955,0]
[{"$nulls":9},41,23,2.526E-3,{"v":95303,"d":"95,303"},36.93,1.506E-3,{"v":97452,"d":"97,452"},40.97,2.016E-3,96371.3128980159,null,0,2.526E-3,95302.60486479597,0,null,{"v":65,"d":"65.00"},1527.5,181.6,0.015275,0.001816,85611.25606037446,0,0,0,null,{"$error":"#REF!"},{"$error":"#REF!"},{"$error":"#REF!"},{"$error":"#REF!"},null,92653,0,3.5508834036674475E-3,3.5508834036674475E-3,92653,0]
[{"$nulls":9},42,24,0.00275,{"v":95062,"d":"95,062"},36.02,1.65E-3,{"v":97305,"d":"97,305"},40.03,2.1999999999999997E-3,96177.0283312135,null,0,0.00275,95061.8704849075,0,null,{"v":70,"d":"70.00"},2381.8,238.7,0.023818000000000002,0.002387,79072.69637876336,0,0,0,null,{"$error":"#REF!"},{"$error":"#REF!"},{"$error":"#REF!"},{"$error":"#REF!"},null,92324,0,3.8776482821368226E-3,3.8776482821368226E-3,92324,0]
[{"$nulls":9},43,25,2.993E-3,{"v":94800,"d":"94,800"},35.12,1.81E-3,{"v":97144,"d":"97,144"},39.1,2.4015E-3,95965.43886888483,null,0,2.993E-3,94800.450341074,0,null,{"v":75,"d":"75.00"},3812.6,268.6,0.038126,2.686E-3,69655.92896701643,0,0,0,null,{"$error":"#REF!"},{"$error":"#REF!"},{"$error":"#REF!"},{"$error":"#REF!"},null,91966,0,0.004251571232846921,0.004251571232846921,91966,0]
[{"$nulls":9},44,26,0.003257,{"v":94517,"d":"94,517"},34.22,0.001985,{"v":96968,"d":"96,968"},38.17,0.002621,95734.9778674412,null,0,0.003257,94516.71259320316,0,null,{"v":80,"d":"80.00"},6444.8,272.8,0.064448,2.728E-3,56377.41922803409,0,0,{"$f":"AE238*AG238","v":0},null,{"$error":"#REF!"},{"$error":"#REF!"},{"$error":"#REF!"},{"$error":"#REF!"},null,91575,0,0.004673764673764674,0.004673764673764674,91575,0]
[{"$nulls":9},45,27,0.003543,{"v":94209,"d":"94,209"},33.33,0.002174,{"v":96776,"d":"96,776"},37.24,0.0028585,95484.05649045063,null,0,0.003543,94208.8716602871,0,null,{"v":85,"d":"85.00"},14768.6,213.5,0.147686,0.002135,38210.35965599238,0,0,0,null,{"$error":"#REF!"},{"$error":"#REF!"},{"$error":"#REF!"},{"$error":"#REF!"},null,91147,0,0.005123591560885163,0.005123591560885163,91147,0]
[{"$nulls":9},46,28,0.003856,{"v":93875,"d":"93,875"},32.45,0.002375,{"v":96566,"d":"96,566"},36.32,0.0031155,95211.11531497267,null,0,0.003856,93875.0896279947,0,{"$nulls":11},{"$error":"#REF!"},{"$error":"#REF!"},{"$error":"#REF!"},{"$error":"#REF!"},null,90680,0,5.6241729157476845E-3,5.6241729157476845E-3,90680,0]
[{"$nulls":9},47,29,0.004208,{"v":93513,"d":"93,513"},31.57,0.002582,{"v":96336,"d":"96,336"},35.41,3.395E-3,94914.48508520887,null,0,0.004208,93513.10728238916,0,{"$nulls":11},{"$error":"#REF!"},{"$error":"#REF!"},{"$error":"#REF!"},{"$error":"#REF!"},null,90170,0,6.177220805145836E-3,6.177220805145836E-3,90170,0]
[{"$nulls":9},48,30,0.004603,{"v":93120,"d":"93,120"},30.71,2.794E-3,{"v":96087,"d":"96,087"},34.5,3.6985000000000004E-3,94592.25040834458,null,0,0.004603,93119.60412694486,0,{"$nulls":9},{"$f":"SUM(AH221:AH239)/100000*1000000","v":0},null,{"$error":"#REF!"},{"$error":"#REF!"},{"$error":"#REF!"},{"$error":"#REF!"},null,89613,0,0.006818207179761865,0.006818207179761865,89613,0]
[{"$nulls":9},49,31,0.005037,{"v":92691,"d":"92,691"},29.84,0.003012,{"v":95819,"d":"95,819"},33.59,0.0040245,94242.40097020932,null,0,0.005037,92690.97458914854,0,{"$nulls":11},{"$error":"#REF!"},{"$error":"#REF!"},{"$error":"#REF!"},{"$error":"#REF!"},null,89002,0,0.007505449315745713,0.007505449315745713,89002,0]
[{"$nulls":9},50,32,0.005512,{"v":92224,"d":"92,224"},28.99,0.003255,{"v":95530,"d":"95,530"},32.69,0.0043835,93863.12242750471,null,0,0.005512,92224.09015014299,0,null,"Lung cancer both genders",{"$nulls":9},{"$error":"#REF!"},{"$error":"#REF!"},{"$error":"#REF!"},{"$error":"#REF!"},null,88334,0,0.0082754092421944,0.0082754092421944,88334,0]
[{"$nulls":9},51,33,0.006008,{"v":91716,"d":"91,716"},28.15,0.003517,{"v":95219,"d":"95,219"},31.8,0.0047625,93451.67343034374,null,0,0.006008,91715.7509652354,0,null,null,"Total death/100,000","Lung cancer, per 100,000",{"$nulls":3},"P",{"$nulls":3},{"$error":"#REF!"},{"$error":"#REF!"},{"$error":"#REF!"},{"$error":"#REF!"},null,87603,0,0.00910927707955207,0.00910927707955207,87603,0]
[{"$nulls":9},52,34,0.0065,{"v":91165,"d":"91,165"},27.32,0.003782,{"v":94885,"d":"94,885"},30.91,0.005141,93006.60983563172,null,0,0.0065,91164.72273343627,0,{"v":0,"d":"0.00"},{"$f":"Y246-$P$51","v":{"v":-18,"d":"-18.00"}},{"$f":"(AA194+AA221)/2","v":727.0999999999999},{"$f":"(AB194+AB221)/2","v":0},{"$f":"AA246/100000","v":0.007270999999999999},{"$f":"AB246/100000","v":0},{"$f":"100000","v":100000},{"$f":"IF(Z246<10,0,IF(AND(OR(Z246>10,Z246=10),Z246<10+$I$196),$I$193*$I$195*(Z246-10),$I$193*$I$195*Z246))","v":0},{"$f":"AD246*AF246","v":0},{"$f":"AE246*AG246","v":0},null,{"$error":"#REF!"},{"$error":"#REF!"},{"$error":"#REF!"},{"$error":"#REF!"},null,86805,0,0.009953343701399688,0.009953343701399688,86805,0]
[{"$nulls":9},53,35,0.006977,{"v":90572,"d":"90,572"},26.49,4.045E-3,{"v":94526,"d":"94,526"},30.02,0.005511,92528.46285446674,null,0,0.006977,90572.15203566893,0,{"v":1,"d":"1.00"},{"$f":"Y247-$P$51","v":{"v":-17,"d":"-17.00"}},{"$f":"(AA195+AA222)/2","v":32.8},0,{"$f":"AA247/100000","v":3.2799999999999995E-4},0,{"$f":"AE246-AC246*AE246*2","v":98545.8},{"$f":"IF(Z247<10,0,IF(AND(OR(Z247>10,Z247=10),Z247<10+$I$196),$I$193*$I$195*(Z247-10),$I$193*$I$195*Z247))","v":0},{"$f":"AD247*AF247","v":0},0,null,{"$error":"#REF!"},{"$error":"#REF!"},{"$error":"#REF!"},{"$error":"#REF!"},null,85941,0,0.010809741566888912,0.010809741566888912,85941,0]
[{"$nulls":9},54,36,7.456E-3,{"v":89940,"d":"89,940"},25.68,0.004318,{"v":94143,"d":"94,143"},29.14,0.005887,92018.53849567576,null,0,7.456E-3,89940.23013091607,0,{"v":5,"d":"5.00"},{"v":-13,"d":"-13.00"},16.4,0,1.6399999999999997E-4,0,{"$f":"AE247-AC247*AE247*5","v":98384.184888},0,0,0,null,{"$error":"#REF!"},{"$error":"#REF!"},{"$error":"#REF!"},{"$error":"#REF!"},null,85012,0,0.011715993036277232,0.011715993036277232,85012,0]
[{"$nulls":9},55,37,0.007975,{"v":89270,"d":"89,270"},24.87,0.004619,{"v":93737,"d":"93,737"},28.27,0.006297,91476.82535955172,null,0,0.007975,89269.63577505996,0,{"v":10,"d":"10.00"},{"v":-8,"d":"-8.00"},20.8,0,2.0800000000000001E-4,0,{"$f":"AE248-AC248*AE248*5","v":98303.50985639184},0,0,0,null,{"$error":"#REF!"},{"$error":"#REF!"},{"$error":"#REF!"},{"$error":"#REF!"},null,84016,0,0.012640449438202247,0.012640449438202247,84016,0]
[{"$nulls":9},56,38,0.008551,{"v":88558,"d":"88,558"},24.06,0.004965,{"v":93304,"d":"93,304"},27.4,0.006758,90900.79579026262,null,0,0.008551,88557.71042975385,0,{"v":15,"d":"15.00"},{"v":-3,"d":"-3.00"},67.45,0,6.7450000000000008E-4,0,98201.2742061412,0,0,0,null,{"$error":"#REF!"},{"$error":"#REF!"},{"$error":"#REF!"},{"$error":"#REF!"},null,82954,0,0.013658171998939171,0.013658171998939171,82954,0]
[{"$nulls":9},57,39,0.009174,{"v":87800,"d":"87,800"},23.26,0.005366,{"v":92841,"d":"92,841"},26.53,0.00727,90286.48821231203,null,0,0.009174,87800.45344786902,0,{"v":20,"d":"20.00"},{"v":2,"d":"2.00"},95.1,0,9.5099999999999991E-4,0,97870.09040888099,0,0,0,null,{"$error":"#REF!"},{"$error":"#REF!"},{"$error":"#REF!"},{"$error":"#REF!"},null,81821,0,0.014910597523863067,0.014910597523863067,81821,0]
[{"$nulls":9},58,40,0.009848,{"v":86995,"d":"86,995"},22.48,0.00583,{"v":92342,"d":"92,342"},25.67,0.007839,89630.10544300852,null,0,0.009848,86994.97208793827,0,{"v":25,"d":"25.00"},{"v":7,"d":"7.00"},99.2,0.15,0.000992,1.5E-6,97404.71812898676,0,{"$f":"AD252*AF252*5","v":0},0,null,{"$error":"#REF!"},{"$error":"#REF!"},{"$error":"#REF!"},{"$error":"#REF!"},null,80601,0,0.016463815585414574,0.016463815585414574,80601,0]
[{"$nulls":9},59,41,0.010584,{"v":86138,"d":"86,138"},21.69,0.006358,{"v":91804,"d":"91,804"},24.82,0.008471,88927.49504644077,null,0,0.010584,86138.24560281626,0,{"v":30,"d":"30.00"},{"v":12,"d":"12.00"},116.65,0.8500000000000001,1.1665E-3,8.5000000000000016E-6,96921.59072706698,{"$error":"#REF!"},{"$f":"AD253*AF253*5","v":{"$error":"#REF!"}},{"$error":"#REF!"},null,{"$error":"#REF!"},{"$error":"#REF!"},{"$error":"#REF!"},{"$error":"#REF!"},null,79274,0,0.018265761788228172,0.018265761788228172,79274,0]
[{"$nulls":9},60,42,0.011407,{"v":85227,"d":"85,227"},20.92,0.006961,{"v":91220,"d":"91,220"},23.97,0.009184000000000001,88174.19023590238,null,0,0.011407,85226.55841135605,0,{"v":35,"d":"35.00"},{"v":17,"d":"17.00"},162.45,2.95,1.6244999999999999E-3,2.9500000000000002E-5,96356.29554915137,{"$error":"#REF!"},{"$error":"#REF!"},{"$error":"#REF!"},null,{"$error":"#REF!"},{"$error":"#REF!"},{"$error":"#REF!"},{"$error":"#REF!"},null,77826,0,0.02025030195564464,0.02025030195564464,77826,0]
[{"$nulls":9},61,43,0.012315,{"v":84254,"d":"84,254"},20.16,0.007624,{"v":90585,"d":"90,585"},23.14,0.0099695,87364.39847277585,null,0,0.012315,84254.37905955772,0,{"v":40,"d":"40.00"},{"v":22,"d":"22.00"},237.75,9.25,0.0023775,9.25e-05,95573.64153855339,{"$error":"#REF!"},{"$error":"#REF!"},{"$error":"#REF!"},null,{"$error":"#REF!"},{"$error":"#REF!"},{"$error":"#REF!"},{"$error":"#REF!"},null,76250,0,0.022308196721311475,0.022308196721311475,76250,0]
[{"$nulls":9},62,44,0.013289,{"v":83217,"d":"83,217"},19.4,0.008322,{"v":89895,"d":"89,895"},22.31,0.0108055,86493.41910220151,null,0,0.013289,83216.78638143926,0,{"v":45,"d":"45.00"},{"v":27,"d":"27.00"},357.85,21.3,0.0035785,2.13E-4,94437.50987476384,{"$error":"#REF!"},{"$error":"#REF!"},{"$error":"#REF!"},null,{"$error":"#REF!"},{"$error":"#REF!"},{"$error":"#REF!"},{"$error":"#REF!"},null,74549,0,0.024292747052274345,0.024292747052274345,74549,0]
[{"$nulls":9},63,45,0.014326,{"v":82111,"d":"82,111"},18.66,0.009046,{"v":89147,"d":"89,147"},21.49,0.011686,85558.81446209268,null,0,0.014326,82110.91850721631,0,{"v":50,"d":"50.00"},{"v":32,"d":"32.00"},522.3,44.85,0.005222999999999999,0.0004485,92747.78672932963,{"$error":"#REF!"},{"$error":"#REF!"},{"$error":"#REF!"},null,{"$error":"#REF!"},{"$error":"#REF!"},{"$error":"#REF!"},{"$error":"#REF!"},null,72738,0,0.026107399158624103,0.026107399158624103,72738,0]
[{"$nulls":9},64,46,0.015453,{"v":80935,"d":"80,935"},17.92,0.009822,{"v":88340,"d":"88,340"},20.69,0.0126375,84558.97415628866,null,0,0.015453,80934.59748868193,0,{"v":55,"d":"55.00"},{"v":37,"d":"37.00"},809.65,94.45,0.0080965,0.0009445,90325.67827889319,{"$error":"#REF!"},{"$error":"#REF!"},{"$error":"#REF!"},null,{"$error":"#REF!"},{"$error":"#REF!"},{"$error":"#REF!"},{"$error":"#REF!"},null,70839,0,0.027837772978161746,0.027837772978161746,70839,0]
[{"$nulls":9},65,{"$f":"J259-$P$51","v":47},0.016723,{"v":79684,"d":"79,684"},17.19,0.010698,{"v":87473,"d":"87,473"},19.89,{"$f":"(L259+O259)/2","v":0.013710499999999999},83490.36012038856,null,{"$f":"IF($K259<10,0, IF(AND(OR($K259>10, $K259=10),$K259<10+$I$63),$I$61*$I$62*(($K259-10)^3), $I$61*$I$62*(($K259-10)^3-($K259-10-$I$63)^3)))","v":0},{"$f":"L259+U259","v":0.016723},79683.91515368933,{"$f":"W259*U259","v":0},{"v":60,"d":"60.00"},{"v":42,"d":"42.00"},1273.75,164.25,0.0127375,0.0016425,86669.06900796789,{"$error":"#REF!"},{"$error":"#REF!"},{"$error":"#REF!"},null,{"$f":"IF(K259<10,0, IF(AND(OR(K259>10, K259=10),K259<10+$I$196),$I$194*$I$195*((K259-10)^3), $I$194*$I$195*((K259-10)^3-(K259-10-$I$196)^3)))","v":{"$error":"#REF!"}},{"$f":"R259+AJ259","v":{"$error":"#REF!"}},{"$error":"#REF!"},{"$f":"AL259*AJ259","v":{"$error":"#REF!"}},null,68867,{"$f":"IF($K259<10,0, IF(AND(OR($K259>10, $K259=10),$K259<10+$I$63),$I$61*$I$62*(($K259-10)^3), $I$61*$I$62*(($K259-10)^3-($K259-10-$I$63)^3)))","v":0},{"$f":"(AO259-AO260)/AO259","v":0.02957875324901622},{"$f":"AQ259+AP259","v":0.02957875324901622},68867,{"$f":"AS259*AP259","v":0}]
[{"$nulls":9},66,48,0.018154,{"v":78351,"d":"78,351"},16.48,0.011702,{"v":86537,"d":"86,537"},19.1,0.014928,{"$f":"S259-R259*S259","v":82345.66553795798},null,0,0.018154,{"$f":"W259-W259*V259","v":78351.3610405742},0,{"v":65,"d":"65.00"},{"v":47,"d":"47.00"},1963.4,254.55,0.019634000000000002,2.5455E-3,81149.33267552294,{"$error":"#REF!"},{"$error":"#REF!"},{"$error":"#REF!"},null,{"$error":"#REF!"},{"$error":"#REF!"},{"$f":"AL259-AL259*AK259","v":{"$error":"#REF!"}},{"$error":"#REF!"},null,66830,0,0.03154272033517881,0.03154272033517881,{"$f":"AS259-AS259*AR259","v":66830},0]
[{"$nulls":9},67,49,0.019732,{"v":76929,"d":"76,929"},15.77,0.012832,{"v":85524,"d":"85,524"},18.32,0.016281999999999998,81116.40944280734,null,0,0.019732,76928.97043224362,0,{"v":70,"d":"70.00"},{"v":52,"d":"52.00"},3043.6000000000004,341.35,0.030436000000000005,3.4135000000000003E-3,73182.90268676684,{"$error":"#REF!"},{"$error":"#REF!"},{"$error":"#REF!"},null,{"$error":"#REF!"},{"$error":"#REF!"},{"$error":"#REF!"},{"$error":"#REF!"},null,64722,0,0.0338679274435277,0.0338679274435277,64722,0]
[{"$nulls":9},68,50,0.021468,{"v":75411,"d":"75,411"},15.08,0.014103,{"v":84427,"d":"84,427"},17.55,0.0177855,79795.67206425956,null,0,0.021468,75411.00798767459,0,{"v":75,"d":"75.00"},{"v":57,"d":"57.00"},4701.9,387.95000000000005,0.047019,3.8795000000000006E-3,62045.928555894665,{"$error":"#REF!"},{"$error":"#REF!"},{"$error":"#REF!"},null,{"$error":"#REF!"},{"$error":"#REF!"},{"$error":"#REF!"},{"$error":"#REF!"},null,62530,0,0.036750359827282905,0.036750359827282905,62530,0]
[{"$nulls":9},69,51,0.023387,{"v":73792,"d":"73,792"},14.4,0.015526,{"v":83236,"d":"83,236"},16.79,0.0194565,78376.46613876068,null,0,0.023387,73792.08446819519,0,{"v":80,"d":"80.00"},{"v":62,"d":"62.00"},7700.85,411.20000000000005,0.07700850000000001,0.004112,47459.24098204661,{"$error":"#REF!"},{"$error":"#REF!"},{"$f":"AE263*AG263","v":{"$error":"#REF!"}},null,{"$error":"#REF!"},{"$error":"#REF!"},{"$error":"#REF!"},{"$error":"#REF!"},null,60232,0,0.04012817107185549,0.04012817107185549,60232,0]
[{"$nulls":9},70,52,0.025579,{"v":72066,"d":"72,066"},13.73,0.017163,{"v":81944,"d":"81,944"},16.05,0.021371,76851.53442533188,null,0,0.025579,72066.30898873751,0,{"v":85,"d":"85.00"},{"v":67,"d":"67.00"},15687,356.25,0.15687,0.0035625,29185.416186216928,{"$error":"#REF!"},{"$error":"#REF!"},{"$error":"#REF!"},null,{"$error":"#REF!"},{"$error":"#REF!"},{"$error":"#REF!"},{"$error":"#REF!"},null,57815,0,0.04377756637550809,0.04377756637550809,57815,0]
[{"$nulls":9},71,53,0.028032,{"v":70223,"d":"70,223"},13.08,0.018987,{"v":80537,"d":"80,537"},15.32,0.023509500000000003,75209.14028312812,null,0,0.028032,70222.92487111459,0,{"$nulls":11},{"$error":"#REF!"},{"$error":"#REF!"},{"$error":"#REF!"},{"$error":"#REF!"},null,55284,0,0.04760871138123146,0.04760871138123146,55284,0]
[{"$nulls":9},72,54,0.030665,{"v":68254,"d":"68,254"},12.44,0.020922,{"v":79008,"d":"79,008"},14.61,0.0257935,73441.01099964192,null,0,0.030665,68254.4358411275,0,{"$nulls":11},{"$error":"#REF!"},{"$error":"#REF!"},{"$error":"#REF!"},{"$error":"#REF!"},null,52652,0,0.05183088961482945,0.05183088961482945,52652,0]
[{"$nulls":9},73,55,0.033467,{"v":66161,"d":"66,161"},11.82,0.022951,{"v":77355,"d":"77,355"},13.91,0.028208999999999998,71546.71028242266,null,0,0.033467,66161.41356605933,0,{"$nulls":9},{"$f":"SUM(AH246:AH264)/100000*1000000","v":{"$error":"#REF!"}},null,{"$error":"#REF!"},{"$error":"#REF!"},{"$error":"#REF!"},{"$error":"#REF!"},null,49923,0,0.0564869899645454,0.0564869899645454,49923,0]
[{"$nulls":9},74,56,0.036519,{"v":63947,"d":"63,947"},11.21,0.025147,{"v":75580,"d":"75,580"},13.22,0.030833,69528.4491320658,null,0,0.036519,63947.18953824403,0,{"$nulls":11},{"$error":"#REF!"},{"$error":"#REF!"},{"$error":"#REF!"},{"$error":"#REF!"},null,47103,0,0.061567203787444534,0.061567203787444534,47103,0]
[{"$nulls":9},75,57,0.04001,{"v":61612,"d":"61,612"},10.62,0.027709,{"v":73679,"d":"73,679"},12.55,0.0338595,67384.67845997681,null,0,0.04001,61611.9021234969,0,{"$nulls":11},{"$error":"#REF!"},{"$error":"#REF!"},{"$error":"#REF!"},{"$error":"#REF!"},null,44203,0,0.06703164943555867,0.06703164943555867,44203,0]
[{"$nulls":9},76,58,0.043987,{"v":59147,"d":"59,147"},10.04,0.030659,{"v":71638,"d":"71,638"},11.9,0.037322999999999995,65103.06693966123,null,0,0.043987,59146.809919535786,0,{"$nulls":11},{"$error":"#REF!"},{"$error":"#REF!"},{"$error":"#REF!"},{"$error":"#REF!"},null,41240,0,0.07286614936954414,0.07286614936954414,41240,0]
[{"$nulls":9},77,59,0.048359,{"v":56545,"d":"56,545"},9.48,0.033861,{"v":69441,"d":"69,441"},11.26,0.04111,62673.22517227225,null,0,0.048359,56545.11919160517,0,{"$nulls":11},{"$error":"#REF!"},{"$error":"#REF!"},{"$error":"#REF!"},{"$error":"#REF!"},null,38235,0,0.0790113770105924,0.0790113770105924,38235,0]
[{"$nulls":9},78,60,0.05314,{"v":53811,"d":"53,811"},8.94,0.037311,{"v":67090,"d":"67,090"},10.63,0.0452255,60096.72888544014,null,0,0.05314,53810.65377261833,0,{"$nulls":11},{"$error":"#REF!"},{"$error":"#REF!"},{"$error":"#REF!"},{"$error":"#REF!"},null,35214,0,0.08539217356733117,0.08539217356733117,35214,0]
[{"$nulls":9},79,61,0.058434,{"v":50951,"d":"50,951"},8.41,0.041132,{"v":64587,"d":"64,587"},10.03,0.049783,57378.824273231665,null,0,0.058434,50951.155631141395,0,{"$nulls":11},{"$error":"#REF!"},{"$error":"#REF!"},{"$error":"#REF!"},{"$error":"#REF!"},null,32207,0,0.0919365355357531,0.0919365355357531,32207,0]
[{"$nulls":9},80,62,0.064457,{"v":47974,"d":"47,974"},7.9,0.045561,{"v":61930,"d":"61,930"},9.43,0.055009,54522.33426443737,null,0,0.064457,47973.87580299128,0,{"$nulls":11},{"$error":"#REF!"},{"$error":"#REF!"},{"$error":"#REF!"},{"$error":"#REF!"},null,29246,0,0.09850919783902072,0.09850919783902072,29246,0]
[{"$nulls":9},81,63,0.071259,{"v":44882,"d":"44,882"},7.41,0.050698,{"v":59109,"d":"59,109"},8.86,0.060978500000000005,51523.11517888493,null,0,0.071259,44881.62369035787,0,{"$nulls":11},{"$error":"#REF!"},{"$error":"#REF!"},{"$error":"#REF!"},{"$error":"#REF!"},null,26365,0,0.10487388583349137,0.10487388583349137,26365,0]
[{"$nulls":9},82,64,0.078741,{"v":41683,"d":"41,683"},6.94,0.056486,{"v":56112,"d":"56,112"},8.31,0.0676135,48381.3128999493,null,0,0.078741,41683.40406780666,0,{"$nulls":11},{"$error":"#REF!"},{"$error":"#REF!"},{"$error":"#REF!"},{"$error":"#REF!"},null,23600,0,0.11059322033898306,0.11059322033898306,23600,0]
[{"$nulls":9},83,65,0.086923,{"v":38401,"d":"38,401"},6.49,0.062971,{"v":52942,"d":"52,942"},7.77,0.074947,45110.08300018858,null,0,0.086923,38401.211148103495,0,{"$nulls":11},{"$error":"#REF!"},{"$error":"#REF!"},{"$error":"#REF!"},{"$error":"#REF!"},null,20990,0,0.11495950452596475,0.11495950452596475,20990,0]
[{"$nulls":9},84,66,0.095935,{"v":35063,"d":"35,063"},6.06,0.070259,{"v":49608,"d":"49,608"},7.26,0.083097,41729.21760957345,null,0,0.095935,35063.26267147689,0,{"$nulls":11},{"$error":"#REF!"},{"$error":"#REF!"},{"$error":"#REF!"},{"$error":"#REF!"},null,18577,0,0.11702643053237875,0.11702643053237875,18577,0]
[{"$nulls":9},85,67,0.105937,{"v":31699,"d":"31,699"},5.65,0.078471,{"v":46123,"d":"46,123"},6.77,0.09220400000000001,38261.64481387072,null,0,0.105937,31699.468567088756,0,{"$nulls":11},{"$error":"#REF!"},{"$error":"#REF!"},{"$error":"#REF!"},{"$error":"#REF!"},null,16403,0,1,1,16403,0]
[{"$nulls":9},86,68,0.117063,{"v":28341,"d":"28,341"},5.26,0.087713,{"v":42504,"d":"42,504"},6.31,0.102388,34733.768115452585,null,0,0.117063,28341.321965497074,0,{"$nulls":11},{"$error":"#REF!"},{"$error":"#REF!"},{"$error":"#REF!"},{"$error":"#REF!"}]
[{"$nulls":9},87,69,0.129407,{"v":25024,"d":"25,024"},4.89,0.098064,{"v":38776,"d":"38,776"},5.87,0.11373549999999999,31177.447065647626,null,0,0.129407,25023.60179225009,0,{"$nulls":11},{"$error":"#REF!"},{"$error":"#REF!"},{"$error":"#REF!"},{"$error":"#REF!"}]
[{"$nulls":9},88,70,0.143015,{"v":21785,"d":"21,785"},4.55,0.109578,{"v":34973,"d":"34,973"},5.45,0.1262965,27631.464534912662,null,0,0.143015,21785.372555120382,0,{"$nulls":11},{"$error":"#REF!"},{"$error":"#REF!"},{"$error":"#REF!"},{"$error":"#REF!"}]
[{"$nulls":9},89,71,0.157889,{"v":18670,"d":"18,670"},4.22,0.122283,{"v":31141,"d":"31,141"},5.06,0.140086,24141.707274279066,null,0,0.157889,18669.73749914984,0,{"$nulls":11},{"$error":"#REF!"},{"$error":"#REF!"},{"$error":"#REF!"},{"$error":"#REF!"}]
[{"$nulls":9},90,72,0.174013,{"v":15722,"d":"15,722"},3.92,0.13619,{"v":27333,"d":"27,333"},4.69,0.1551015,20759.79206905441,null,0,0.174013,15721.99131514657,0,{"$nulls":11},{"$error":"#REF!"},{"$error":"#REF!"},{"$error":"#REF!"},{"$error":"#REF!"}]
[{"$nulls":9},91,73,0.191354,{"v":12986,"d":"12,986"},3.64,0.1513,{"v":23610,"d":"23,610"},4.36,0.171327,17539.917179455966,null,0,0.191354,12986.16044042397,0,{"$nulls":11},{"$error":"#REF!"},{"$error":"#REF!"},{"$error":"#REF!"},{"$error":"#REF!"}]
[{"$nulls":9},92,74,0.209867,{"v":10501,"d":"10,501"},3.38,0.167602,{"v":20038,"d":"20,038"},4.04,0.1887345,14534.855788851313,null,0,0.209867,10501.20669550708,0,{"$nulls":11},{"$error":"#REF!"},{"$error":"#REF!"},{"$error":"#REF!"},{"$error":"#REF!"}]
[{"$nulls":9},93,75,0.229502,{"v":8297,"d":"8,297"},3.15,0.185078,{"v":16680,"d":"16,680"},3.76,0.20729,11791.627048970355,null,0,0.229502,8297.349949941095,0,{"$nulls":11},{"$error":"#REF!"},{"$error":"#REF!"},{"$error":"#REF!"},{"$error":"#REF!"}]
[{"$nulls":9},94,76,0.250198,{"v":6393,"d":"6,393"},2.93,0.2037,{"v":13593,"d":"13,593"},3.5,0.22694899999999998,9347.34067798929,null,0,0.250198,6393.091541729714,0,{"$nulls":11},{"$error":"#REF!"},{"$error":"#REF!"},{"$error":"#REF!"},{"$error":"#REF!"}]
[{"$nulls":9},95,77,0.27075,{"v":4794,"d":"4,794"},2.75,0.222541,{"v":10824,"d":"10,824"},3.26,0.2466455,7225.971058460299,null,0,0.27075,4793.552824172023,0,{"$nulls":11},{"$error":"#REF!"},{"$error":"#REF!"},{"$error":"#REF!"},{"$error":"#REF!"}]
[{"$nulls":9},96,78,0.290814,{"v":3496,"d":"3,496"},2.58,0.241317,{"v":8415,"d":"8,415"},3.05,0.2660655,5443.71781376083,null,0,0.290814,3495.6983970274478,0,{"$nulls":11},{"$error":"#REF!"},{"$error":"#REF!"},{"$error":"#REF!"},{"$error":"#REF!"}]
[{"$nulls":9},97,79,0.310029,{"v":2479,"d":"2,479"},2.44,0.259716,{"v":6384,"d":"6,384"},2.87,0.2848725,3995.3323117836476,null,0,0.310029,2479.1003633943074,0,{"$nulls":11},{"$error":"#REF!"},{"$error":"#REF!"},{"$error":"#REF!"},{"$error":"#REF!"}]
[{"$nulls":9},98,80,0.328021,{"v":1711,"d":"1,711"},2.3,0.277409,{"v":4726,"d":"4,726"},2.7,0.302715,2857.1720077950604,null,0,0.328021,1710.5073568315338,0,{"$nulls":11},{"$error":"#REF!"},{"$error":"#REF!"},{"$error":"#REF!"},{"$error":"#REF!"}]
[{"$nulls":9},99,81,0.344422,{"v":1149,"d":"1,149"},2.19,0.294054,{"v":3415,"d":"3,415"},2.54,0.319238,1992.2631834553786,null,0,0.344422,1149.425023136297,0,{"$nulls":11},{"$error":"#REF!"},{"$error":"#REF!"},{"$error":"#REF!"},{"$error":"#REF!"}]
[{"$nulls":9},100,82,0.361644,754,2.07,0.311697,{"v":2411,"d":"2,411"},2.39,0.3366705,1356.2570692954505,null,0,0.361644,753.5377578176474,0,{"$nulls":11},{"$error":"#REF!"},{"$error":"#REF!"},{"$error":"#REF!"},{"$error":"#REF!"}]
[{"$nulls":9},101,83,0.379726,481,1.96,0.330399,{"v":1659,"d":"1,659"},2.25,0.3550625,899.6453236472166,null,0,0.379726,481.0253489294421,0,{"$nulls":11},{"$error":"#REF!"},{"$error":"#REF!"},{"$error":"#REF!"},{"$error":"#REF!"}]
[{"$nulls":9},102,84,0.398712,298,1.85,0.350223,{"v":1111,"d":"1,111"},2.11,0.3744675,580.2150059197268,null,0,0.398712,298.3675172818607,0,{"$nulls":11},{"$error":"#REF!"},{"$error":"#REF!"},{"$error":"#REF!"},{"$error":"#REF!"}]
[{"$nulls":9},103,85,0.418648,179,1.75,0.371236,722,1.98,0.394942,362.94334319048147,null,0,0.418648,179.40480773137546,0,{"$nulls":11},{"$error":"#REF!"},{"$error":"#REF!"},{"$error":"#REF!"},{"$error":"#REF!"}]
[{"$nulls":9},104,86,0.43958,104,1.66,0.39351,454,1.86,0.41654500000000005,219.60177334414632,null,0,0.43958,104.29734378425059,0,{"$nulls":11},{"$error":"#REF!"},{"$error":"#REF!"},{"$error":"#REF!"},{"$error":"#REF!"}]
[{"$nulls":9},105,87,0.461559,58,1.56,0.417121,275,1.74,0.43934,128.12775266650888,null,0,0.461559,58.45031740356971,0,{"$nulls":11},{"$error":"#REF!"},{"$error":"#REF!"},{"$error":"#REF!"},{"$error":"#REF!"}]
[{"$nulls":9},106,88,0.484637,31,1.47,0.442148,160,1.62,0.4633925,71.83610581000487,null,0,0.484637,31.47204735309548,0,{"$nulls":11},{"$error":"#REF!"},{"$error":"#REF!"},{"$error":"#REF!"},{"$error":"#REF!"}]
[{"$nulls":9},107,89,0.508869,16,1.39,0.468677,90,1.52,0.488773,38.54779314844219,null,0,0.508869,16.219528740033347,0,{"$nulls":11},{"$error":"#REF!"},{"$error":"#REF!"},{"$error":"#REF!"},{"$error":"#REF!"}]
[{"$nulls":9},108,90,0.534312,8,1.3,0.496798,48,1.41,0.515555,19.706672647898653,null,0,0.534312,7.965913369621317,0,{"$nulls":11},{"$error":"#REF!"},{"$error":"#REF!"},{"$error":"#REF!"},{"$error":"#REF!"}]
[{"$nulls":9},109,91,0.561028,4,1.22,0.526605,24,1.31,0.5438164999999999,9.546799030911263,null,0,0.561028,3.709630265272212,0,{"$nulls":11},{"$error":"#REF!"},{"$error":"#REF!"},{"$error":"#REF!"},{"$error":"#REF!"}]
[{"$nulls":9},110,92,0.589079,2,1.15,0.558202,11,1.22,0.5736405,4.355092195717709,null,0,0.589079,1.6284238168070737,0,{"$nulls":11},{"$error":"#REF!"},{"$error":"#REF!"},{"$error":"#REF!"},{"$error":"#REF!"}]
[{"$nulls":9},111,93,0.618533,1,1.07,0.591694,5,1.13,0.6051135000000001,1.8568349310201042,null,0,0.618533,0.6691535432261795,0,{"$nulls":11},{"$error":"#REF!"},{"$error":"#REF!"},{"$error":"#REF!"},{"$error":"#REF!"}]
[{"$nulls":9},112,94,0.64946,0,1,0.627196,2,1.05,0.638328,0.7332390469882701,null,0,0.64946,0.255259994673861,0,{"$nulls":11},{"$error":"#REF!"},{"$error":"#REF!"},{"$error":"#REF!"},{"$error":"#REF!"}]
[{"$nulls":9},113,95,0.681933,0,0.94,0.664827,1,0.97,0.67338,0.26519203260234164,null,0,0.681933,0.08947883853297522,0,{"$nulls":11},{"$error":"#REF!"},{"$error":"#REF!"},{"$error":"#REF!"},{"$error":"#REF!"}]
[{"$nulls":9},114,96,0.716029,0,0.87,0.704717,0,0.89,0.710373,0.08661702168857682,null,0,0.716029,0.02846026573566783,0,{"$nulls":11},{"$error":"#REF!"},{"$error":"#REF!"},{"$error":"#REF!"},{"$error":"#REF!"}]
[{"$nulls":9},115,97,0.751831,0,0.81,0.747,0,0.82,0.7494155,0.025086628140597436,null,0,0.751831,0.008081890121223328,0,{"$nulls":11},{"$error":"#REF!"},{"$error":"#REF!"},{"$error":"#REF!"},{"$error":"#REF!"}]
[{"$nulls":9},116,98,0.789422,0,0.75,0.789422,0,0.75,0.789422,0.006286320169297539,null,0,0.789422,0.002005674589493872,0,{"$nulls":11},{"$error":"#REF!"},{"$error":"#REF!"},{"$error":"#REF!"},{"$error":"#REF!"}]
[{"$nulls":9},117,99,0.828894,0,0.7,0.828894,0,0.7,0.828894,1.3237607286103372E-3,null,0,0.828894,4.2235094370644062E-4,0,{"$nulls":11},{"$error":"#REF!"},{"$error":"#REF!"},{"$error":"#REF!"},{"$error":"#REF!"}]
[{"$nulls":9},118,100,0.870338,0,0.64,0.870338,0,0.64,0.870338,2.2650340322960039E-4,null,0,0.870338,7.2266780573834223E-5,0,{"$nulls":11},{"$error":"#REF!"},{"$error":"#REF!"},{"$error":"#REF!"},{"$error":"#REF!"}]
[{"$nulls":9},119,101,0.913855,0,0.59,0.913855,0,0.59,0.913855,2.9368884269556471E-5,null,0,0.913855,9.3702553027644978E-6,0,{"$nulls":11},{"$error":"#REF!"},{"$error":"#REF!"},{"$error":"#REF!"},{"$error":"#REF!"}]
[]
[{"$nulls":38},"Both genders mesothelioma",{"$nulls":6},"Male mesethelioma 1977"]
[{"$nulls":23},{"$f":"SUM(X194:X313)/100000*1000000","v":0},{"$nulls":14},{"$f":"SUM(AM194:AM313)/100000*1000000","v":{"$error":"#REF!"}},{"$nulls":6},{"$f":"SUM(AT194:AT313)/100000*1000000","v":0}]
[]
[]
[]
[]
["Hodgson and Darnton, 2000 for Amosite, Adjusted to Libby Amphibole Data","Occupational Equivalent, Total Exposure, F/CC Years",null,"Lung Cancer Lifetime Excess Risk, per 1,000000","Age at Onset Correction Factor","Pleural Mesothelioma Lifetime Excess Risk, per 1,000,000","Peritoneal Mesothelioma Lifetime Excess Risk, per 1,000,000","Total Excess Risk, per 1,000,000"]
[null,{"$f":"IF($O$51>0,$O$51,0)","v":{"$error":"#REF!"}},null,{"$f":"1.6*(B322^1.3)*58/100000*1000000/100*0.11/0.36","v":{"$error":"#REF!"}},{"$f":"($S$51-0.01)/(0.0562-0.01)","v":{"v":1.3992933990650522,"d":"1.40"}},{"$f":"E322*0.13*(B322^0.75)*1000000/100*0.5/3.9","v":{"$error":"#REF!"}},{"$f":"0.0006*(B322^2.1)*1000000/100*0.5/3.9","v":{"$error":"#REF!"}},{"$f":"D322+F322+G322","v":{"$error":"#REF!"}}]
[]
[]
[]
["NICHOLSON CALCULATIONS:",1]
[]
["PARAMETERS:",{"$nulls":4},"Both genders",{"$nulls":14},"LUNG CANCER CALCULATIONS"]
["Kl",{"$f":"V51","v":0.01},null,"AGE","AGE CORRECTED ON ONSET TIME","Death Rate per 100,000",null,null,"Number of death","Number of lung cancer deaths","Lung cancer death rate, per 100,000",{"$nulls":4},"MESOTHELIOMA CALCULATIONS",{"$nulls":3},"Asbestos RR of Lung Cancer-1)","Probability of Death Corrected for Asb.-Related Lung Cancer","Number of Survivals From 100,000 Corrected for Asbestos-Related Lung Cancer","Number of Lung Cancer Cases in Surviving Population (Original 100000)"]
["Km",{"$f":"W51","v":1E-8},null,0,{"$f":"D330-$P$51","v":-18},637.2,null,null,26412,4,{"$f":"F330*J330/I330","v":0.09650159018627898},{"$nulls":3},{"$f":"IF($E330<10,0, IF(AND(OR($E330>10, $E330=10),$E330<10+$B$332),$B$330*$B$331*(($E330-10)^3), $B$330*$B$331*(($E330-10)^3-($E330-10-$B$332)^3)))","v":0},{"$f":"F330/100000","v":0.006372},{"$f":"100000","v":100000},{"$f":"Q330*O330","v":0},null,{"$f":"IF($E330<10,0, IF(AND(OR($E330>10, $E330=10),$E330<10+$B$332),$B$329*$B$331*(($E330-10)), $B$329*$B$331*(($E330-10)-($E330-10-$B$332))))","v":0},{"$f":"F330/100000","v":0.006372},{"$f":"100000","v":100000},{"$f":"V330*T330*K330/100000","v":0}]
["f",{"$f":"N51*2.8","v":{"$error":"#REF!"}},null,1,{"$f":"D331-$P$51","v":-17},{"$f":"(G331+G332+G333+G334)*100000","v":{"v":110.39999999999999,"d":"110.400000"}},0.000429,null,4450,3,{"$f":"F331*J331/I331","v":0.07442696629213483},{"$nulls":3},0,{"$f":"F331/100000","v":0.001104},{"$f":"Q330-Q330*P330","v":99362.8},{"$f":"Q331*4*O331","v":0},null,0,{"$f":"F331/100000","v":0.001104},{"$f":"V330-V330*U330","v":99362.8},{"$f":"V331*T331*K331/100000","v":0}]
["d",{"$f":"$I$51","v":30},null,2,-16,null,0.000288,{"$nulls":7},0,null,null,{"$f":"Q332*O332","v":0},null,0,null,null,0]
[{"$nulls":3},3,-15,null,0.000219,{"$nulls":7},0,null,null,0,null,0,null,null,0]
[{"$nulls":3},4,-14,null,0.000168,{"$nulls":7},0,null,null,0,null,0,null,null,0]
[{"$nulls":3},5,-13,{"$f":"(G335+G336+G337+G338+G339)*100000","v":{"v":62.5,"d":"62.500000"}},{"v":1.56E-4,"d":"0.000156"},null,{"$f":"5651/2","v":2825.5},{"$f":"5/2","v":{"v":2.5,"d":"3"}},{"$f":"F335*J335/I335","v":0.055299946912050965},{"$nulls":3},0,{"$f":"F335/100000","v":0.000625},{"$f":"Q331-Q331*P331","v":99253.1034688},{"$f":"Q335*5*O335","v":0},null,0,{"$f":"F335/100000","v":0.000625},{"$f":"V331-V331*U331","v":99253.1034688},0]
[{"$nulls":3},6,-12,null,0.000139,{"$nulls":7},0,null,null,0,null,0,null,null,0]
[{"$nulls":3},7,-11,null,{"v":1.25E-4,"d":"0.000125"},{"$nulls":7},0,null,null,0,null,0,null,null,0]
[{"$nulls":3},8,-10,null,{"v":1.1E-4,"d":"0.000110"},{"$nulls":7},0,null,null,0,null,0,null,null,0]
[{"$nulls":3},9,-9,null,{"v":9.5e-05,"d":"0.000095"},{"$nulls":7},0,null,null,0,null,0,null,null,0]
[{"$nulls":3},10,-8,{"$f":"(G340+G341+G342+G343+G344)*100000","v":{"v":75.1,"d":"75.100000"}},{"v":8.5e-05,"d":"0.000085"},null,{"$f":"5651/2","v":2825.5},{"$f":"5/2","v":{"v":2.5,"d":"3"}},{"$f":"F340*J340/I340","v":0.06644841620952044},{"$nulls":3},0,{"$f":"F340/100000","v":7.5099999999999993E-4},{"$f":"Q335-Q335*P335","v":99191.070279132},{"$f":"Q340*5*O340","v":0},null,0,{"$f":"F340/100000","v":7.5099999999999993E-4},{"$f":"V335-V335*U335","v":99191.070279132},0]
[{"$nulls":3},11,-7,null,{"v":9.1e-05,"d":"0.000091"},{"$nulls":7},0,null,null,0,null,0,null,null,0]
[{"$nulls":3},12,-6,null,{"v":1.22E-4,"d":"0.000122"},{"$nulls":7},0,null,null,0,null,0,null,null,0]
[{"$nulls":3},13,-5,null,{"v":1.85E-4,"d":"0.000185"},{"$nulls":7},0,null,null,0,null,0,null,null,0]
[{"$nulls":3},14,-4,null,0.000268,{"$nulls":7},0,null,null,0,null,0,null,null,0]
[{"$nulls":3},15,-3,{"$f":"(G345+G346+G347+G348+G349)*100000","v":{"v":259.2,"d":"259.200000"}},0.000355,null,{"$f":"30416/2","v":15208},{"$f":"25/2","v":{"v":12.5,"d":"13"}},{"$f":"F345*J345/I345","v":0.2130457653866386},{"$nulls":3},0,{"$f":"F345/100000","v":2.5919999999999997E-3},{"$f":"Q340-Q340*P340","v":99116.57778535238},{"$f":"Q345*5*O345","v":0},null,0,{"$f":"F345/100000","v":2.5919999999999997E-3},{"$f":"V340-V340*U340","v":99116.57778535238},{"$f":"V345*T345*K345/100000","v":0}]
[{"$nulls":3},16,-2,null,0.000438,{"$nulls":7},0,null,null,0,null,0,null,null,0]
[{"$nulls":3},17,-1,null,{"v":0.00052,"d":"0.000520"},{"$nulls":7},0,null,null,0,null,0,null,null,0]
[{"$nulls":3},18,0,null,{"v":0.0006,"d":"0.000600"},{"$nulls":7},0,null,null,0,null,0,null,null,0]
[{"$nulls":3},19,1,null,0.000679,{"$nulls":7},0,null,null,0,null,0,null,null,0]
[{"$nulls":3},20,2,{"$f":"(G350+G351+G352+G353+G354)*100000","v":{"v":442.09999999999997,"d":"442.100000"}},0.000765,null,{"$f":"30416/2","v":15208},{"$f":"25/2","v":{"v":12.5,"d":"13"}},{"$f":"F350*J350/I350","v":0.363377827459232},{"$nulls":3},0,{"$f":"F350/100000","v":0.004421},{"$f":"Q345-Q345*P345","v":98859.66761573275},{"$f":"Q350*5*O350","v":0},null,0,{"$f":"F350/100000","v":0.004421},{"$f":"V345-V345*U345","v":98859.66761573275},0]
[{"$nulls":3},21,3,null,0.000848,{"$nulls":7},0,null,null,0,null,0,null,null,0]
[{"$nulls":3},22,4,null,0.000911,{"$nulls":7},0,null,null,0,null,0,null,null,0]
[{"$nulls":3},23,5,null,0.000944,{"$nulls":7},0,null,null,0,null,0,null,null,0]
[{"$nulls":3},24,6,null,0.000953,{"$nulls":7},0,null,null,0,null,0,null,null,0]
[{"$nulls":3},25,7,{"$f":"(G355+G356+G357+G358+G359)*100000","v":{"v":488.9000000000001,"d":"488.900000"}},0.000956,null,{"$f":"42502/2","v":21251},{"$f":"146/2","v":73},{"$f":"F355*J355/I355","v":1.6794362618229732},{"$nulls":3},0,{"$f":"F355/100000","v":4.889000000000001E-3},{"$f":"Q350-Q350*P350","v":98422.6090252036},{"$f":"Q355*5*O355","v":0},null,0,{"$f":"F355/100000","v":4.889000000000001E-3},{"$f":"V350-V350*U350","v":98422.6090252036},0]
[{"$nulls":3},26,8,null,0.000963,{"$nulls":7},0,null,null,0,null,0,null,null,0]
[{"$nulls":3},27,9,null,0.000972,{"$nulls":7},0,null,null,0,null,0,null,null,0]
[{"$nulls":3},28,10,null,0.000988,{"$nulls":7},{"$error":"#REF!"},null,null,{"$error":"#REF!"},null,{"$error":"#REF!"},null,null,{"$error":"#REF!"}]
[{"$nulls":3},29,11,null,{"v":1.01E-3,"d":"0.001010"},{"$nulls":7},{"$error":"#REF!"},null,null,{"$error":"#REF!"},null,{"$error":"#REF!"},null,null,{"$error":"#REF!"}]
[{"$nulls":3},30,12,{"$f":"(G360+G361+G362+G363+G364)*100000","v":{"v":557.3,"d":"557.300000"}},0.001038,null,{"$f":"42502/2","v":21251},{"$f":"146/2","v":73},{"$f":"F360*J360/I360","v":1.9143993223848286},{"$nulls":3},{"$error":"#REF!"},{"$f":"F360/100000","v":0.005573},{"$f":"Q355-Q355*P355","v":97941.42088967937},{"$f":"Q360*5*O360","v":{"$error":"#REF!"}},null,{"$error":"#REF!"},{"$f":"F360/100000","v":0.005573},{"$f":"V355-V355*U355","v":97941.42088967937},{"$error":"#REF!"}]
[{"$nulls":3},31,13,null,{"v":1.07E-3,"d":"0.001070"},{"$nulls":7},{"$error":"#REF!"},null,null,{"$error":"#REF!"},null,{"$error":"#REF!"},null,null,{"$error":"#REF!"}]
[{"$nulls":3},32,14,null,{"v":1.111E-3,"d":"0.001111"},{"$nulls":7},{"$f":"IF($E362<10,0, IF(AND(OR($E362>10, $E362=10),$E362<10+$B$332),$B$330*$B$331*(($E362-10)^3), $B$330*$B$331*(($E362-10)^3-($E362-10-$B$332)^3)))","v":{"$error":"#REF!"}},null,null,{"$error":"#REF!"},null,{"$f":"IF($E362<10,0, IF(AND(OR($E362>10, $E362=10),$E362<10+$B$332),$B$329*$B$331*(($E362-10)), $B$329*$B$331*(($E362-10)-($E362-10-$B$332))))","v":{"$error":"#REF!"}},null,null,{"$error":"#REF!"}]
[{"$nulls":3},33,15,null,{"v":1.152E-3,"d":"0.001152"},{"$nulls":7},{"$error":"#REF!"},null,null,{"$error":"#REF!"},null,{"$error":"#REF!"},null,null,{"$error":"#REF!"}]
[{"$nulls":3},34,16,null,0.001202,{"$nulls":7},{"$error":"#REF!"},null,null,{"$error":"#REF!"},null,{"$error":"#REF!"},null,null,{"$error":"#REF!"}]
[{"$nulls":3},35,17,{"$f":"(G365+G366+G367+G368+G369)*100000","v":{"v":718.3000000000001,"d":"718.300000"}},0.001262,null,{"$f":"74665/2","v":37332.5},{"$f":"1517/2","v":{"v":758.5,"d":"759"}},{"$f":"F365*J365/I365","v":14.59400120538405},{"$nulls":3},{"$error":"#REF!"},{"$f":"F365/100000","v":7.183000000000001E-3},{"$f":"Q360-Q360*P360","v":97395.5933510612},{"$f":"Q365*5*O365","v":{"$error":"#REF!"}},null,{"$error":"#REF!"},{"$f":"F365/100000","v":7.183000000000001E-3},{"$f":"V360-V360*U360","v":97395.5933510612},{"$error":"#REF!"}]
[{"$nulls":3},36,18,null,{"v":1.335E-3,"d":"0.001335"},{"$nulls":7},{"$error":"#REF!"},null,null,{"$error":"#REF!"},null,{"$error":"#REF!"},null,null,{"$error":"#REF!"}]
[{"$nulls":3},37,19,null,{"v":1.421E-3,"d":"0.001421"},{"$nulls":7},{"$error":"#REF!"},null,null,{"$error":"#REF!"},null,{"$error":"#REF!"},null,null,{"$error":"#REF!"}]
[{"$nulls":3},38,20,null,0.001522,{"$nulls":7},{"$error":"#REF!"},null,null,{"$error":"#REF!"},null,{"$error":"#REF!"},null,null,{"$error":"#REF!"}]
[{"$nulls":3},39,21,null,0.001643,{"$nulls":7},{"$error":"#REF!"},null,null,{"$error":"#REF!"},null,{"$error":"#REF!"},null,null,{"$error":"#REF!"}]
[{"$nulls":3},40,22,{"$f":"(G370+G371+G372+G373+G374)*100000","v":{"v":1072.5,"d":"1,072.500000"}},0.001778,null,{"$f":"74665/2","v":37332.5},{"$f":"1517/2","v":{"v":758.5,"d":"759"}},{"$f":"F370*J370/I370","v":21.790430589968526},{"$nulls":3},{"$error":"#REF!"},{"$f":"F370/100000","v":0.010725},{"$f":"Q365-Q365*P365","v":96696.00080402053},{"$f":"Q370*5*O370","v":{"$error":"#REF!"}},null,{"$error":"#REF!"},{"$f":"F370/100000","v":0.010725},{"$f":"V365-V365*U365","v":96696.00080402053},{"$error":"#REF!"}]
[{"$nulls":3},41,23,null,{"v":1.933E-3,"d":"0.001933"},{"$nulls":7},{"$error":"#REF!"},null,null,{"$error":"#REF!"},null,{"$error":"#REF!"},null,null,{"$error":"#REF!"}]
[{"$nulls":3},42,24,null,0.002118,{"$nulls":7},{"$error":"#REF!"},null,null,{"$error":"#REF!"},null,{"$error":"#REF!"},null,null,{"$error":"#REF!"}]
[{"$nulls":3},43,25,null,0.002332,{"$nulls":7},{"$error":"#REF!"},null,null,{"$error":"#REF!"},null,{"$error":"#REF!"},null,null,{"$error":"#REF!"}]
[{"$nulls":3},44,26,null,0.002564,{"$nulls":7},{"$error":"#REF!"},null,null,{"$error":"#REF!"},null,{"$error":"#REF!"},null,null,{"$error":"#REF!"}]
[{"$nulls":3},45,27,{"$f":"(G375+G376+G377+G378+G379)*100000","v":{"v":1666.5,"d":"1,666.500000"}},0.002796,null,{"$f":"187568/2","v":{"v":93784,"d":"93,784"}},{"$f":"12488/2","v":{"v":6244,"d":"6,244"}},{"$f":"F375*J375/I375","v":110.9531050072507},{"$nulls":3},{"$error":"#REF!"},{"$f":"F375/100000","v":0.016665},{"$f":"Q370-Q370*P370","v":95658.93619539741},{"$f":"Q375*5*O375","v":{"$error":"#REF!"}},null,{"$error":"#REF!"},{"$f":"F375/100000","v":0.016665},{"$f":"V370-V370*U370","v":95658.93619539741},{"$error":"#REF!"}]
[{"$nulls":3},46,28,null,0.003034,{"$nulls":7},{"$error":"#REF!"},null,null,{"$error":"#REF!"},null,{"$error":"#REF!"},null,null,{"$error":"#REF!"}]
[{"$nulls":3},47,29,null,{"v":3.297E-3,"d":"0.003297"},{"$nulls":7},{"$error":"#REF!"},null,null,{"$error":"#REF!"},null,{"$error":"#REF!"},null,null,{"$error":"#REF!"}]
[{"$nulls":3},48,30,null,{"v":0.0036,"d":"0.003600"},{"$nulls":7},{"$error":"#REF!"},null,null,{"$error":"#REF!"},null,{"$error":"#REF!"},null,null,{"$error":"#REF!"}]
[{"$nulls":3},49,31,null,0.003938,{"$nulls":7},{"$error":"#REF!"},null,null,{"$error":"#REF!"},null,{"$error":"#REF!"},null,null,{"$error":"#REF!"}]
[{"$nulls":3},50,32,{"$f":"(G380+G381+G382+G383+G384)*100000","v":{"v":2526.4,"d":"2,526.400000"}},0.004306,null,{"$f":"187568/2","v":{"v":93784,"d":"93,784"}},{"$f":"12488/2","v":{"v":6244,"d":"6,244"}},{"$f":"F380*J380/I380","v":168.2039750917001},{"$nulls":3},{"$error":"#REF!"},{"$f":"F380/100000","v":0.025264},{"$f":"Q375-Q375*P375","v":94064.78002370111},{"$f":"Q380*5*O380","v":{"$error":"#REF!"}},null,{"$error":"#REF!"},{"$f":"F380/100000","v":0.025264},{"$f":"V375-V375*U375","v":94064.78002370111},{"$error":"#REF!"}]
[{"$nulls":3},51,33,null,0.004682,{"$nulls":7},{"$error":"#REF!"},null,null,{"$error":"#REF!"},null,{"$error":"#REF!"},null,null,{"$error":"#REF!"}]
[{"$nulls":3},52,34,null,{"v":5.058E-3,"d":"0.005058"},{"$nulls":7},{"$error":"#REF!"},null,null,{"$error":"#REF!"},null,{"$error":"#REF!"},null,null,{"$error":"#REF!"}]
[{"$nulls":3},53,35,null,{"v":5.424E-3,"d":"0.005424"},{"$nulls":7},{"$error":"#REF!"},null,null,{"$error":"#REF!"},null,{"$error":"#REF!"},null,null,{"$error":"#REF!"}]
[{"$nulls":3},54,36,null,0.005794,{"$nulls":7},{"$error":"#REF!"},null,null,{"$error":"#REF!"},null,{"$error":"#REF!"},null,null,{"$error":"#REF!"}]
[{"$nulls":3},55,37,{"$f":"(G385+G386+G387+G388+G389)*100000","v":{"v":3574.5,"d":"3,574.500000"}},0.006186,null,{"$f":"303307/2","v":{"v":151653.5,"d":"151,654"}},{"$f":"30964/2","v":{"v":15482,"d":"15,482"}},{"$f":"F385*J385/I385","v":364.9134968859934},{"$nulls":3},{"$error":"#REF!"},{"$f":"F385/100000","v":0.035745},{"$f":"Q380-Q380*P380","v":91688.32742118233},{"$f":"Q385*5*O385","v":{"$error":"#REF!"}},null,{"$error":"#REF!"},{"$f":"F385/100000","v":0.035745},{"$f":"V380-V380*U380","v":91688.32742118233},{"$error":"#REF!"}]
[{"$nulls":3},56,38,null,0.006622,{"$nulls":7},{"$error":"#REF!"},null,null,{"$error":"#REF!"},null,{"$error":"#REF!"},null,null,{"$error":"#REF!"}]
[{"$nulls":3},57,39,null,0.007102,{"$nulls":7},{"$error":"#REF!"},null,null,{"$error":"#REF!"},null,{"$error":"#REF!"},null,null,{"$error":"#REF!"}]
[{"$nulls":3},58,40,null,{"v":0.00763,"d":"0.007630"},{"$nulls":7},{"$error":"#REF!"},null,null,{"$error":"#REF!"},null,{"$error":"#REF!"},null,null,{"$error":"#REF!"}]
[{"$nulls":3},59,41,null,0.008205,{"$nulls":7},{"$error":"#REF!"},null,null,{"$error":"#REF!"},null,{"$error":"#REF!"},null,null,{"$error":"#REF!"}]
[{"$nulls":3},60,42,{"$f":"(G390+G391+G392+G393+G394)*100000","v":{"v":5144.400000000001,"d":"5,144.400000"}},0.008826,null,{"$f":"303307/2","v":{"v":151653.5,"d":"151,654"}},{"$f":"30964/2","v":{"v":15482,"d":"15,482"}},{"$f":"F390*J390/I390","v":525.1814221234591},{"$nulls":3},{"$error":"#REF!"},{"$f":"F390/100000","v":0.051444000000000004},{"$f":"Q385-Q385*P385","v":88410.92815751217},{"$f":"Q390*5*O390","v":{"$error":"#REF!"}},null,{"$error":"#REF!"},{"$f":"F390/100000","v":0.051444000000000004},{"$f":"V385-V385*U385","v":88410.92815751217},{"$error":"#REF!"}]
[{"$nulls":3},61,43,null,{"v":9.495E-3,"d":"0.009495"},{"$nulls":7},{"$error":"#REF!"},null,null,{"$error":"#REF!"},null,{"$error":"#REF!"},null,null,{"$error":"#REF!"}]
[{"$nulls":3},62,44,null,0.010217,{"$nulls":7},{"$error":"#REF!"},null,null,{"$error":"#REF!"},null,{"$error":"#REF!"},null,null,{"$error":"#REF!"}]
[{"$nulls":3},63,45,null,{"v":0.01101,"d":"0.011010"},{"$nulls":7},{"$error":"#REF!"},null,null,{"$error":"#REF!"},null,{"$error":"#REF!"},null,null,{"$error":"#REF!"}]
[{"$nulls":3},64,46,null,0.011896,{"$nulls":7},{"$f":"IF($E394<10,0, IF(AND(OR($E394>10, $E394=10),$E394<10+$B$332),$B$330*$B$331*(($E394-10)^3), $B$330*$B$331*(($E394-10)^3-($E394-10-$B$332)^3)))","v":{"$error":"#REF!"}},null,null,{"$error":"#REF!"},null,{"$f":"IF($E394<10,0, IF(AND(OR($E394>10, $E394=10),$E394<10+$B$332),$B$329*$B$331*(($E394-10)), $B$329*$B$331*(($E394-10)-($E394-10-$B$332))))","v":{"$error":"#REF!"}},null,null,{"$error":"#REF!"}]
[{"$nulls":3},65,{"$f":"D395-$P$51","v":47},{"$f":"(G395+G396+G397+G398+G399)*100000","v":{"v":7712.8,"d":"7,712.800000"}},0.012923,null,{"$f":"401032/2","v":{"v":200516,"d":"200,516"}},{"$f":"48536/2","v":{"v":24268,"d":"24,268"}},{"$f":"F395*J395/I395","v":933.4628179297413},{"$nulls":3},{"$error":"#REF!"},{"$f":"F395/100000","v":0.077128},{"$f":"Q390-Q390*P390","v":83862.71636937711},{"$f":"Q395*5*O395","v":{"$error":"#REF!"}},null,{"$error":"#REF!"},{"$f":"F395/100000","v":0.077128},{"$f":"V390-V390*U390","v":83862.71636937711},{"$error":"#REF!"}]
[{"$nulls":3},66,48,null,0.014095,{"$nulls":7},{"$error":"#REF!"},null,null,{"$f":"Q396*O396","v":{"$error":"#REF!"}},null,{"$error":"#REF!"},null,null,{"$f":"V396*T396*K396/100000","v":{"$error":"#REF!"}}]
[{"$nulls":3},67,49,null,0.015356,{"$nulls":7},{"$error":"#REF!"},null,null,{"$error":"#REF!"},null,{"$error":"#REF!"},null,null,{"$error":"#REF!"}]
[{"$nulls":3},68,50,null,0.016682,{"$nulls":7},{"$error":"#REF!"},null,null,{"$error":"#REF!"},null,{"$error":"#REF!"},null,null,{"$error":"#REF!"}]
[{"$nulls":3},69,51,null,0.018072,{"$nulls":7},{"$error":"#REF!"},null,null,{"$error":"#REF!"},null,{"$error":"#REF!"},null,null,{"$error":"#REF!"}]
[{"$nulls":3},70,52,{"$f":"(G400+G401+G402+G403+G404)*100000","v":{"v":11861.8,"d":"11,861.800000"}},{"v":0.01963,"d":"0.019630"},null,{"$f":"401032/2","v":{"v":200516,"d":"200,516"}},{"$f":"48536/2","v":{"v":24268,"d":"24,268"}},{"$f":"F400*J400/I400","v":1435.6069460791157},{"$nulls":3},{"$error":"#REF!"},{"$f":"F400/100000","v":0.11861799999999999},{"$f":"Q395-Q395*P395","v":77394.55278123979},{"$f":"Q400*5*O400","v":{"$error":"#REF!"}},null,{"$error":"#REF!"},{"$f":"F400/100000","v":0.11861799999999999},{"$f":"V395-V395*U395","v":77394.55278123979},{"$error":"#REF!"}]
[{"$nulls":3},71,53,null,{"v":0.02143,"d":"0.021430"},{"$nulls":7},{"$error":"#REF!"},null,null,{"$error":"#REF!"},null,{"$error":"#REF!"},null,null,{"$error":"#REF!"}]
[{"$nulls":3},72,54,null,0.023431,{"$nulls":7},{"$error":"#REF!"},null,null,{"$error":"#REF!"},null,{"$error":"#REF!"},null,null,{"$error":"#REF!"}]
[{"$nulls":3},73,55,null,0.025763,{"$nulls":7},{"$error":"#REF!"},null,null,{"$error":"#REF!"},null,{"$error":"#REF!"},null,null,{"$error":"#REF!"}]
[{"$nulls":3},74,56,null,0.028364,{"$nulls":7},{"$error":"#REF!"},null,null,{"$error":"#REF!"},null,{"$error":"#REF!"},null,null,{"$error":"#REF!"}]
[{"$nulls":3},75,57,{"$f":"(G405+G406+G407+G408+G409)*100000","v":{"v":18984.100000000002,"d":"18,984.100000"}},{"v":0.03106,"d":"0.031060"},null,{"$f":"627727/2","v":{"v":313863.5,"d":"313,864"}},{"$f":"46860/2","v":{"v":23430,"d":"23,430"}},{"$f":"F405*J405/I405","v":1417.1684920355506},{"$nulls":3},{"$error":"#REF!"},{"$f":"F405/100000","v":0.189841},{"$f":"Q400-Q400*P400","v":68214.16571943469},{"$f":"Q405*5*O405","v":{"$error":"#REF!"}},null,{"$error":"#REF!"},{"$f":"F405/100000","v":0.189841},{"$f":"V400-V400*U400","v":68214.16571943469},{"$error":"#REF!"}]
[{"$nulls":3},76,58,null,0.034041,{"$nulls":7},{"$error":"#REF!"},null,null,{"$error":"#REF!"},null,{"$error":"#REF!"},null,null,{"$error":"#REF!"}]
[{"$nulls":3},77,59,null,0.037491,{"$nulls":7},{"$error":"#REF!"},null,null,{"$error":"#REF!"},null,{"$error":"#REF!"},null,null,{"$error":"#REF!"}]
[{"$nulls":3},78,60,null,0.041456,{"$nulls":7},{"$error":"#REF!"},null,null,{"$error":"#REF!"},null,{"$error":"#REF!"},null,null,{"$error":"#REF!"}]
[{"$nulls":3},79,61,null,0.045793,{"$nulls":7},{"$error":"#REF!"},null,null,{"$error":"#REF!"},null,{"$error":"#REF!"},null,null,{"$error":"#REF!"}]
[{"$nulls":3},80,62,{"$f":"(G410+G411+G412+G413+G414)*100000","v":{"v":31110.699999999997,"d":"31,110.700000"}},0.050433,null,{"$f":"627727/2","v":{"v":313863.5,"d":"313,864"}},{"$f":"46860/2","v":{"v":23430,"d":"23,430"}},{"$f":"F410*J410/I410","v":2322.422648699195},{"$nulls":3},{"$error":"#REF!"},{"$f":"F410/100000","v":0.31110699999999997},{"$f":"Q405-Q405*P405","v":55264.32028509149},{"$f":"Q410*5*O410","v":{"$error":"#REF!"}},null,{"$error":"#REF!"},{"$f":"F410/100000","v":0.31110699999999997},{"$f":"V405-V405*U405","v":55264.32028509149},{"$f":"V410*T410*K410/100000","v":{"$error":"#REF!"}}]
[{"$nulls":3},81,63,null,0.055465,{"$nulls":7},{"$error":"#REF!"},null,null,{"$error":"#REF!"},null,{"$error":"#REF!"},null,null,{"$error":"#REF!"}]
[{"$nulls":3},82,64,null,0.061442,{"$nulls":7},{"$error":"#REF!"},null,null,{"$error":"#REF!"},null,{"$error":"#REF!"},null,null,{"$error":"#REF!"}]
[{"$nulls":3},83,65,null,0.068173,{"$nulls":7},{"$error":"#REF!"},null,null,{"$error":"#REF!"},null,{"$error":"#REF!"},null,null,{"$error":"#REF!"}]
[{"$nulls":3},84,66,null,0.075594,{"$nulls":7},{"$error":"#REF!"},null,null,{"$error":"#REF!"},null,{"$error":"#REF!"},null,null,{"$error":"#REF!"}]
[{"$nulls":3},85,67,100000,null,null,{"v":733178,"d":"733,178"},{"v":17605,"d":"17,605"},{"$f":"F415*J415/I415","v":2401.1904339737416},{"$nulls":3},{"$error":"#REF!"},{"$f":"F415/100000","v":1},{"$f":"Q410-Q410*P410","v":38071.203394157536},{"$f":"Q415*6.5*O415","v":{"$error":"#REF!"}},null,{"$error":"#REF!"},{"$f":"F415/100000","v":1},{"$f":"V410-V410*U410","v":38071.203394157536},{"$f":"V415*T415*K415/100000*3.5","v":{"$error":"#REF!"}}]
{"$rows_empty":36}
[{"$nulls":17},{"$f":"SUM(R330:R449)/100000*1000000","v":{"$error":"#REF!"}},{"$nulls":4},{"$f":"SUM(W330:W449)/100000*1000000","v":{"$error":"#REF!"}}]
[]
[]
["NICHOLSON CALCULATIONS:",2]
[]
["PARAMETERS:",{"$nulls":4},"Both genders",{"$nulls":14},"LUNG CANCER CALCULATIONS"]
["Kl",{"$f":"0.49*10^(-2)","v":0.0049},null,"AGE","AGE CORRECTED ON ONSET TIME","Death Rate per 100,000",null,null,"Number of death","Number of lung cancer deaths","Lung cancer death rate, per 100,000",{"$nulls":4},"MESOTHELIOMA CALCULATIONS",{"$nulls":3},"Asbestos RR of Lung Cancer-1)","Probability of Death Corrected for Asb.-Related Lung Cancer","Number of Survivals From 100,000 Corrected for Asbestos-Related Lung Cancer","Number of Lung Cancer Cases in Surviving Population (Original 100000)"]
["Km",{"$f":"0.34*10^(-8)","v":3.4000000000000003E-9},null,0,{"$f":"D459-$P$51","v":-18},637.2,null,null,26412,4,{"$f":"F459*J459/I459","v":0.09650159018627898},{"$nulls":3},{"$f":"IF($E459<10,0, IF(AND(OR($E459>10, $E459=10),$E459<10+$B$461),$B$459*$B$460*(($E459-10)^3), $B$459*$B$460*(($E459-10)^3-($E459-10-$B$461)^3)))","v":0},{"$f":"F459/100000","v":0.006372},{"$f":"100000","v":100000},{"$f":"Q459*O459","v":0},null,{"$f":"IF($E459<10,0, IF(AND(OR($E459>10, $E459=10),$E459<10+$B$461),$B$458*$B$460*(($E459-10)), $B$458*$B$460*(($E459-10)-($E459-10-$B$461))))","v":0},{"$f":"F459/100000","v":0.006372},{"$f":"100000","v":100000},{"$f":"V459*T459*K459/100000","v":0}]
["f",{"$f":"N53*2.8","v":{"v":0.059,"d":"5.90E-02"}},null,1,{"$f":"D460-$P$51","v":-17},{"$f":"(G460+G461+G462+G463)*100000","v":{"v":110.39999999999999,"d":"110.400000"}},0.000429,null,4450,3,{"$f":"F460*J460/I460","v":0.07442696629213483},{"$nulls":3},0,{"$f":"F460/100000","v":0.001104},{"$f":"Q459-Q459*P459","v":99362.8},{"$f":"Q460*4*O460","v":0},null,0,{"$f":"F460/100000","v":0.001104},{"$f":"V459-V459*U459","v":99362.8},{"$f":"V460*T460*K460/100000","v":0}]
["d",{"$f":"$I$51","v":30},null,2,-16,null,0.000288,{"$nulls":7},0,null,null,{"$f":"Q461*O461","v":0},null,0,null,null,0]
[{"$nulls":3},3,-15,null,0.000219,{"$nulls":7},0,null,null,0,null,0,null,null,0]
[{"$nulls":3},4,-14,null,0.000168,{"$nulls":7},0,null,null,0,null,0,null,null,0]
[{"$nulls":3},5,-13,{"$f":"(G464+G465+G466+G467+G468)*100000","v":{"v":62.5,"d":"62.500000"}},{"v":1.56E-4,"d":"0.000156"},null,{"$f":"5651/2","v":2825.5},{"$f":"5/2","v":{"v":2.5,"d":"3"}},{"$f":"F464*J464/I464","v":0.055299946912050965},{"$nulls":3},0,{"$f":"F464/100000","v":0.000625},{"$f":"Q460-Q460*P460","v":99253.1034688},{"$f":"Q464*5*O464","v":0},null,0,{"$f":"F464/100000","v":0.000625},{"$f":"V460-V460*U460","v":99253.1034688},0]
[{"$nulls":3},6,-12,null,0.000139,{"$nulls":7},0,null,null,0,null,0,null,null,0]
[{"$nulls":3},7,-11,null,{"v":1.25E-4,"d":"0.000125"},{"$nulls":7},0,null,null,0,null,0,null,null,0]
[{"$nulls":3},8,-10,null,{"v":1.1E-4,"d":"0.000110"},{"$nulls":7},0,null,null,0,null,0,null,null,0]
[{"$nulls":3},9,-9,null,{"v":9.5e-05,"d":"0.000095"},{"$nulls":7},0,null,null,0,null,0,null,null,0]
[{"$nulls":3},10,-8,{"$f":"(G469+G470+G471+G472+G473)*100000","v":{"v":75.1,"d":"75.100000"}},{"v":8.5e-05,"d":"0.000085"},null,{"$f":"5651/2","v":2825.5},{"$f":"5/2","v":{"v":2.5,"d":"3"}},{"$f":"F469*J469/I469","v":0.06644841620952044},{"$nulls":3},0,{"$f":"F469/100000","v":7.5099999999999993E-4},{"$f":"Q464-Q464*P464","v":99191.070279132},{"$f":"Q469*5*O469","v":0},null,0,{"$f":"F469/100000","v":7.5099999999999993E-4},{"$f":"V464-V464*U464","v":99191.070279132},0]
[{"$nulls":3},11,-7,null,{"v":9.1e-05,"d":"0.000091"},{"$nulls":7},0,null,null,0,null,0,null,null,0]
[{"$nulls":3},12,-6,null,{"v":1.22E-4,"d":"0.000122"},{"$nulls":7},0,null,null,0,null,0,null,null,0]
[{"$nulls":3},13,-5,null,{"v":1.85E-4,"d":"0.000185"},{"$nulls":7},0,null,null,0,null,0,null,null,0]
[{"$nulls":3},14,-4,null,0.000268,{"$nulls":7},0,null,null,0,null,0,null,null,0]
[{"$nulls":3},15,-3,{"$f":"(G474+G475+G476+G477+G478)*100000","v":{"v":259.2,"d":"259.200000"}},0.000355,null,{"$f":"30416/2","v":15208},{"$f":"25/2","v":{"v":12.5,"d":"13"}},{"$f":"F474*J474/I474","v":0.2130457653866386},{"$nulls":3},0,{"$f":"F474/100000","v":2.5919999999999997E-3},{"$f":"Q469-Q469*P469","v":99116.57778535238},{"$f":"Q474*5*O474","v":0},null,0,{"$f":"F474/100000","v":2.5919999999999997E-3},{"$f":"V469-V469*U469","v":99116.57778535238},{"$f":"V474*T474*K474/100000","v":0}]
[{"$nulls":3},16,-2,null,0.000438,{"$nulls":7},0,null,null,0,null,0,null,null,0]
[{"$nulls":3},17,-1,null,{"v":0.00052,"d":"0.000520"},{"$nulls":7},0,null,null,0,null,0,null,null,0]
[{"$nulls":3},18,0,null,{"v":0.0006,"d":"0.000600"},{"$nulls":7},0,null,null,0,null,0,null,null,0]
[{"$nulls":3},19,1,null,0.000679,{"$nulls":7},0,null,null,0,null,0,null,null,0]
[{"$nulls":3},20,2,{"$f":"(G479+G480+G481+G482+G483)*100000","v":{"v":442.09999999999997,"d":"442.100000"}},0.000765,null,{"$f":"30416/2","v":15208},{"$f":"25/2","v":{"v":12.5,"d":"13"}},{"$f":"F479*J479/I479","v":0.363377827459232},{"$nulls":3},0,{"$f":"F479/100000","v":0.004421},{"$f":"Q474-Q474*P474","v":98859.66761573275},{"$f":"Q479*5*O479","v":0},null,0,{"$f":"F479/100000","v":0.004421},{"$f":"V474-V474*U474","v":98859.66761573275},0]
[{"$nulls":3},21,3,null,0.000848,{"$nulls":7},0,null,null,0,null,0,null,null,0]
[{"$nulls":3},22,4,null,0.000911,{"$nulls":7},0,null,null,0,null,0,null,null,0]
[{"$nulls":3},23,5,null,0.000944,{"$nulls":7},0,null,null,0,null,0,null,null,0]
[{"$nulls":3},24,6,null,0.000953,{"$nulls":7},0,null,null,0,null,0,null,null,0]
[{"$nulls":3},25,7,{"$f":"(G484+G485+G486+G487+G488)*100000","v":{"v":488.9000000000001,"d":"488.900000"}},0.000956,null,{"$f":"42502/2","v":21251},{"$f":"146/2","v":73},{"$f":"F484*J484/I484","v":1.6794362618229732},{"$nulls":3},0,{"$f":"F484/100000","v":4.889000000000001E-3},{"$f":"Q479-Q479*P479","v":98422.6090252036},{"$f":"Q484*5*O484","v":0},null,0,{"$f":"F484/100000","v":4.889000000000001E-3},{"$f":"V479-V479*U479","v":98422.6090252036},0]
[{"$nulls":3},26,8,null,0.000963,{"$nulls":7},0,null,null,0,null,0,null,null,0]
[{"$nulls":3},27,9,null,0.000972,{"$nulls":7},0,null,null,0,null,0,null,null,0]
[{"$nulls":3},28,10,null,0.000988,{"$nulls":7},0,null,null,0,null,0,null,null,0]
[{"$nulls":3},29,11,null,{"v":1.01E-3,"d":"0.001010"},{"$nulls":7},2.006e-10,null,null,0,null,0.0002891,null,null,0]
[{"$nulls":3},30,12,{"$f":"(G489+G490+G491+G492+G493)*100000","v":{"v":557.3,"d":"557.300000"}},0.001038,null,{"$f":"42502/2","v":21251},{"$f":"146/2","v":73},{"$f":"F489*J489/I489","v":1.9143993223848286},{"$nulls":3},1.6048e-09,{"$f":"F489/100000","v":0.005573},{"$f":"Q484-Q484*P484","v":97941.42088967937},{"$f":"Q489*5*O489","v":7.8588196121878728E-4},null,0.0005782,{"$f":"F489/100000","v":0.005573},{"$f":"V484-V484*U484","v":97941.42088967937},0.001084119158934612]
[{"$nulls":3},31,13,null,{"v":1.07E-3,"d":"0.001070"},{"$nulls":7},5.4162e-09,null,null,0,null,8.6729999999999989E-4,null,null,0]
[{"$nulls":3},32,14,null,{"v":1.111E-3,"d":"0.001111"},{"$nulls":7},{"$f":"IF($E491<10,0, IF(AND(OR($E491>10, $E491=10),$E491<10+$B$461),$B$459*$B$460*(($E491-10)^3), $B$459*$B$460*(($E491-10)^3-($E491-10-$B$461)^3)))","v":1.28384e-08},null,null,0,null,{"$f":"IF($E491<10,0, IF(AND(OR($E491>10, $E491=10),$E491<10+$B$461),$B$458*$B$460*(($E491-10)), $B$458*$B$460*(($E491-10)-($E491-10-$B$461))))","v":0.0011564},null,null,0]
[{"$nulls":3},33,15,null,{"v":1.152E-3,"d":"0.001152"},{"$nulls":7},2.5075e-08,null,null,0,null,1.4455E-3,null,null,0]
[{"$nulls":3},34,16,null,0.001202,{"$nulls":7},4.33296e-08,null,null,0,null,1.7345999999999998E-3,null,null,0]
[{"$nulls":3},35,17,{"$f":"(G494+G495+G496+G497+G498)*100000","v":{"v":718.3000000000001,"d":"718.300000"}},0.001262,null,{"$f":"74665/2","v":37332.5},{"$f":"1517/2","v":{"v":758.5,"d":"759"}},{"$f":"F494*J494/I494","v":14.59400120538405},{"$nulls":3},6.88058e-08,{"$f":"F494/100000","v":7.183000000000001E-3},{"$f":"Q489-Q489*P489","v":97395.5933510612},{"$f":"Q494*5*O494","v":0.03350690858497223},null,0.0020237,{"$f":"F494/100000","v":7.183000000000001E-3},{"$f":"V489-V489*U489","v":97395.5933510612},0.028764697898692817]
[{"$nulls":3},36,18,null,{"v":1.335E-3,"d":"0.001335"},{"$nulls":7},1.027072e-07,null,null,0,null,0.0023128,null,null,0]
[{"$nulls":3},37,19,null,{"v":1.421E-3,"d":"0.001421"},{"$nulls":7},1.462374e-07,null,null,0,null,0.0026019,null,null,0]
[{"$nulls":3},38,20,null,0.001522,{"$nulls":7},2.006e-07,null,null,0,null,0.002891,null,null,0]
[{"$nulls":3},39,21,null,0.001643,{"$nulls":7},2.669986E-7,null,null,0,null,0.0031801,null,null,0]
[{"$nulls":3},40,22,{"$f":"(G499+G500+G501+G502+G503)*100000","v":{"v":1072.5,"d":"1,072.500000"}},0.001778,null,{"$f":"74665/2","v":37332.5},{"$f":"1517/2","v":{"v":758.5,"d":"759"}},{"$f":"F499*J499/I499","v":21.790430589968526},{"$nulls":3},3.466368e-07,{"$f":"F499/100000","v":0.010725},{"$f":"Q494-Q494*P494","v":96696.00080402053},{"$f":"Q499*5*O499","v":0.16759196145751554},null,3.4691999999999995E-3,{"$f":"F499/100000","v":0.010725},{"$f":"V494-V494*U494","v":96696.00080402053},0.0730976916565592]
[{"$nulls":3},41,23,null,{"v":1.933E-3,"d":"0.001933"},{"$nulls":7},4.4071820000000003E-7,null,null,0,null,3.7582999999999996E-3,null,null,0]
[{"$nulls":3},42,24,null,0.002118,{"$nulls":7},5.504464e-07,null,null,0,null,0.0040474,null,null,0]
[{"$nulls":3},43,25,null,0.002332,{"$nulls":7},6.77025e-07,null,null,0,null,0.0043365,null,null,0]
[{"$nulls":3},44,26,null,0.002564,{"$nulls":7},8.216576e-07,null,null,0,null,0.0046256,null,null,0]
[{"$nulls":3},45,27,{"$f":"(G504+G505+G506+G507+G508)*100000","v":{"v":1666.5,"d":"1,666.500000"}},0.002796,null,{"$f":"187568/2","v":{"v":93784,"d":"93,784"}},{"$f":"12488/2","v":{"v":6244,"d":"6,244"}},{"$f":"F504*J504/I504","v":110.9531050072507},{"$nulls":3},9.855478e-07,{"$f":"F504/100000","v":0.016665},{"$f":"Q499-Q499*P499","v":95658.93619539741},{"$f":"Q504*5*O504","v":0.4713822705885715},null,0.004914699999999999,{"$f":"F504/100000","v":0.016665},{"$f":"V499-V499*U499","v":95658.93619539741},0.5216293510668291]
[{"$nulls":3},46,28,null,0.003034,{"$nulls":7},1.1698992e-06,null,null,0,null,0.0052038,null,null,0]
[{"$nulls":3},47,29,null,{"v":3.297E-3,"d":"0.003297"},{"$nulls":7},1.3759154E-6,null,null,0,null,0.005492899999999999,null,null,0]
[{"$nulls":3},48,30,null,{"v":0.0036,"d":"0.003600"},{"$nulls":7},1.6048e-06,null,null,0,null,0.005782,null,null,0]
[{"$nulls":3},49,31,null,0.003938,{"$nulls":7},1.8577566000000001E-6,null,null,0,null,0.006071099999999999,null,null,0]
[{"$nulls":3},50,32,{"$f":"(G509+G510+G511+G512+G513)*100000","v":{"v":2526.4,"d":"2,526.400000"}},0.004306,null,{"$f":"187568/2","v":{"v":93784,"d":"93,784"}},{"$f":"12488/2","v":{"v":6244,"d":"6,244"}},{"$f":"F509*J509/I509","v":168.2039750917001},{"$nulls":3},2.1359888E-6,{"$f":"F509/100000","v":0.025264},{"$f":"Q504-Q504*P504","v":94064.78002370111},{"$f":"Q509*5*O509","v":1.0046065830254467},null,0.0063602,{"$f":"F509/100000","v":0.025264},{"$f":"V504-V504*U504","v":94064.78002370111},1.006315290804611]
[{"$nulls":3},51,33,null,0.004682,{"$nulls":7},2.4407002e-06,null,null,0,null,6.6492999999999995E-3,null,null,0]
[{"$nulls":3},52,34,null,{"v":5.058E-3,"d":"0.005058"},{"$nulls":7},2.7730944e-06,null,null,0,null,0.006938399999999999,null,null,0]
[{"$nulls":3},53,35,null,{"v":5.424E-3,"d":"0.005424"},{"$nulls":7},3.134375E-6,null,null,0,null,7.2274999999999995E-3,null,null,0]
[{"$nulls":3},54,36,null,0.005794,{"$nulls":7},3.5257456000000002E-6,null,null,0,null,0.007516599999999999,null,null,0]
[{"$nulls":3},55,37,{"$f":"(G514+G515+G516+G517+G518)*100000","v":{"v":3574.5,"d":"3,574.500000"}},0.006186,null,{"$f":"303307/2","v":{"v":151653.5,"d":"151,654"}},{"$f":"30964/2","v":{"v":15482,"d":"15,482"}},{"$f":"F514*J514/I514","v":364.9134968859934},{"$nulls":3},3.9484098e-06,{"$f":"F514/100000","v":0.035745},{"$f":"Q509-Q509*P509","v":91688.32742118233},{"$f":"Q514*5*O514","v":1.8101154526770251},null,0.0078057,{"$f":"F514/100000","v":0.035745},{"$f":"V509-V509*U509","v":91688.32742118233},2.6116551618319663]
[{"$nulls":3},56,38,null,0.006622,{"$nulls":7},4.4035712e-06,null,null,0,null,0.0080948,null,null,0]
[{"$nulls":3},57,39,null,0.007102,{"$nulls":7},4.8924334E-6,null,null,0,null,0.0083839,null,null,0]
[{"$nulls":3},58,40,null,{"v":0.00763,"d":"0.007630"},{"$nulls":7},5.4162e-06,null,null,0,null,0.008673,null,null,0]
[{"$nulls":3},59,41,null,0.008205,{"$nulls":7},5.975874e-06,null,null,0,null,0.008673,null,null,0]
[{"$nulls":3},60,42,{"$f":"(G519+G520+G521+G522+G523)*100000","v":{"v":5144.400000000001,"d":"5,144.400000"}},0.008826,null,{"$f":"303307/2","v":{"v":151653.5,"d":"151,654"}},{"$f":"30964/2","v":{"v":15482,"d":"15,482"}},{"$f":"F519*J519/I519","v":525.1814221234591},{"$nulls":3},6.5716560000000006E-6,{"$f":"F519/100000","v":0.051444000000000004},{"$f":"Q514-Q514*P514","v":88410.92815751217},{"$f":"Q519*5*O519","v":2.9050310324594193},null,0.008673,{"$f":"F519/100000","v":0.051444000000000004},{"$f":"V514-V514*U514","v":88410.92815751217},4.027028017563624]
[{"$nulls":3},61,43,null,{"v":9.495E-3,"d":"0.009495"},{"$nulls":7},7.2035460000000006E-6,null,null,0,null,0.008673,null,null,0]
[{"$nulls":3},62,44,null,0.010217,{"$nulls":7},7.8715440000000012E-6,null,null,0,null,0.008673,null,null,0]
[{"$nulls":3},63,45,null,{"v":0.01101,"d":"0.011010"},{"$nulls":7},8.57565e-06,null,null,0,null,0.008673,null,null,0]
[{"$nulls":3},64,46,null,0.011896,{"$nulls":7},{"$f":"IF($E523<10,0, IF(AND(OR($E523>10, $E523=10),$E523<10+$B$461),$B$459*$B$460*(($E523-10)^3), $B$459*$B$460*(($E523-10)^3-($E523-10-$B$461)^3)))","v":9.315864e-06},null,null,0,null,{"$f":"IF($E523<10,0, IF(AND(OR($E523>10, $E523=10),$E523<10+$B$461),$B$458*$B$460*(($E523-10)), $B$458*$B$460*(($E523-10)-($E523-10-$B$461))))","v":0.008673},null,null,0]
[{"$nulls":3},65,{"$f":"D524-$P$51","v":47},{"$f":"(G524+G525+G526+G527+G528)*100000","v":{"v":7712.8,"d":"7,712.800000"}},0.012923,null,{"$f":"401032/2","v":{"v":200516,"d":"200,516"}},{"$f":"48536/2","v":{"v":24268,"d":"24,268"}},{"$f":"F524*J524/I524","v":933.4628179297413},{"$nulls":3},1.0092186E-5,{"$f":"F524/100000","v":0.077128},{"$f":"Q519-Q519*P519","v":83862.71636937711},{"$f":"Q524*5*O524","v":4.231790660324992},null,0.008673,{"$f":"F524/100000","v":0.077128},{"$f":"V519-V519*U519","v":83862.71636937711},6.789460959665744]
[{"$nulls":3},66,48,null,0.014095,{"$nulls":7},1.0904616000000001E-5,null,null,{"$f":"Q525*O525","v":0},null,0.008673,null,null,{"$f":"V525*T525*K525/100000","v":0}]
[{"$nulls":3},67,49,null,0.015356,{"$nulls":7},1.1753154E-5,null,null,0,null,0.008673,null,null,0]
[{"$nulls":3},68,50,null,0.016682,{"$nulls":7},1.2637800000000001E-5,null,null,0,null,0.008673,null,null,0]
[{"$nulls":3},69,51,null,0.018072,{"$nulls":7},1.3558554E-5,null,null,0,null,0.008673,null,null,0]
[{"$nulls":3},70,52,{"$f":"(G529+G530+G531+G532+G533)*100000","v":{"v":11861.8,"d":"11,861.800000"}},{"v":0.01963,"d":"0.019630"},null,{"$f":"401032/2","v":{"v":200516,"d":"200,516"}},{"$f":"48536/2","v":{"v":24268,"d":"24,268"}},{"$f":"F529*J529/I529","v":1435.6069460791157},{"$nulls":3},1.4515416E-5,{"$f":"F529/100000","v":0.11861799999999999},{"$f":"Q524-Q524*P524","v":77394.55278123979},{"$f":"Q529*5*O529","v":5.617070648768263},null,0.008673,{"$f":"F529/100000","v":0.11861799999999999},{"$f":"V524-V524*U524","v":77394.55278123979},9.636410505303221]
[{"$nulls":3},71,53,null,{"v":0.02143,"d":"0.021430"},{"$nulls":7},1.5508386E-5,null,null,0,null,0.008673,null,null,0]
[{"$nulls":3},72,54,null,0.023431,{"$nulls":7},1.6537464E-5,null,null,0,null,0.008673,null,null,0]
[{"$nulls":3},73,55,null,0.025763,{"$nulls":7},1.760265E-5,null,null,0,null,0.008673,null,null,0]
[{"$nulls":3},74,56,null,0.028364,{"$nulls":7},1.8703944e-05,null,null,0,null,0.008673,null,null,0]
[{"$nulls":3},75,57,{"$f":"(G534+G535+G536+G537+G538)*100000","v":{"v":18984.100000000002,"d":"18,984.100000"}},{"v":0.03106,"d":"0.031060"},null,{"$f":"627727/2","v":{"v":313863.5,"d":"313,864"}},{"$f":"46860/2","v":{"v":23430,"d":"23,430"}},{"$f":"F534*J534/I534","v":1417.1684920355506},{"$nulls":3},1.9841346000000002E-5,{"$f":"F534/100000","v":0.189841},{"$f":"Q529-Q529*P529","v":68214.16571943469},{"$f":"Q534*5*O534","v":6.7673043207032135},null,0.008673,{"$f":"F534/100000","v":0.189841},{"$f":"V529-V529*U529","v":68214.16571943469},8.384272913103095]
[{"$nulls":3},76,58,null,0.034041,{"$nulls":7},2.1014856e-05,null,null,0,null,0.008673,null,null,0]
[{"$nulls":3},77,59,null,0.037491,{"$nulls":7},2.2224474000000003E-5,null,null,0,null,0.008673,null,null,0]
[{"$nulls":3},78,60,null,0.041456,{"$nulls":7},2.34702e-05,null,null,0,null,0.008673,null,null,0]
[{"$nulls":3},79,61,null,0.045793,{"$nulls":7},2.4752034000000003E-5,null,null,0,null,0.008673,null,null,0]
[{"$nulls":3},80,62,{"$f":"(G539+G540+G541+G542+G543)*100000","v":{"v":31110.699999999997,"d":"31,110.700000"}},0.050433,null,{"$f":"627727/2","v":{"v":313863.5,"d":"313,864"}},{"$f":"46860/2","v":{"v":23430,"d":"23,430"}},{"$f":"F539*J539/I539","v":2322.422648699195},{"$nulls":3},2.6069976E-5,{"$f":"F539/100000","v":0.31110699999999997},{"$f":"Q534-Q534*P534","v":55264.32028509149},{"$f":"Q539*5*O539","v":7.203697517443242},null,0.008673,{"$f":"F539/100000","v":0.31110699999999997},{"$f":"V534-V534*U534","v":55264.32028509149},{"$f":"V539*T539*K539/100000","v":11.1315447718148}]
[{"$nulls":3},81,63,null,0.055465,{"$nulls":7},2.7424026e-05,null,null,0,null,0.008673,null,null,0]
[{"$nulls":3},82,64,null,0.061442,{"$nulls":7},2.8814184000000002E-5,null,null,0,null,0.008673,null,null,0]
[{"$nulls":3},83,65,null,0.068173,{"$nulls":7},3.0240450000000003E-5,null,null,0,null,0.008673,null,null,0]
[{"$nulls":3},84,66,null,0.075594,{"$nulls":7},3.1702824e-05,null,null,0,null,0.008673,null,null,0]
[{"$nulls":3},85,67,100000,null,null,{"v":733178,"d":"733,178"},{"v":17605,"d":"17,605"},{"$f":"F544*J544/I544","v":2401.1904339737416},{"$nulls":3},3.3201306E-5,{"$f":"F544/100000","v":1},{"$f":"Q539-Q539*P539","v":38071.203394157536},{"$f":"Q544*6.5*O544","v":8.21608887890481},null,0.008673,{"$f":"F544/100000","v":1},{"$f":"V539-V539*U539","v":38071.203394157536},{"$f":"V544*T544*K544/100000*3.5","v":27.74984744439263}]
{"$rows_empty":36}
[{"$nulls":17},{"$f":"SUM(R459:R578)/100000*1000000","v":384.2897211689869},{"$nulls":4},{"$f":"SUM(W459:W578)/100000*1000000","v":719.6111092426071}]
[]
[]
["NICHOLSON CALCULATIONS:",3]
[]
["PARAMETERS:",{"$nulls":4},"Both genders",{"$nulls":14},"LUNG CANCER CALCULATIONS"]
["Kl",{"$f":"0.29*10^(-2)","v":0.0029},null,"AGE","AGE CORRECTED ON ONSET TIME","Death Rate per 100,000",null,null,"Number of death","Number of lung cancer deaths","Lung cancer death rate, per 100,000",{"$nulls":4},"MESOTHELIOMA CALCULATIONS",{"$nulls":3},"Asbestos RR of Lung Cancer-1)","Probability of Death Corrected for Asb.-Related Lung Cancer","Number of Survivals From 100,000 Corrected for Asbestos-Related Lung Cancer","Number of Lung Cancer Cases in Surviving Population (Original 100000)"]
["Km",{"$f":"0.14*10^(-8)","v":1.4000000000000001E-9},null,0,{"$f":"D588-$P$51","v":-18},637.2,null,null,26412,4,{"$f":"F588*J588/I588","v":0.09650159018627898},{"$nulls":3},{"$f":"IF($E588<10,0, IF(AND(OR($E588>10, $E588=10),$E588<10+$B$590),$B$588*$B$589*(($E588-10)^3), $B$588*$B$589*(($E588-10)^3-($E588-10-$B$590)^3)))","v":0},{"$f":"F588/100000","v":0.006372},{"$f":"100000","v":100000},{"$f":"Q588*O588","v":0},null,{"$f":"IF($E588<10,0,IF(AND(OR($E588>10,$E588=10),$E588<10+$B$590),$B$587*$B$589*(($E588-10)),$B$587*$B$589*(($E588-10)-($E588-10-$B$590))))","v":0},{"$f":"F588/100000","v":0.006372},{"$f":"100000","v":100000},{"$f":"V588*T588*K588/100000","v":0}]
["f",{"$f":"N54*2.8","v":{"v":0.1,"d":"1.00E-01"}},null,1,{"$f":"D589-$P$51","v":-17},{"$f":"(G589+G590+G591+G592)*100000","v":{"v":110.39999999999999,"d":"110.400000"}},0.000429,null,4450,3,{"$f":"F589*J589/I589","v":0.07442696629213483},{"$nulls":3},0,{"$f":"F589/100000","v":0.001104},{"$f":"Q588-Q588*P588","v":99362.8},{"$f":"Q589*4*O589","v":0},null,0,{"$f":"F589/100000","v":0.001104},{"$f":"V588-V588*U588","v":99362.8},{"$f":"V589*T589*K589/100000","v":0}]
["d",{"$f":"$I$51","v":30},null,2,-16,null,0.000288,{"$nulls":7},0,null,null,{"$f":"Q590*O590","v":0},null,0,null,null,0]
[{"$nulls":3},3,-15,null,0.000219,{"$nulls":7},0,null,null,0,null,0,null,null,0]
[{"$nulls":3},4,-14,null,0.000168,{"$nulls":7},0,null,null,0,null,0,null,null,0]
[{"$nulls":3},5,-13,{"$f":"(G593+G594+G595+G596+G597)*100000","v":{"v":62.5,"d":"62.500000"}},{"v":1.56E-4,"d":"0.000156"},null,{"$f":"5651/2","v":2825.5},{"$f":"5/2","v":{"v":2.5,"d":"3"}},{"$f":"F593*J593/I593","v":0.055299946912050965},{"$nulls":3},0,{"$f":"F593/100000","v":0.000625},{"$f":"Q589-Q589*P589","v":99253.1034688},{"$f":"Q593*5*O593","v":0},null,0,{"$f":"F593/100000","v":0.000625},{"$f":"V589-V589*U589","v":99253.1034688},0]
[{"$nulls":3},6,-12,null,0.000139,{"$nulls":7},0,null,null,0,null,0,null,null,0]
[{"$nulls":3},7,-11,null,{"v":1.25E-4,"d":"0.000125"},{"$nulls":7},0,null,null,0,null,0,null,null,0]
[{"$nulls":3},8,-10,null,{"v":1.1E-4,"d":"0.000110"},{"$nulls":7},0,null,null,0,null,0,null,null,0]
[{"$nulls":3},9,-9,null,{"v":9.5e-05,"d":"0.000095"},{"$nulls":7},0,null,null,0,null,0,null,null,0]
[{"$nulls":3},10,-8,{"$f":"(G598+G599+G600+G601+G602)*100000","v":{"v":75.1,"d":"75.100000"}},{"v":8.5e-05,"d":"0.000085"},null,{"$f":"5651/2","v":2825.5},{"$f":"5/2","v":{"v":2.5,"d":"3"}},{"$f":"F598*J598/I598","v":0.06644841620952044},{"$nulls":3},0,{"$f":"F598/100000","v":7.5099999999999993E-4},{"$f":"Q593-Q593*P593","v":99191.070279132},{"$f":"Q598*5*O598","v":0},null,0,{"$f":"F598/100000","v":7.5099999999999993E-4},{"$f":"V593-V593*U593","v":99191.070279132},0]
[{"$nulls":3},11,-7,null,{"v":9.1e-05,"d":"0.000091"},{"$nulls":7},0,null,null,0,null,0,null,null,0]
[{"$nulls":3},12,-6,null,{"v":1.22E-4,"d":"0.000122"},{"$nulls":7},0,null,null,0,null,0,null,null,0]
[{"$nulls":3},13,-5,null,{"v":1.85E-4,"d":"0.000185"},{"$nulls":7},0,null,null,0,null,0,null,null,0]
[{"$nulls":3},14,-4,null,0.000268,{"$nulls":7},0,null,null,0,null,0,null,null,0]
[{"$nulls":3},15,-3,{"$f":"(G603+G604+G605+G606+G607)*100000","v":{"v":259.2,"d":"259.200000"}},0.000355,null,{"$f":"30416/2","v":15208},{"$f":"25/2","v":{"v":12.5,"d":"13"}},{"$f":"F603*J603/I603","v":0.2130457653866386},{"$nulls":3},0,{"$f":"F603/100000","v":2.5919999999999997E-3},{"$f":"Q598-Q598*P598","v":99116.57778535238},{"$f":"Q603*5*O603","v":0},null,0,{"$f":"F603/100000","v":2.5919999999999997E-3},{"$f":"V598-V598*U598","v":99116.57778535238},{"$f":"V603*T603*K603/100000","v":0}]
[{"$nulls":3},16,-2,null,0.000438,{"$nulls":7},0,null,null,0,null,0,null,null,0]
[{"$nulls":3},17,-1,null,{"v":0.00052,"d":"0.000520"},{"$nulls":7},0,null,null,0,null,0,null,null,0]
[{"$nulls":3},18,0,null,{"v":0.0006,"d":"0.000600"},{"$nulls":7},0,null,null,0,null,0,null,null,0]
[{"$nulls":3},19,1,null,0.000679,{"$nulls":7},0,null,null,0,null,0,null,null,0]
[{"$nulls":3},20,2,{"$f":"(G608+G609+G610+G611+G612)*100000","v":{"v":442.09999999999997,"d":"442.100000"}},0.000765,null,{"$f":"30416/2","v":15208},{"$f":"25/2","v":{"v":12.5,"d":"13"}},{"$f":"F608*J608/I608","v":0.363377827459232},{"$nulls":3},0,{"$f":"F608/100000","v":0.004421},{"$f":"Q603-Q603*P603","v":98859.66761573275},{"$f":"Q608*5*O608","v":0},null,0,{"$f":"F608/100000","v":0.004421},{"$f":"V603-V603*U603","v":98859.66761573275},0]
[{"$nulls":3},21,3,null,0.000848,{"$nulls":7},0,null,null,0,null,0,null,null,0]
[{"$nulls":3},22,4,null,0.000911,{"$nulls":7},0,null,null,0,null,0,null,null,0]
[{"$nulls":3},23,5,null,0.000944,{"$nulls":7},0,null,null,0,null,0,null,null,0]
[{"$nulls":3},24,6,null,0.000953,{"$nulls":7},0,null,null,0,null,0,null,null,0]
[{"$nulls":3},25,7,{"$f":"(G613+G614+G615+G616+G617)*100000","v":{"v":488.9000000000001,"d":"488.900000"}},0.000956,null,{"$f":"42502/2","v":21251},{"$f":"146/2","v":73},{"$f":"F613*J613/I613","v":1.6794362618229732},{"$nulls":3},0,{"$f":"F613/100000","v":4.889000000000001E-3},{"$f":"Q608-Q608*P608","v":98422.6090252036},{"$f":"Q613*5*O613","v":0},null,0,{"$f":"F613/100000","v":4.889000000000001E-3},{"$f":"V608-V608*U608","v":98422.6090252036},0]
[{"$nulls":3},26,8,null,0.000963,{"$nulls":7},0,null,null,0,null,0,null,null,0]
[{"$nulls":3},27,9,null,0.000972,{"$nulls":7},0,null,null,0,null,0,null,null,0]
[{"$nulls":3},28,10,null,0.000988,{"$nulls":7},0,null,null,0,null,0,null,null,0]
[{"$nulls":3},29,11,null,{"v":1.01E-3,"d":"0.001010"},{"$nulls":7},1.4000000000000003E-10,null,null,0,null,2.9E-4,null,null,0]
[{"$nulls":3},30,12,{"$f":"(G618+G619+G620+G621+G622)*100000","v":{"v":557.3,"d":"557.300000"}},0.001038,null,{"$f":"42502/2","v":21251},{"$f":"146/2","v":73},{"$f":"F618*J618/I618","v":1.9143993223848286},{"$nulls":3},1.1200000000000003E-9,{"$f":"F618/100000","v":0.005573},{"$f":"Q613-Q613*P613","v":97941.42088967937},{"$f":"Q618*5*O618","v":5.4847195698220455E-4},null,5.8E-4,{"$f":"F618/100000","v":0.005573},{"$f":"V613-V613*U613","v":97941.42088967937},1.0874941407507351E-3]
[{"$nulls":3},31,13,null,{"v":1.07E-3,"d":"0.001070"},{"$nulls":7},3.7800000000000006E-9,null,null,0,null,0.00087,null,null,0]
[{"$nulls":3},32,14,null,{"v":1.111E-3,"d":"0.001111"},{"$nulls":7},{"$f":"IF($E620<10,0, IF(AND(OR($E620>10, $E620=10),$E620<10+$B$590),$B$588*$B$589*(($E620-10)^3), $B$588*$B$589*(($E620-10)^3-($E620-10-$B$590)^3)))","v":8.9600000000000021E-9},null,null,0,null,{"$f":"IF($E620<10,0,IF(AND(OR($E620>10,$E620=10),$E620<10+$B$590),$B$587*$B$589*(($E620-10)),$B$587*$B$589*(($E620-10)-($E620-10-$B$590))))","v":1.16E-3},null,null,0]
[{"$nulls":3},33,15,null,{"v":1.152E-3,"d":"0.001152"},{"$nulls":7},1.7500000000000005E-8,null,null,0,null,0.00145,null,null,0]
[{"$nulls":3},34,16,null,0.001202,{"$nulls":7},3.0240000000000005E-8,null,null,0,null,1.74E-3,null,null,0]
[{"$nulls":3},35,17,{"$f":"(G623+G624+G625+G626+G627)*100000","v":{"v":718.3000000000001,"d":"718.300000"}},0.001262,null,{"$f":"74665/2","v":37332.5},{"$f":"1517/2","v":{"v":758.5,"d":"759"}},{"$f":"F623*J623/I623","v":14.59400120538405},{"$nulls":3},4.8020000000000009E-8,{"$f":"F623/100000","v":7.183000000000001E-3},{"$f":"Q618-Q618*P618","v":97395.5933510612},{"$f":"Q623*5*O623","v":0.0233846819635898},null,0.00203,{"$f":"F623/100000","v":7.183000000000001E-3},{"$f":"V618-V618*U618","v":97395.5933510612},0.028854245557318983]
[{"$nulls":3},36,18,null,{"v":1.335E-3,"d":"0.001335"},{"$nulls":7},7.1680000000000017E-8,null,null,0,null,2.32E-3,null,null,0]
[{"$nulls":3},37,19,null,{"v":1.421E-3,"d":"0.001421"},{"$nulls":7},1.0206000000000003E-7,null,null,0,null,0.00261,null,null,0]
[{"$nulls":3},38,20,null,0.001522,{"$nulls":7},1.4000000000000004E-7,null,null,0,null,0.0029,null,null,0]
[{"$nulls":3},39,21,null,0.001643,{"$nulls":7},1.8634000000000004E-7,null,null,0,null,0.00319,null,null,0]
[{"$nulls":3},40,22,{"$f":"(G628+G629+G630+G631+G632)*100000","v":{"v":1072.5,"d":"1,072.500000"}},0.001778,null,{"$f":"74665/2","v":37332.5},{"$f":"1517/2","v":{"v":758.5,"d":"759"}},{"$f":"F628*J628/I628","v":21.790430589968526},{"$nulls":3},2.4192000000000004E-7,{"$f":"F628/100000","v":0.010725},{"$f":"Q623-Q623*P623","v":96696.00080402053},{"$f":"Q628*5*O628","v":0.11696348257254326},null,3.48E-3,{"$f":"F628/100000","v":0.010725},{"$f":"V623-V623*U623","v":96696.00080402053},0.07332525278589473]
[{"$nulls":3},41,23,null,{"v":1.933E-3,"d":"0.001933"},{"$nulls":7},3.0758000000000006E-7,null,null,0,null,0.00377,null,null,0]
[{"$nulls":3},42,24,null,0.002118,{"$nulls":7},3.8416000000000007E-7,null,null,0,null,0.00406,null,null,0]
[{"$nulls":3},43,25,null,0.002332,{"$nulls":7},4.7250000000000013E-7,null,null,0,null,0.00435,null,null,0]
[{"$nulls":3},44,26,null,0.002564,{"$nulls":7},5.7344000000000014E-7,null,null,0,null,4.64E-3,null,null,0]
[{"$nulls":3},45,27,{"$f":"(G633+G634+G635+G636+G637)*100000","v":{"v":1666.5,"d":"1,666.500000"}},0.002796,null,{"$f":"187568/2","v":{"v":93784,"d":"93,784"}},{"$f":"12488/2","v":{"v":6244,"d":"6,244"}},{"$f":"F633*J633/I633","v":110.9531050072507},{"$nulls":3},6.8782000000000013E-7,{"$f":"F633/100000","v":0.016665},{"$f":"Q628-Q628*P628","v":95658.93619539741},{"$f":"Q633*5*O633","v":0.3289806474695913},null,0.00493,{"$f":"F633/100000","v":0.016665},{"$f":"V628-V628*U628","v":95658.93619539741},0.5232532404336924]
[{"$nulls":3},46,28,null,0.003034,{"$nulls":7},8.1648000000000023E-7,null,null,0,null,0.00522,null,null,0]
[{"$nulls":3},47,29,null,{"v":3.297E-3,"d":"0.003297"},{"$nulls":7},9.6026000000000031E-7,null,null,0,null,0.00551,null,null,0]
[{"$nulls":3},48,30,null,{"v":0.0036,"d":"0.003600"},{"$nulls":7},1.1200000000000003E-6,null,null,0,null,0.0058,null,null,0]
[{"$nulls":3},49,31,null,0.003938,{"$nulls":7},1.2965400000000003E-6,null,null,0,null,0.00609,null,null,0]
[{"$nulls":3},50,32,{"$f":"(G638+G639+G640+G641+G642)*100000","v":{"v":2526.4,"d":"2,526.400000"}},0.004306,null,{"$f":"187568/2","v":{"v":93784,"d":"93,784"}},{"$f":"12488/2","v":{"v":6244,"d":"6,244"}},{"$f":"F638*J638/I638","v":168.2039750917001},{"$nulls":3},1.4907200000000003E-6,{"$f":"F638/100000","v":0.025264},{"$f":"Q633-Q633*P633","v":94064.78002370111},{"$f":"Q638*5*O638","v":0.7011212443846588},null,0.00638,{"$f":"F638/100000","v":0.025264},{"$f":"V633-V633*U633","v":94064.78002370111},1.0094480606480012]
[{"$nulls":3},51,33,null,0.004682,{"$nulls":7},1.7033800000000004E-6,null,null,0,null,0.00667,null,null,0]
[{"$nulls":3},52,34,null,{"v":5.058E-3,"d":"0.005058"},{"$nulls":7},1.9353600000000003E-6,null,null,0,null,6.96E-3,null,null,0]
[{"$nulls":3},53,35,null,{"v":5.424E-3,"d":"0.005424"},{"$nulls":7},2.1875000000000007E-6,null,null,0,null,0.00725,null,null,0]
[{"$nulls":3},54,36,null,0.005794,{"$nulls":7},2.4606400000000005E-6,null,null,0,null,0.00754,null,null,0]
[{"$nulls":3},55,37,{"$f":"(G643+G644+G645+G646+G647)*100000","v":{"v":3574.5,"d":"3,574.500000"}},0.006186,null,{"$f":"303307/2","v":{"v":151653.5,"d":"151,654"}},{"$f":"30964/2","v":{"v":15482,"d":"15,482"}},{"$f":"F643*J643/I643","v":364.9134968859934},{"$nulls":3},2.7556200000000005E-6,{"$f":"F643/100000","v":0.035745},{"$f":"Q638-Q638*P638","v":91688.32742118233},{"$f":"Q643*5*O643","v":1.2632909440417923},null,0.00783,{"$f":"F643/100000","v":0.035745},{"$f":"V638-V638*U638","v":91688.32742118233},2.619785530720409]
[{"$nulls":3},56,38,null,0.006622,{"$nulls":7},3.0732800000000006E-6,null,null,0,null,0.00812,null,null,0]
[{"$nulls":3},57,39,null,0.007102,{"$nulls":7},3.4144600000000007E-6,null,null,0,null,0.00841,null,null,0]
[{"$nulls":3},58,40,null,{"v":0.00763,"d":"0.007630"},{"$nulls":7},3.7800000000000011E-6,null,null,0,null,0.0087,null,null,0]
[{"$nulls":3},59,41,null,0.008205,{"$nulls":7},4.1706000000000012E-6,null,null,0,null,0.0087,null,null,0]
[{"$nulls":3},60,42,{"$f":"(G648+G649+G650+G651+G652)*100000","v":{"v":5144.400000000001,"d":"5,144.400000"}},0.008826,null,{"$f":"303307/2","v":{"v":151653.5,"d":"151,654"}},{"$f":"30964/2","v":{"v":15482,"d":"15,482"}},{"$f":"F648*J648/I648","v":525.1814221234591},{"$nulls":3},4.5864000000000007E-6,{"$f":"F648/100000","v":0.051444000000000004},{"$f":"Q643-Q643*P643","v":88410.92815751217},{"$f":"Q648*5*O648","v":2.0274394045080695},null,0.0087,{"$f":"F648/100000","v":0.051444000000000004},{"$f":"V643-V643*U643","v":88410.92815751217},4.039564597348497]
[{"$nulls":3},61,43,null,{"v":9.495E-3,"d":"0.009495"},{"$nulls":7},5.0274000000000012E-6,null,null,0,null,0.0087,null,null,0]
[{"$nulls":3},62,44,null,0.010217,{"$nulls":7},5.4936000000000011E-6,null,null,0,null,0.0087,null,null,0]
[{"$nulls":3},63,45,null,{"v":0.01101,"d":"0.011010"},{"$nulls":7},5.9850000000000011E-6,null,null,0,null,0.0087,null,null,0]
[{"$nulls":3},64,46,null,0.011896,{"$nulls":7},{"$f":"IF($E652<10,0, IF(AND(OR($E652>10, $E652=10),$E652<10+$B$590),$B$588*$B$589*(($E652-10)^3), $B$588*$B$589*(($E652-10)^3-($E652-10-$B$590)^3)))","v":6.5016000000000014E-6},null,null,0,null,{"$f":"IF($E652<10,0,IF(AND(OR($E652>10,$E652=10),$E652<10+$B$590),$B$587*$B$589*(($E652-10)),$B$587*$B$589*(($E652-10)-($E652-10-$B$590))))","v":0.0087},null,null,0]
[{"$nulls":3},65,{"$f":"D653-$P$51","v":47},{"$f":"(G653+G654+G655+G656+G657)*100000","v":{"v":7712.8,"d":"7,712.800000"}},0.012923,null,{"$f":"401032/2","v":{"v":200516,"d":"200,516"}},{"$f":"48536/2","v":{"v":24268,"d":"24,268"}},{"$f":"F653*J653/I653","v":933.4628179297413},{"$nulls":3},7.0434000000000019E-6,{"$f":"F653/100000","v":0.077128},{"$f":"Q648-Q648*P648","v":83862.71636937711},{"$f":"Q653*5*O653","v":2.9533932823803544},null,0.0087,{"$f":"F653/100000","v":0.077128},{"$f":"V648-V648*U648","v":83862.71636937711},6.810597296101921]
[{"$nulls":3},66,48,null,0.014095,{"$nulls":7},7.6104000000000017E-6,null,null,{"$f":"Q654*O654","v":0},null,0.0087,null,null,{"$f":"V654*T654*K654/100000","v":0}]
[{"$nulls":3},67,49,null,0.015356,{"$nulls":7},8.2026000000000017E-6,null,null,0,null,0.0087,null,null,0]
[{"$nulls":3},68,50,null,0.016682,{"$nulls":7},8.820000000000002E-6,null,null,0,null,0.0087,null,null,0]
[{"$nulls":3},69,51,null,0.018072,{"$nulls":7},9.4626000000000015E-6,null,null,0,null,0.0087,null,null,0]
[{"$nulls":3},70,52,{"$f":"(G658+G659+G660+G661+G662)*100000","v":{"v":11861.8,"d":"11,861.800000"}},{"v":0.01963,"d":"0.019630"},null,{"$f":"401032/2","v":{"v":200516,"d":"200,516"}},{"$f":"48536/2","v":{"v":24268,"d":"24,268"}},{"$f":"F658*J658/I658","v":1435.6069460791157},{"$nulls":3},1.0130400000000002E-5,{"$f":"F658/100000","v":0.11861799999999999},{"$f":"Q653-Q653*P653","v":77394.55278123979},{"$f":"Q658*5*O658","v":3.920188887475359},null,0.0087,{"$f":"F658/100000","v":0.11861799999999999},{"$f":"V653-V653*U653","v":77394.55278123979},9.666409707844808]
[{"$nulls":3},71,53,null,{"v":0.02143,"d":"0.021430"},{"$nulls":7},1.0823400000000002E-5,null,null,0,null,0.0087,null,null,0]
[{"$nulls":3},72,54,null,0.023431,{"$nulls":7},1.1541600000000003E-5,null,null,0,null,0.0087,null,null,0]
[{"$nulls":3},73,55,null,0.025763,{"$nulls":7},1.2285000000000004E-5,null,null,0,null,0.0087,null,null,0]
[{"$nulls":3},74,56,null,0.028364,{"$nulls":7},1.3053600000000003E-5,null,null,0,null,0.0087,null,null,0]
[{"$nulls":3},75,57,{"$f":"(G663+G664+G665+G666+G667)*100000","v":{"v":18984.100000000002,"d":"18,984.100000"}},{"v":0.03106,"d":"0.031060"},null,{"$f":"627727/2","v":{"v":313863.5,"d":"313,864"}},{"$f":"46860/2","v":{"v":23430,"d":"23,430"}},{"$f":"F663*J663/I663","v":1417.1684920355506},{"$nulls":3},1.3847400000000004E-5,{"$f":"F663/100000","v":0.189841},{"$f":"Q658-Q658*P658","v":68214.16571943469},{"$f":"Q663*5*O663","v":4.7229441919165005},null,0.0087,{"$f":"F663/100000","v":0.189841},{"$f":"V658-V658*U658","v":68214.16571943469},8.410374074022474]
[{"$nulls":3},76,58,null,0.034041,{"$nulls":7},1.4666400000000004E-5,null,null,0,null,0.0087,null,null,0]
[{"$nulls":3},77,59,null,0.037491,{"$nulls":7},1.5510600000000004E-5,null,null,0,null,0.0087,null,null,0]
[{"$nulls":3},78,60,null,0.041456,{"$nulls":7},1.6380000000000002E-5,null,null,0,null,0.0087,null,null,0]
[{"$nulls":3},79,61,null,0.045793,{"$nulls":7},1.7274600000000006E-5,null,null,0,null,0.0087,null,null,0]
[{"$nulls":3},80,62,{"$f":"(G668+G669+G670+G671+G672)*100000","v":{"v":31110.699999999997,"d":"31,110.700000"}},0.050433,null,{"$f":"627727/2","v":{"v":313863.5,"d":"313,864"}},{"$f":"46860/2","v":{"v":23430,"d":"23,430"}},{"$f":"F668*J668/I668","v":2322.422648699195},{"$nulls":3},1.8194400000000003E-5,{"$f":"F668/100000","v":0.31110699999999997},{"$f":"Q663-Q663*P663","v":55264.32028509149},{"$f":"Q668*5*O668","v":5.027505744975344},null,0.0087,{"$f":"F668/100000","v":0.31110699999999997},{"$f":"V663-V663*U663","v":55264.32028509149},{"$f":"V668*T668*K668/100000","v":11.166198491270467}]
[{"$nulls":3},81,63,null,0.055465,{"$nulls":7},1.9139400000000005E-5,null,null,0,null,0.0087,null,null,0]
[{"$nulls":3},82,64,null,0.061442,{"$nulls":7},2.0109600000000005E-5,null,null,0,null,0.0087,null,null,0]
[{"$nulls":3},83,65,null,0.068173,{"$nulls":7},2.1105000000000005E-5,null,null,0,null,0.0087,null,null,0]
[{"$nulls":3},84,66,null,0.075594,{"$nulls":7},2.2125600000000004E-5,null,null,0,null,0.0087,null,null,0]
[{"$nulls":3},85,67,100000,null,null,{"v":733178,"d":"733,178"},{"v":17605,"d":"17,605"},{"$f":"F673*J673/I673","v":2401.1904339737416},{"$nulls":3},2.3171400000000007E-5,{"$f":"F673/100000","v":1},{"$f":"Q668-Q668*P668","v":38071.203394157536},{"$f":"Q673*6.5*O673","v":5.734060035127984},null,0.0087,{"$f":"F673/100000","v":1},{"$f":"V668-V668*U668","v":38071.203394157536},{"$f":"V673*T673*K673/100000*3.5","v":27.83623576227555}]
{"$rows_empty":36}
[{"$nulls":17},{"$f":"SUM(R588:R707)/100000*1000000","v":268.1982101877277},{"$nulls":4},{"$f":"SUM(W588:W707)/100000*1000000","v":721.8513375314978}]
[]
["NICHOLSON CALCULATIONS:",4]
[]
["PARAMETERS:",{"$nulls":4},"Both genders",{"$nulls":14},"LUNG CANCER CALCULATIONS"]
["Kl",{"$f":"7.7*10^(-2)","v":0.077},null,"AGE","AGE CORRECTED ON ONSET TIME","Death Rate per 100,000",null,null,"Number of death","Number of lung cancer deaths","Lung cancer death rate, per 100,000",{"$nulls":4},"MESOTHELIOMA CALCULATIONS",{"$nulls":3},"Asbestos RR of Lung Cancer-1)","Probability of Death Corrected for Asb.-Related Lung Cancer","Number of Survivals From 100,000 Corrected for Asbestos-Related Lung Cancer","Number of Lung Cancer Cases in Surviving Population (Original 100000)"]
["Km",{"$f":"30.8*10^(-8)","v":3.08e-07},null,0,{"$f":"D716-$P$51","v":-18},637.2,null,null,26412,4,{"$f":"F716*J716/I716","v":0.09650159018627898},{"$nulls":3},{"$f":"IF($E716<10,0, IF(AND(OR($E716>10, $E716=10),$E716<10+$B$718),$B$716*$B$717*(($E716-10)^3), $B$716*$B$717*(($E716-10)^3-($E716-10-$B$718)^3)))","v":0},{"$f":"F716/100000","v":0.006372},{"$f":"100000","v":100000},{"$f":"Q716*O716","v":0},null,{"$f":"IF($E716<10,0,IF(AND(OR($E716>10,$E716=10),$E716<10+$B$718),$B$715*$B$717*(($E716-10)),$B$715*$B$717*(($E716-10)-($E716-10-$B$718))))","v":0},{"$f":"F716/100000","v":0.006372},{"$f":"100000","v":100000},{"$f":"V716*T716*K716/100000","v":0}]
["f",{"$f":"N56*2.8","v":{"v":0.0013,"d":"1.30E-03"}},null,1,{"$f":"D717-$P$51","v":-17},{"$f":"(G717+G718+G719+G720)*100000","v":{"v":110.39999999999999,"d":"110.400000"}},0.000429,null,4450,3,{"$f":"F717*J717/I717","v":0.07442696629213483},{"$nulls":3},0,{"$f":"F717/100000","v":0.001104},{"$f":"Q716-Q716*P716","v":99362.8},{"$f":"Q717*4*O717","v":0},null,0,{"$f":"F717/100000","v":0.001104},{"$f":"V716-V716*U716","v":99362.8},{"$f":"V717*T717*K717/100000","v":0}]
["d",{"$f":"$I$51","v":30},null,2,-16,null,0.000288,{"$nulls":7},0,null,null,{"$f":"Q718*O718","v":0},null,0,null,null,0]
[{"$nulls":3},3,-15,null,0.000219,{"$nulls":7},0,null,null,0,null,0,null,null,0]
[{"$nulls":3},4,-14,null,0.000168,{"$nulls":7},0,null,null,0,null,0,null,null,0]
[{"$nulls":3},5,-13,{"$f":"(G721+G722+G723+G724+G725)*100000","v":{"v":62.5,"d":"62.500000"}},{"v":1.56E-4,"d":"0.000156"},null,{"$f":"5651/2","v":2825.5},{"$f":"5/2","v":{"v":2.5,"d":"3"}},{"$f":"F721*J721/I721","v":0.055299946912050965},{"$nulls":3},0,{"$f":"F721/100000","v":0.000625},{"$f":"Q717-Q717*P717","v":99253.1034688},{"$f":"Q721*5*O721","v":0},null,0,{"$f":"F721/100000","v":0.000625},{"$f":"V717-V717*U717","v":99253.1034688},0]
[{"$nulls":3},6,-12,null,0.000139,{"$nulls":7},0,null,null,0,null,0,null,null,0]
[{"$nulls":3},7,-11,null,{"v":1.25E-4,"d":"0.000125"},{"$nulls":7},0,null,null,0,null,0,null,null,0]
[{"$nulls":3},8,-10,null,{"v":1.1E-4,"d":"0.000110"},{"$nulls":7},0,null,null,0,null,0,null,null,0]
[{"$nulls":3},9,-9,null,{"v":9.5e-05,"d":"0.000095"},{"$nulls":7},0,null,null,0,null,0,null,null,0]
[{"$nulls":3},10,-8,{"$f":"(G726+G727+G728+G729+G730)*100000","v":{"v":75.1,"d":"75.100000"}},{"v":8.5e-05,"d":"0.000085"},null,{"$f":"5651/2","v":2825.5},{"$f":"5/2","v":{"v":2.5,"d":"3"}},{"$f":"F726*J726/I726","v":0.06644841620952044},{"$nulls":3},0,{"$f":"F726/100000","v":7.5099999999999993E-4},{"$f":"Q721-Q721*P721","v":99191.070279132},{"$f":"Q726*5*O726","v":0},null,0,{"$f":"F726/100000","v":7.5099999999999993E-4},{"$f":"V721-V721*U721","v":99191.070279132},0]
[{"$nulls":3},11,-7,null,{"v":9.1e-05,"d":"0.000091"},{"$nulls":7},0,null,null,0,null,0,null,null,0]
[{"$nulls":3},12,-6,null,{"v":1.22E-4,"d":"0.000122"},{"$nulls":7},0,null,null,0,null,0,null,null,0]
[{"$nulls":3},13,-5,null,{"v":1.85E-4,"d":"0.000185"},{"$nulls":7},0,null,null,0,null,0,null,null,0]
[{"$nulls":3},14,-4,null,0.000268,{"$nulls":7},0,null,null,0,null,0,null,null,0]
[{"$nulls":3},15,-3,{"$f":"(G731+G732+G733+G734+G735)*100000","v":{"v":259.2,"d":"259.200000"}},0.000355,null,{"$f":"30416/2","v":15208},{"$f":"25/2","v":{"v":12.5,"d":"13"}},{"$f":"F731*J731/I731","v":0.2130457653866386},{"$nulls":3},0,{"$f":"F731/100000","v":2.5919999999999997E-3},{"$f":"Q726-Q726*P726","v":99116.57778535238},{"$f":"Q731*5*O731","v":0},null,0,{"$f":"F731/100000","v":2.5919999999999997E-3},{"$f":"V726-V726*U726","v":99116.57778535238},{"$f":"V731*T731*K731/100000","v":0}]
[{"$nulls":3},16,-2,null,0.000438,{"$nulls":7},0,null,null,0,null,0,null,null,0]
[{"$nulls":3},17,-1,null,{"v":0.00052,"d":"0.000520"},{"$nulls":7},0,null,null,0,null,0,null,null,0]
[{"$nulls":3},18,0,null,{"v":0.0006,"d":"0.000600"},{"$nulls":7},0,null,null,0,null,0,null,null,0]
[{"$nulls":3},19,1,null,0.000679,{"$nulls":7},0,null,null,0,null,0,null,null,0]
[{"$nulls":3},20,2,{"$f":"(G736+G737+G738+G739+G740)*100000","v":{"v":442.09999999999997,"d":"442.100000"}},0.000765,null,{"$f":"30416/2","v":15208},{"$f":"25/2","v":{"v":12.5,"d":"13"}},{"$f":"F736*J736/I736","v":0.363377827459232},{"$nulls":3},0,{"$f":"F736/100000","v":0.004421},{"$f":"Q731-Q731*P731","v":98859.66761573275},{"$f":"Q736*5*O736","v":0},null,0,{"$f":"F736/100000","v":0.004421},{"$f":"V731-V731*U731","v":98859.66761573275},0]
[{"$nulls":3},21,3,null,0.000848,{"$nulls":7},0,null,null,0,null,0,null,null,0]
[{"$nulls":3},22,4,null,0.000911,{"$nulls":7},0,null,null,0,null,0,null,null,0]
[{"$nulls":3},23,5,null,0.000944,{"$nulls":7},0,null,null,0,null,0,null,null,0]
[{"$nulls":3},24,6,null,0.000953,{"$nulls":7},0,null,null,0,null,0,null,null,0]
[{"$nulls":3},25,7,{"$f":"(G741+G742+G743+G744+G745)*100000","v":{"v":488.9000000000001,"d":"488.900000"}},0.000956,null,{"$f":"42502/2","v":21251},{"$f":"146/2","v":73},{"$f":"F741*J741/I741","v":1.6794362618229732},{"$nulls":3},0,{"$f":"F741/100000","v":4.889000000000001E-3},{"$f":"Q736-Q736*P736","v":98422.6090252036},{"$f":"Q741*5*O741","v":0},null,0,{"$f":"F741/100000","v":4.889000000000001E-3},{"$f":"V736-V736*U736","v":98422.6090252036},0]
[{"$nulls":3},26,8,null,0.000963,{"$nulls":7},0,null,null,0,null,0,null,null,0]
[{"$nulls":3},27,9,null,0.000972,{"$nulls":7},0,null,null,0,null,0,null,null,0]
[{"$nulls":3},28,10,null,0.000988,{"$nulls":7},0,null,null,0,null,0,null,null,0]
[{"$nulls":3},29,11,null,{"v":1.01E-3,"d":"0.001010"},{"$nulls":7},4.004e-10,null,null,0,null,0.0001001,null,null,0]
[{"$nulls":3},30,12,{"$f":"(G746+G747+G748+G749+G750)*100000","v":{"v":557.3,"d":"557.300000"}},0.001038,null,{"$f":"42502/2","v":21251},{"$f":"146/2","v":73},{"$f":"F746*J746/I746","v":1.9143993223848286},{"$nulls":3},3.2032e-09,{"$f":"F746/100000","v":0.005573},{"$f":"Q741-Q741*P741","v":97941.42088967937},{"$f":"Q746*5*O746","v":1.5686297969691046E-3},null,0.0002002,{"$f":"F746/100000","v":0.005573},{"$f":"V741-V741*U741","v":97941.42088967937},3.7537297754878813E-4]
[{"$nulls":3},31,13,null,{"v":1.07E-3,"d":"0.001070"},{"$nulls":7},1.0810799999999999E-8,null,null,0,null,0.0003003,null,null,0]
[{"$nulls":3},32,14,null,{"v":1.111E-3,"d":"0.001111"},{"$nulls":7},{"$f":"IF($E748<10,0, IF(AND(OR($E748>10, $E748=10),$E748<10+$B$718),$B$716*$B$717*(($E748-10)^3), $B$716*$B$717*(($E748-10)^3-($E748-10-$B$718)^3)))","v":2.56256e-08},null,null,0,null,{"$f":"IF($E748<10,0,IF(AND(OR($E748>10,$E748=10),$E748<10+$B$718),$B$715*$B$717*(($E748-10)),$B$715*$B$717*(($E748-10)-($E748-10-$B$718))))","v":0.0004004},null,null,0]
[{"$nulls":3},33,15,null,{"v":1.152E-3,"d":"0.001152"},{"$nulls":7},5.0049999999999995E-8,null,null,0,null,0.0005005,null,null,0]
[{"$nulls":3},34,16,null,0.001202,{"$nulls":7},8.6486399999999993E-8,null,null,0,null,0.0006006,null,null,0]
[{"$nulls":3},35,17,{"$f":"(G751+G752+G753+G754+G755)*100000","v":{"v":718.3000000000001,"d":"718.300000"}},0.001262,null,{"$f":"74665/2","v":37332.5},{"$f":"1517/2","v":{"v":758.5,"d":"759"}},{"$f":"F751*J751/I751","v":14.59400120538405},{"$nulls":3},1.373372e-07,{"$f":"F751/100000","v":7.183000000000001E-3},{"$f":"Q746-Q746*P746","v":97395.5933510612},{"$f":"Q751*5*O751","v":0.0668801904158668},null,0.0007007,{"$f":"F751/100000","v":7.183000000000001E-3},{"$f":"V746-V746*U746","v":97395.5933510612},0.009959689587198723]
[{"$nulls":3},36,18,null,{"v":1.335E-3,"d":"0.001335"},{"$nulls":7},2.050048e-07,null,null,0,null,0.0008008,null,null,0]
[{"$nulls":3},37,19,null,{"v":1.421E-3,"d":"0.001421"},{"$nulls":7},2.918916e-07,null,null,0,null,9.0089999999999994E-4,null,null,0]
[{"$nulls":3},38,20,null,0.001522,{"$nulls":7},4.0039999999999996E-7,null,null,0,null,0.001001,null,null,0]
[{"$nulls":3},39,21,null,0.001643,{"$nulls":7},5.329324e-07,null,null,0,null,1.1010999999999998E-3,null,null,0]
[{"$nulls":3},40,22,{"$f":"(G756+G757+G758+G759+G760)*100000","v":{"v":1072.5,"d":"1,072.500000"}},0.001778,null,{"$f":"74665/2","v":37332.5},{"$f":"1517/2","v":{"v":758.5,"d":"759"}},{"$f":"F756*J756/I756","v":21.790430589968526},{"$nulls":3},6.9189119999999994E-7,{"$f":"F756/100000","v":0.010725},{"$f":"Q751-Q751*P751","v":96696.00080402053},{"$f":"Q756*5*O756","v":0.33451556015747363},null,0.0012012,{"$f":"F756/100000","v":0.010725},{"$f":"V751-V751*U751","v":96696.00080402053},0.025309854496096774]
[{"$nulls":3},41,23,null,{"v":1.933E-3,"d":"0.001933"},{"$nulls":7},8.796788e-07,null,null,0,null,1.3013E-3,null,null,0]
[{"$nulls":3},42,24,null,0.002118,{"$nulls":7},1.0986976e-06,null,null,0,null,0.0014014,null,null,0]
[{"$nulls":3},43,25,null,0.002332,{"$nulls":7},1.35135E-6,null,null,0,null,1.5014999999999998E-3,null,null,0]
[{"$nulls":3},44,26,null,0.002564,{"$nulls":7},1.6400384e-06,null,null,0,null,0.0016016,null,null,0]
[{"$nulls":3},45,27,{"$f":"(G761+G762+G763+G764+G765)*100000","v":{"v":1666.5,"d":"1,666.500000"}},0.002796,null,{"$f":"187568/2","v":{"v":93784,"d":"93,784"}},{"$f":"12488/2","v":{"v":6244,"d":"6,244"}},{"$f":"F761*J761/I761","v":110.9531050072507},{"$nulls":3},1.9671652E-6,{"$f":"F761/100000","v":0.016665},{"$f":"Q756-Q756*P756","v":95658.93619539741},{"$f":"Q761*5*O761","v":0.9408846517630309},null,1.7017E-3,{"$f":"F761/100000","v":0.016665},{"$f":"V756-V756*U756","v":95658.93619539741},0.1806125840255607]
[{"$nulls":3},46,28,null,0.003034,{"$nulls":7},2.3351328e-06,null,null,0,null,1.8017999999999999E-3,null,null,0]
[{"$nulls":3},47,29,null,{"v":3.297E-3,"d":"0.003297"},{"$nulls":7},2.7463436E-6,null,null,0,null,1.9018999999999998E-3,null,null,0]
[{"$nulls":3},48,30,null,{"v":0.0036,"d":"0.003600"},{"$nulls":7},3.2031999999999997E-6,null,null,0,null,0.002002,null,null,0]
[{"$nulls":3},49,31,null,0.003938,{"$nulls":7},3.7081044E-6,null,null,0,null,2.1021E-3,null,null,0]
[{"$nulls":3},50,32,{"$f":"(G766+G767+G768+G769+G770)*100000","v":{"v":2526.4,"d":"2,526.400000"}},0.004306,null,{"$f":"187568/2","v":{"v":93784,"d":"93,784"}},{"$f":"12488/2","v":{"v":6244,"d":"6,244"}},{"$f":"F766*J766/I766","v":168.2039750917001},{"$nulls":3},4.2634592e-06,{"$f":"F766/100000","v":0.025264},{"$f":"Q761-Q761*P761","v":94064.78002370111},{"$f":"Q766*5*O766","v":2.005206758940124},null,2.2021999999999996E-3,{"$f":"F766/100000","v":0.025264},{"$f":"V761-V761*U761","v":94064.78002370111},0.3484336236926376]
[{"$nulls":3},51,33,null,0.004682,{"$nulls":7},4.8716668e-06,null,null,0,null,2.3022999999999997E-3,null,null,0]
[{"$nulls":3},52,34,null,{"v":5.058E-3,"d":"0.005058"},{"$nulls":7},5.5351295999999995E-6,null,null,0,null,0.0024024,null,null,0]
[{"$nulls":3},53,35,null,{"v":5.424E-3,"d":"0.005424"},{"$nulls":7},6.25625e-06,null,null,0,null,2.5025E-3,null,null,0]
[{"$nulls":3},54,36,null,0.005794,{"$nulls":7},7.0374304e-06,null,null,0,null,0.0026026,null,null,0]
[{"$nulls":3},55,37,{"$f":"(G771+G772+G773+G774+G775)*100000","v":{"v":3574.5,"d":"3,574.500000"}},0.006186,null,{"$f":"303307/2","v":{"v":151653.5,"d":"151,654"}},{"$f":"30964/2","v":{"v":15482,"d":"15,482"}},{"$f":"F771*J771/I771","v":364.9134968859934},{"$nulls":3},7.8810732e-06,{"$f":"F771/100000","v":0.035745},{"$f":"Q766-Q766*P766","v":91688.32742118233},{"$f":"Q771*5*O771","v":3.6130120999595254},null,2.7026999999999997E-3,{"$f":"F771/100000","v":0.035745},{"$f":"V766-V766*U766","v":91688.32742118233},0.9042776952590103]
[{"$nulls":3},56,38,null,0.006622,{"$nulls":7},8.7895808e-06,null,null,0,null,0.0028028,null,null,0]
[{"$nulls":3},57,39,null,0.007102,{"$nulls":7},9.7653556e-06,null,null,0,null,0.0029029,null,null,0]
[{"$nulls":3},58,40,null,{"v":0.00763,"d":"0.007630"},{"$nulls":7},1.08108E-5,null,null,0,null,3.0029999999999996E-3,null,null,0]
[{"$nulls":3},59,41,null,0.008205,{"$nulls":7},1.1927916E-5,null,null,0,null,3.0029999999999996E-3,null,null,0]
[{"$nulls":3},60,42,{"$f":"(G776+G777+G778+G779+G780)*100000","v":{"v":5144.400000000001,"d":"5,144.400000"}},0.008826,null,{"$f":"303307/2","v":{"v":151653.5,"d":"151,654"}},{"$f":"30964/2","v":{"v":15482,"d":"15,482"}},{"$f":"F776*J776/I776","v":525.1814221234591},{"$nulls":3},1.3117104e-05,{"$f":"F776/100000","v":0.051444000000000004},{"$f":"Q771-Q771*P771","v":88410.92815751217},{"$f":"Q776*5*O776","v":5.798476696893077},null,3.0029999999999996E-3,{"$f":"F776/100000","v":0.051444000000000004},{"$f":"V771-V771*U771","v":88410.92815751217},1.3943462627399468]
[{"$nulls":3},61,43,null,{"v":9.495E-3,"d":"0.009495"},{"$nulls":7},1.4378364e-05,null,null,0,null,3.0029999999999996E-3,null,null,0]
[{"$nulls":3},62,44,null,0.010217,{"$nulls":7},1.5711696E-5,null,null,0,null,3.0029999999999996E-3,null,null,0]
[{"$nulls":3},63,45,null,{"v":0.01101,"d":"0.011010"},{"$nulls":7},1.71171e-05,null,null,0,null,3.0029999999999996E-3,null,null,0]
[{"$nulls":3},64,46,null,0.011896,{"$nulls":7},{"$f":"IF($E780<10,0, IF(AND(OR($E780>10, $E780=10),$E780<10+$B$718),$B$716*$B$717*(($E780-10)^3), $B$716*$B$717*(($E780-10)^3-($E780-10-$B$718)^3)))","v":1.8594576e-05},null,null,0,null,{"$f":"IF($E780<10,0,IF(AND(OR($E780>10,$E780=10),$E780<10+$B$718),$B$715*$B$717*(($E780-10)),$B$715*$B$717*(($E780-10)-($E780-10-$B$718))))","v":3.0029999999999996E-3},null,null,0]
[{"$nulls":3},65,{"$f":"D781-$P$51","v":47},{"$f":"(G781+G782+G783+G784+G785)*100000","v":{"v":7712.8,"d":"7,712.800000"}},0.012923,null,{"$f":"401032/2","v":{"v":200516,"d":"200,516"}},{"$f":"48536/2","v":{"v":24268,"d":"24,268"}},{"$f":"F781*J781/I781","v":933.4628179297413},{"$nulls":3},2.0144123999999998E-5,{"$f":"F781/100000","v":0.077128},{"$f":"Q776-Q776*P776","v":83862.71636937711},{"$f":"Q781*5*O781","v":8.44670478760781},null,3.0029999999999996E-3,{"$f":"F781/100000","v":0.077128},{"$f":"V776-V776*U776","v":83862.71636937711},2.350830308068284]
[{"$nulls":3},66,48,null,0.014095,{"$nulls":7},2.1765743999999998E-5,null,null,{"$f":"Q782*O782","v":0},null,3.0029999999999996E-3,null,null,{"$f":"V782*T782*K782/100000","v":0}]
[{"$nulls":3},67,49,null,0.015356,{"$nulls":7},2.3459436E-5,null,null,0,null,3.0029999999999996E-3,null,null,0]
[{"$nulls":3},68,50,null,0.016682,{"$nulls":7},2.52252E-5,null,null,0,null,3.0029999999999996E-3,null,null,0]
[{"$nulls":3},69,51,null,0.018072,{"$nulls":7},2.7063036E-5,null,null,0,null,3.0029999999999996E-3,null,null,0]
[{"$nulls":3},70,52,{"$f":"(G786+G787+G788+G789+G790)*100000","v":{"v":11861.8,"d":"11,861.800000"}},{"v":0.01963,"d":"0.019630"},null,{"$f":"401032/2","v":{"v":200516,"d":"200,516"}},{"$f":"48536/2","v":{"v":24268,"d":"24,268"}},{"$f":"F786*J786/I786","v":1435.6069460791157},{"$nulls":3},2.8972944e-05,{"$f":"F786/100000","v":0.11861799999999999},{"$f":"Q781-Q781*P781","v":77394.55278123979},{"$f":"Q786*5*O786","v":11.211740218179523},null,3.0029999999999996E-3,{"$f":"F786/100000","v":0.11861799999999999},{"$f":"V781-V781*U781","v":77394.55278123979},3.3365779715698807]
[{"$nulls":3},71,53,null,{"v":0.02143,"d":"0.021430"},{"$nulls":7},3.0954923999999996E-5,null,null,0,null,3.0029999999999996E-3,null,null,0]
[{"$nulls":3},72,54,null,0.023431,{"$nulls":7},3.3008975999999996E-5,null,null,0,null,3.0029999999999996E-3,null,null,0]
[{"$nulls":3},73,55,null,0.025763,{"$nulls":7},3.51351e-05,null,null,0,null,3.0029999999999996E-3,null,null,0]
[{"$nulls":3},74,56,null,0.028364,{"$nulls":7},3.7333296E-5,null,null,0,null,3.0029999999999996E-3,null,null,0]
[{"$nulls":3},75,57,{"$f":"(G791+G792+G793+G794+G795)*100000","v":{"v":18984.100000000002,"d":"18,984.100000"}},{"v":0.03106,"d":"0.031060"},null,{"$f":"627727/2","v":{"v":313863.5,"d":"313,864"}},{"$f":"46860/2","v":{"v":23430,"d":"23,430"}},{"$f":"F791*J791/I791","v":1417.1684920355506},{"$nulls":3},3.9603563999999996E-5,{"$f":"F791/100000","v":0.189841},{"$f":"Q786-Q786*P786","v":68214.16571943469},{"$f":"Q791*5*O791","v":13.507620388881188},null,3.0029999999999996E-3,{"$f":"F791/100000","v":0.189841},{"$f":"V786-V786*U786","v":68214.16571943469},2.903029120033274]
[{"$nulls":3},76,58,null,0.034041,{"$nulls":7},4.1945904e-05,null,null,0,null,3.0029999999999996E-3,null,null,0]
[{"$nulls":3},77,59,null,0.037491,{"$nulls":7},4.4360316E-5,null,null,0,null,3.0029999999999996E-3,null,null,0]
[{"$nulls":3},78,60,null,0.041456,{"$nulls":7},4.68468E-5,null,null,0,null,3.0029999999999996E-3,null,null,0]
[{"$nulls":3},79,61,null,0.045793,{"$nulls":7},4.9405356e-05,null,null,0,null,3.0029999999999996E-3,null,null,0]
[{"$nulls":3},80,62,{"$f":"(G796+G797+G798+G799+G800)*100000","v":{"v":31110.699999999997,"d":"31,110.700000"}},0.050433,null,{"$f":"627727/2","v":{"v":313863.5,"d":"313,864"}},{"$f":"46860/2","v":{"v":23430,"d":"23,430"}},{"$f":"F796*J796/I796","v":2322.422648699195},{"$nulls":3},5.2035984e-05,{"$f":"F796/100000","v":0.31110699999999997},{"$f":"Q791-Q791*P791","v":55264.32028509149},{"$f":"Q796*5*O796","v":14.378666430629481},null,3.0029999999999996E-3,{"$f":"F796/100000","v":0.31110699999999997},{"$f":"V791-V791*U791","v":55264.32028509149},{"$f":"V796*T796*K796/100000","v":3.8542636861247366}]
[{"$nulls":3},81,63,null,0.055465,{"$nulls":7},5.4738683999999994E-5,null,null,0,null,3.0029999999999996E-3,null,null,0]
[{"$nulls":3},82,64,null,0.061442,{"$nulls":7},5.7513456e-05,null,null,0,null,3.0029999999999996E-3,null,null,0]
[{"$nulls":3},83,65,null,0.068173,{"$nulls":7},6.03603e-05,null,null,0,null,3.0029999999999996E-3,null,null,0]
[{"$nulls":3},84,66,null,0.075594,{"$nulls":7},6.3279215999999993E-5,null,null,0,null,3.0029999999999996E-3,null,null,0]
[{"$nulls":3},85,67,100000,null,null,{"v":733178,"d":"733,178"},{"v":17605,"d":"17,605"},{"$f":"F801*J801/I801","v":2401.1904339737416},{"$nulls":3},6.6270204e-05,{"$f":"F801/100000","v":1},{"$f":"Q796-Q796*P796","v":38071.203394157536},{"$f":"Q801*6.5*O801","v":16.39941170046603},null,3.0029999999999996E-3,{"$f":"F801/100000","v":1},{"$f":"V796-V796*U796","v":38071.203394157536},{"$f":"V801*T801*K801/100000*3.5","v":9.60830068897856}]
{"$rows_empty":36}
[{"$nulls":17},{"$f":"SUM(R716:R835)/100000*1000000","v":767.0468811369009},{"$nulls":4},{"$f":"SUM(W716:W835)/100000*1000000","v":249.16316857552735}]
[]
[]
[]
["NICHOLSON CALCULATIONS:",5]
[]
["PARAMETERS:",{"$nulls":4},"Both genders",{"$nulls":14},"LUNG CANCER CALCULATIONS"]
["Kl",{"$f":"2.7*10^(-2)","v":0.027000000000000003},null,"AGE","AGE CORRECTED ON ONSET TIME","Death Rate per 100,000",null,null,"Number of death","Number of lung cancer deaths","Lung cancer death rate, per 100,000",{"$nulls":4},"MESOTHELIOMA CALCULATIONS",{"$nulls":3},"Asbestos RR of Lung Cancer-1)","Probability of Death Corrected for Asb.-Related Lung Cancer","Number of Survivals From 100,000 Corrected for Asbestos-Related Lung Cancer","Number of Lung Cancer Cases in Surviving Population (Original 100000)"]
["Km",{"$f":"13.8*10^(-8)","v":1.3800000000000002E-7},null,0,{"$f":"D846-$P$51","v":-18},637.2,null,null,26412,4,{"$f":"F846*J846/I846","v":0.09650159018627898},{"$nulls":3},{"$f":"IF($E846<10,0, IF(AND(OR($E846>10, $E846=10),$E846<10+$B$848),$B$846*$B$847*(($E846-10)^3), $B$846*$B$847*(($E846-10)^3-($E846-10-$B$848)^3)))","v":0},{"$f":"F846/100000","v":0.006372},{"$f":"100000","v":100000},{"$f":"Q846*O846","v":0},null,{"$f":"IF($E846<10,0,IF(AND(OR($E846>10,$E846=10),$E846<10+$B$848),$B$845*$B$847*(($E846-10)),$B$845*$B$847*(($E846-10)-($E846-10-$B$848))))","v":0},{"$f":"F846/100000","v":0.006372},{"$f":"100000","v":100000},{"$f":"V846*T846*K846/100000","v":0}]
["f",{"$f":"N58*2.8","v":{"v":0.0027,"d":"2.70E-03"}},null,1,{"$f":"D847-$P$51","v":-17},{"$f":"(G847+G848+G849+G850)*100000","v":{"v":110.39999999999999,"d":"110.400000"}},0.000429,null,4450,3,{"$f":"F847*J847/I847","v":0.07442696629213483},{"$nulls":3},0,{"$f":"F847/100000","v":0.001104},{"$f":"Q846-Q846*P846","v":99362.8},{"$f":"Q847*4*O847","v":0},null,0,{"$f":"F847/100000","v":0.001104},{"$f":"V846-V846*U846","v":99362.8},{"$f":"V847*T847*K847/100000","v":0}]
["d",{"$f":"$I$51","v":30},null,2,-16,null,0.000288,{"$nulls":7},0,null,null,{"$f":"Q848*O848","v":0},null,0,null,null,0]
[{"$nulls":3},3,-15,null,0.000219,{"$nulls":7},0,null,null,0,null,0,null,null,0]
[{"$nulls":3},4,-14,null,0.000168,{"$nulls":7},0,null,null,0,null,0,null,null,0]
[{"$nulls":3},5,-13,{"$f":"(G851+G852+G853+G854+G855)*100000","v":{"v":62.5,"d":"62.500000"}},{"v":1.56E-4,"d":"0.000156"},null,{"$f":"5651/2","v":2825.5},{"$f":"5/2","v":{"v":2.5,"d":"3"}},{"$f":"F851*J851/I851","v":0.055299946912050965},{"$nulls":3},0,{"$f":"F851/100000","v":0.000625},{"$f":"Q847-Q847*P847","v":99253.1034688},{"$f":"Q851*5*O851","v":0},null,0,{"$f":"F851/100000","v":0.000625},{"$f":"V847-V847*U847","v":99253.1034688},0]
[{"$nulls":3},6,-12,null,0.000139,{"$nulls":7},0,null,null,0,null,0,null,null,0]
[{"$nulls":3},7,-11,null,{"v":1.25E-4,"d":"0.000125"},{"$nulls":7},0,null,null,0,null,0,null,null,0]
[{"$nulls":3},8,-10,null,{"v":1.1E-4,"d":"0.000110"},{"$nulls":7},0,null,null,0,null,0,null,null,0]
[{"$nulls":3},9,-9,null,{"v":9.5e-05,"d":"0.000095"},{"$nulls":7},0,null,null,0,null,0,null,null,0]
[{"$nulls":3},10,-8,{"$f":"(G856+G857+G858+G859+G860)*100000","v":{"v":75.1,"d":"75.100000"}},{"v":8.5e-05,"d":"0.000085"},null,{"$f":"5651/2","v":2825.5},{"$f":"5/2","v":{"v":2.5,"d":"3"}},{"$f":"F856*J856/I856","v":0.06644841620952044},{"$nulls":3},0,{"$f":"F856/100000","v":7.5099999999999993E-4},{"$f":"Q851-Q851*P851","v":99191.070279132},{"$f":"Q856*5*O856","v":0},null,0,{"$f":"F856/100000","v":7.5099999999999993E-4},{"$f":"V851-V851*U851","v":99191.070279132},0]
[{"$nulls":3},11,-7,null,{"v":9.1e-05,"d":"0.000091"},{"$nulls":7},0,null,null,0,null,0,null,null,0]
[{"$nulls":3},12,-6,null,{"v":1.22E-4,"d":"0.000122"},{"$nulls":7},0,null,null,0,null,0,null,null,0]
[{"$nulls":3},13,-5,null,{"v":1.85E-4,"d":"0.000185"},{"$nulls":7},0,null,null,0,null,0,null,null,0]
[{"$nulls":3},14,-4,null,0.000268,{"$nulls":7},0,null,null,0,null,0,null,null,0]
[{"$nulls":3},15,-3,{"$f":"(G861+G862+G863+G864+G865)*100000","v":{"v":259.2,"d":"259.200000"}},0.000355,null,{"$f":"30416/2","v":15208},{"$f":"25/2","v":{"v":12.5,"d":"13"}},{"$f":"F861*J861/I861","v":0.2130457653866386},{"$nulls":3},0,{"$f":"F861/100000","v":2.5919999999999997E-3},{"$f":"Q856-Q856*P856","v":99116.57778535238},{"$f":"Q861*5*O861","v":0},null,0,{"$f":"F861/100000","v":2.5919999999999997E-3},{"$f":"V856-V856*U856","v":99116.57778535238},{"$f":"V861*T861*K861/100000","v":0}]
[{"$nulls":3},16,-2,null,0.000438,{"$nulls":7},0,null,null,0,null,0,null,null,0]
[{"$nulls":3},17,-1,null,{"v":0.00052,"d":"0.000520"},{"$nulls":7},0,null,null,0,null,0,null,null,0]
[{"$nulls":3},18,0,null,{"v":0.0006,"d":"0.000600"},{"$nulls":7},0,null,null,0,null,0,null,null,0]
[{"$nulls":3},19,1,null,0.000679,{"$nulls":7},0,null,null,0,null,0,null,null,0]
[{"$nulls":3},20,2,{"$f":"(G866+G867+G868+G869+G870)*100000","v":{"v":442.09999999999997,"d":"442.100000"}},0.000765,null,{"$f":"30416/2","v":15208},{"$f":"25/2","v":{"v":12.5,"d":"13"}},{"$f":"F866*J866/I866","v":0.363377827459232},{"$nulls":3},0,{"$f":"F866/100000","v":0.004421},{"$f":"Q861-Q861*P861","v":98859.66761573275},{"$f":"Q866*5*O866","v":0},null,0,{"$f":"F866/100000","v":0.004421},{"$f":"V861-V861*U861","v":98859.66761573275},0]
[{"$nulls":3},21,3,null,0.000848,{"$nulls":7},0,null,null,0,null,0,null,null,0]
[{"$nulls":3},22,4,null,0.000911,{"$nulls":7},0,null,null,0,null,0,null,null,0]
[{"$nulls":3},23,5,null,0.000944,{"$nulls":7},0,null,null,0,null,0,null,null,0]
[{"$nulls":3},24,6,null,0.000953,{"$nulls":7},0,null,null,0,null,0,null,null,0]
[{"$nulls":3},25,7,{"$f":"(G871+G872+G873+G874+G875)*100000","v":{"v":488.9000000000001,"d":"488.900000"}},0.000956,null,{"$f":"42502/2","v":21251},{"$f":"146/2","v":73},{"$f":"F871*J871/I871","v":1.6794362618229732},{"$nulls":3},0,{"$f":"F871/100000","v":4.889000000000001E-3},{"$f":"Q866-Q866*P866","v":98422.6090252036},{"$f":"Q871*5*O871","v":0},null,0,{"$f":"F871/100000","v":4.889000000000001E-3},{"$f":"V866-V866*U866","v":98422.6090252036},0]
[{"$nulls":3},26,8,null,0.000963,{"$nulls":7},0,null,null,0,null,0,null,null,0]
[{"$nulls":3},27,9,null,0.000972,{"$nulls":7},0,null,null,0,null,0,null,null,0]
[{"$nulls":3},28,10,null,0.000988,{"$nulls":7},0,null,null,0,null,0,null,null,0]
[{"$nulls":3},29,11,null,{"v":1.01E-3,"d":"0.001010"},{"$nulls":7},3.726000000000001e-10,null,null,0,null,7.290000000000001E-5,null,null,0]
[{"$nulls":3},30,12,{"$f":"(G876+G877+G878+G879+G880)*100000","v":{"v":557.3,"d":"557.300000"}},0.001038,null,{"$f":"42502/2","v":21251},{"$f":"146/2","v":73},{"$f":"F876*J876/I876","v":1.9143993223848286},{"$nulls":3},2.9808000000000007E-9,{"$f":"F876/100000","v":0.005573},{"$f":"Q871-Q871*P871","v":97941.42088967937},{"$f":"Q876*5*O876","v":1.4597189369397817E-3},null,1.4580000000000002E-4,{"$f":"F876/100000","v":0.005573},{"$f":"V871-V871*U871","v":97941.42088967937},2.733735271059607E-4]
[{"$nulls":3},31,13,null,{"v":1.07E-3,"d":"0.001070"},{"$nulls":7},1.0060200000000003E-8,null,null,0,null,2.1870000000000003E-4,null,null,0]
[{"$nulls":3},32,14,null,{"v":1.111E-3,"d":"0.001111"},{"$nulls":7},{"$f":"IF($E878<10,0, IF(AND(OR($E878>10, $E878=10),$E878<10+$B$848),$B$846*$B$847*(($E878-10)^3), $B$846*$B$847*(($E878-10)^3-($E878-10-$B$848)^3)))","v":2.3846400000000006E-8},null,null,0,null,{"$f":"IF($E878<10,0,IF(AND(OR($E878>10,$E878=10),$E878<10+$B$848),$B$845*$B$847*(($E878-10)),$B$845*$B$847*(($E878-10)-($E878-10-$B$848))))","v":2.9160000000000004E-4},null,null,0]
[{"$nulls":3},33,15,null,{"v":1.152E-3,"d":"0.001152"},{"$nulls":7},4.6575000000000012E-8,null,null,0,null,0.0003645,null,null,0]
[{"$nulls":3},34,16,null,0.001202,{"$nulls":7},8.0481600000000024E-8,null,null,0,null,4.3740000000000006E-4,null,null,0]
[{"$nulls":3},35,17,{"$f":"(G881+G882+G883+G884+G885)*100000","v":{"v":718.3000000000001,"d":"718.300000"}},0.001262,null,{"$f":"74665/2","v":37332.5},{"$f":"1517/2","v":{"v":758.5,"d":"759"}},{"$f":"F881*J881/I881","v":14.59400120538405},{"$nulls":3},1.2780180000000004E-7,{"$f":"F881/100000","v":7.183000000000001E-3},{"$f":"Q876-Q876*P876","v":97395.5933510612},{"$f":"Q881*5*O881","v":0.062236660711668286},null,5.103000000000001E-4,{"$f":"F881/100000","v":7.183000000000001E-3},{"$f":"V876-V876*U876","v":97395.5933510612},7.253360348719152E-3]
[{"$nulls":3},36,18,null,{"v":1.335E-3,"d":"0.001335"},{"$nulls":7},1.9077120000000005E-7,null,null,0,null,5.8320000000000008E-4,null,null,0]
[{"$nulls":3},37,19,null,{"v":1.421E-3,"d":"0.001421"},{"$nulls":7},2.7162540000000005E-7,null,null,0,null,6.5610000000000006E-4,null,null,0]
[{"$nulls":3},38,20,null,0.001522,{"$nulls":7},3.7260000000000009E-7,null,null,0,null,0.000729,null,null,0]
[{"$nulls":3},39,21,null,0.001643,{"$nulls":7},4.9593060000000013E-7,null,null,0,null,8.0190000000000014E-4,null,null,0]
[{"$nulls":3},40,22,{"$f":"(G886+G887+G888+G889+G890)*100000","v":{"v":1072.5,"d":"1,072.500000"}},0.001778,null,{"$f":"74665/2","v":37332.5},{"$f":"1517/2","v":{"v":758.5,"d":"759"}},{"$f":"F886*J886/I886","v":21.790430589968526},{"$nulls":3},6.4385280000000019E-7,{"$f":"F886/100000","v":0.010725},{"$f":"Q881-Q881*P881","v":96696.00080402053},{"$f":"Q886*5*O886","v":0.31128995433235446},null,8.7480000000000012E-4,{"$f":"F886/100000","v":0.010725},{"$f":"V881-V881*U881","v":96696.00080402053},0.01843245147617837]
[{"$nulls":3},41,23,null,{"v":1.933E-3,"d":"0.001933"},{"$nulls":7},8.1860220000000024E-7,null,null,0,null,9.477000000000001E-4,null,null,0]
[{"$nulls":3},42,24,null,0.002118,{"$nulls":7},1.0224144000000003E-6,null,null,0,null,1.0206000000000002E-3,null,null,0]
[{"$nulls":3},43,25,null,0.002332,{"$nulls":7},1.2575250000000003E-6,null,null,0,null,0.0010935,null,null,0]
[{"$nulls":3},44,26,null,0.002564,{"$nulls":7},1.5261696000000004E-6,null,null,0,null,1.1664000000000002E-3,null,null,0]
[{"$nulls":3},45,27,{"$f":"(G891+G892+G893+G894+G895)*100000","v":{"v":1666.5,"d":"1,666.500000"}},0.002796,null,{"$f":"187568/2","v":{"v":93784,"d":"93,784"}},{"$f":"12488/2","v":{"v":6244,"d":"6,244"}},{"$f":"F891*J891/I891","v":110.9531050072507},{"$nulls":3},1.8305838000000004E-6,{"$f":"F891/100000","v":0.016665},{"$f":"Q886-Q886*P886","v":95658.93619539741},{"$f":"Q891*5*O891","v":0.8755584946226409},null,1.2393000000000003E-3,{"$f":"F891/100000","v":0.016665},{"$f":"V886-V886*U886","v":95658.93619539741},0.13153503871591785]
[{"$nulls":3},46,28,null,0.003034,{"$nulls":7},2.1730032000000004E-6,null,null,0,null,1.3122000000000001E-3,null,null,0]
[{"$nulls":3},47,29,null,{"v":3.297E-3,"d":"0.003297"},{"$nulls":7},2.5556634000000006E-6,null,null,0,null,1.3851000000000002E-3,null,null,0]
[{"$nulls":3},48,30,null,{"v":0.0036,"d":"0.003600"},{"$nulls":7},2.9808000000000008E-6,null,null,0,null,0.001458,null,null,0]
[{"$nulls":3},49,31,null,0.003938,{"$nulls":7},3.450648600000001E-6,null,null,0,null,1.5309000000000002E-3,null,null,0]
[{"$nulls":3},50,32,{"$f":"(G896+G897+G898+G899+G900)*100000","v":{"v":2526.4,"d":"2,526.400000"}},0.004306,null,{"$f":"187568/2","v":{"v":93784,"d":"93,784"}},{"$f":"12488/2","v":{"v":6244,"d":"6,244"}},{"$f":"F896*J896/I896","v":168.2039750917001},{"$nulls":3},3.9674448000000011E-6,{"$f":"F896/100000","v":0.025264},{"$f":"Q891-Q891*P891","v":94064.78002370111},{"$f":"Q896*5*O896","v":1.8659841118408849},null,1.6038000000000003E-3,{"$f":"F896/100000","v":0.025264},{"$f":"V891-V891*U891","v":94064.78002370111},0.25375435731461826]
[{"$nulls":3},51,33,null,0.004682,{"$nulls":7},4.533424200000001E-6,null,null,0,null,1.6767000000000002E-3,null,null,0]
[{"$nulls":3},52,34,null,{"v":5.058E-3,"d":"0.005058"},{"$nulls":7},5.1508224000000015E-6,null,null,0,null,1.7496000000000002E-3,null,null,0]
[{"$nulls":3},53,35,null,{"v":5.424E-3,"d":"0.005424"},{"$nulls":7},5.8218750000000018E-6,null,null,0,null,1.8225000000000003E-3,null,null,0]
[{"$nulls":3},54,36,null,0.005794,{"$nulls":7},6.5488176000000019E-6,null,null,0,null,1.8954000000000002E-3,null,null,0]
[{"$nulls":3},55,37,{"$f":"(G901+G902+G903+G904+G905)*100000","v":{"v":3574.5,"d":"3,574.500000"}},0.006186,null,{"$f":"303307/2","v":{"v":151653.5,"d":"151,654"}},{"$f":"30964/2","v":{"v":15482,"d":"15,482"}},{"$f":"F901*J901/I901","v":364.9134968859934},{"$nulls":3},7.3338858000000021E-6,{"$f":"F901/100000","v":0.035745},{"$f":"Q896-Q896*P896","v":91688.32742118233},{"$f":"Q901*5*O901","v":3.3621586124997993},null,0.0019683,{"$f":"F901/100000","v":0.035745},{"$f":"V896-V896*U896","v":91688.32742118233},0.6585598799638546]
[{"$nulls":3},56,38,null,0.006622,{"$nulls":7},8.1793152000000024E-6,null,null,0,null,2.0412000000000004E-3,null,null,0]
[{"$nulls":3},57,39,null,0.007102,{"$nulls":7},9.0873414000000022E-6,null,null,0,null,2.1141000000000003E-3,null,null,0]
[{"$nulls":3},58,40,null,{"v":0.00763,"d":"0.007630"},{"$nulls":7},1.0060200000000002E-5,null,null,0,null,0.002187,null,null,0]
[{"$nulls":3},59,41,null,0.008205,{"$nulls":7},1.1099754000000003E-5,null,null,0,null,0.002187,null,null,0]
[{"$nulls":3},60,42,{"$f":"(G906+G907+G908+G909+G910)*100000","v":{"v":5144.400000000001,"d":"5,144.400000"}},0.008826,null,{"$f":"303307/2","v":{"v":151653.5,"d":"151,654"}},{"$f":"30964/2","v":{"v":15482,"d":"15,482"}},{"$f":"F906*J906/I906","v":525.1814221234591},{"$nulls":3},1.2206376000000003E-5,{"$f":"F906/100000","v":0.051444000000000004},{"$f":"Q901-Q901*P901","v":88410.92815751217},{"$f":"Q906*5*O906","v":5.395885157997905},null,0.002187,{"$f":"F906/100000","v":0.051444000000000004},{"$f":"V901-V901*U901","v":88410.92815751217},1.0154629625748466]
[{"$nulls":3},61,43,null,{"v":9.495E-3,"d":"0.009495"},{"$nulls":7},1.3380066000000003E-5,null,null,0,null,0.002187,null,null,0]
[{"$nulls":3},62,44,null,0.010217,{"$nulls":7},1.4620824000000003E-5,null,null,0,null,0.002187,null,null,0]
[{"$nulls":3},63,45,null,{"v":0.01101,"d":"0.011010"},{"$nulls":7},1.5928650000000005E-5,null,null,0,null,0.002187,null,null,0]
[{"$nulls":3},64,46,null,0.011896,{"$nulls":7},{"$f":"IF($E910<10,0, IF(AND(OR($E910>10, $E910=10),$E910<10+$B$848),$B$846*$B$847*(($E910-10)^3), $B$846*$B$847*(($E910-10)^3-($E910-10-$B$848)^3)))","v":1.7303544000000005E-5},null,null,0,null,{"$f":"IF($E910<10,0,IF(AND(OR($E910>10,$E910=10),$E910<10+$B$848),$B$845*$B$847*(($E910-10)),$B$845*$B$847*(($E910-10)-($E910-10-$B$848))))","v":0.002187},null,null,0]
[{"$nulls":3},65,{"$f":"D911-$P$51","v":47},{"$f":"(G911+G912+G913+G914+G915)*100000","v":{"v":7712.8,"d":"7,712.800000"}},0.012923,null,{"$f":"401032/2","v":{"v":200516,"d":"200,516"}},{"$f":"48536/2","v":{"v":24268,"d":"24,268"}},{"$f":"F911*J911/I911","v":933.4628179297413},{"$nulls":3},1.8745506000000005E-5,{"$f":"F911/100000","v":0.077128},{"$f":"Q906-Q906*P906","v":83862.71636937711},{"$f":"Q911*5*O911","v":7.860245264392287},null,0.002187,{"$f":"F911/100000","v":0.077128},{"$f":"V906-V906*U906","v":83862.71636937711},1.7120432513304487]
[{"$nulls":3},66,48,null,0.014095,{"$nulls":7},2.0254536000000006E-5,null,null,{"$f":"Q912*O912","v":0},null,0.002187,null,null,{"$f":"V912*T912*K912/100000","v":0}]
[{"$nulls":3},67,49,null,0.015356,{"$nulls":7},2.1830634000000004E-5,null,null,0,null,0.002187,null,null,0]
[{"$nulls":3},68,50,null,0.016682,{"$nulls":7},2.3473800000000006E-5,null,null,0,null,0.002187,null,null,0]
[{"$nulls":3},69,51,null,0.018072,{"$nulls":7},2.5184034000000005E-5,null,null,0,null,0.002187,null,null,0]
[{"$nulls":3},70,52,{"$f":"(G916+G917+G918+G919+G920)*100000","v":{"v":11861.8,"d":"11,861.800000"}},{"v":0.01963,"d":"0.019630"},null,{"$f":"401032/2","v":{"v":200516,"d":"200,516"}},{"$f":"48536/2","v":{"v":24268,"d":"24,268"}},{"$f":"F916*J916/I916","v":1435.6069460791157},{"$nulls":3},2.6961336000000007E-5,{"$f":"F916/100000","v":0.11861799999999999},{"$f":"Q911-Q911*P911","v":77394.55278123979},{"$f":"Q916*5*O916","v":10.433302710523705},null,0.002187,{"$f":"F916/100000","v":0.11861799999999999},{"$f":"V911-V911*U911","v":77394.55278123979},2.4299354058685743]
[{"$nulls":3},71,53,null,{"v":0.02143,"d":"0.021430"},{"$nulls":7},2.8805706000000008E-5,null,null,0,null,0.002187,null,null,0]
[{"$nulls":3},72,54,null,0.023431,{"$nulls":7},3.0717144000000005E-5,null,null,0,null,0.002187,null,null,0]
[{"$nulls":3},73,55,null,0.025763,{"$nulls":7},3.2695650000000009E-5,null,null,0,null,0.002187,null,null,0]
[{"$nulls":3},74,56,null,0.028364,{"$nulls":7},3.4741224000000011E-5,null,null,0,null,0.002187,null,null,0]
[{"$nulls":3},75,57,{"$f":"(G921+G922+G923+G924+G925)*100000","v":{"v":18984.100000000002,"d":"18,984.100000"}},{"v":0.03106,"d":"0.031060"},null,{"$f":"627727/2","v":{"v":313863.5,"d":"313,864"}},{"$f":"46860/2","v":{"v":23430,"d":"23,430"}},{"$f":"F921*J921/I921","v":1417.1684920355506},{"$nulls":3},3.685386600000001E-5,{"$f":"F921/100000","v":0.189841},{"$f":"Q916-Q916*P916","v":68214.16571943469},{"$f":"Q921*5*O921","v":12.569778613629202},null,0.002187,{"$f":"F921/100000","v":0.189841},{"$f":"V916-V916*U916","v":68214.16571943469},2.1141940344697874]
[{"$nulls":3},76,58,null,0.034041,{"$nulls":7},3.9033576000000006E-5,null,null,0,null,0.002187,null,null,0]
[{"$nulls":3},77,59,null,0.037491,{"$nulls":7},4.1280354000000013E-5,null,null,0,null,0.002187,null,null,0]
[{"$nulls":3},78,60,null,0.041456,{"$nulls":7},4.359420000000001E-5,null,null,0,null,0.002187,null,null,0]
[{"$nulls":3},79,61,null,0.045793,{"$nulls":7},4.5975114000000011E-5,null,null,0,null,0.002187,null,null,0]
[{"$nulls":3},80,62,{"$f":"(G926+G927+G928+G929+G930)*100000","v":{"v":31110.699999999997,"d":"31,110.700000"}},0.050433,null,{"$f":"627727/2","v":{"v":313863.5,"d":"313,864"}},{"$f":"46860/2","v":{"v":23430,"d":"23,430"}},{"$f":"F926*J926/I926","v":2322.422648699195},{"$nulls":3},4.842309600000001E-5,{"$f":"F926/100000","v":0.31110699999999997},{"$f":"Q921-Q921*P921","v":55264.32028509149},{"$f":"Q926*5*O926","v":13.380347432698667},null,0.002187,{"$f":"F926/100000","v":0.31110699999999997},{"$f":"V921-V921*U921","v":55264.32028509149},{"$f":"V926*T926*K926/100000","v":2.8069512759090243}]
[{"$nulls":3},81,63,null,0.055465,{"$nulls":7},5.0938146000000012E-5,null,null,0,null,0.002187,null,null,0]
[{"$nulls":3},82,64,null,0.061442,{"$nulls":7},5.3520264000000012E-5,null,null,0,null,0.002187,null,null,0]
[{"$nulls":3},83,65,null,0.068173,{"$nulls":7},5.6169450000000015E-5,null,null,0,null,0.002187,null,null,0]
[{"$nulls":3},84,66,null,0.075594,{"$nulls":7},5.8885704000000016E-5,null,null,0,null,0.002187,null,null,0]
[{"$nulls":3},85,67,100000,null,null,{"v":733178,"d":"733,178"},{"v":17605,"d":"17,605"},{"$f":"F931*J931/I931","v":2401.1904339737416},{"$nulls":3},6.1669026000000013E-5,{"$f":"F931/100000","v":1},{"$f":"Q926-Q926*P926","v":38071.203394157536},{"$f":"Q931*6.5*O931","v":15.260791207776334},null,0.002187,{"$f":"F931/100000","v":1},{"$f":"V926-V926*U926","v":38071.203394157536},{"$f":"V931*T931*K931/100000*3.5","v":6.997453748516856}]
{"$rows_empty":36}
[{"$nulls":17},{"$f":"SUM(R846:R965)/100000*1000000","v":713.7903793996238},{"$nulls":4},{"$f":"SUM(W846:W965)/100000*1000000","v":181.45849140015935}]
[]
[]
["NICHOLSON CALCULATIONS:",6]
[]
["PARAMETERS:",{"$nulls":4},"Both genders",{"$nulls":14},"LUNG CANCER CALCULATIONS"]
["Kl",{"$f":"K72*10^-2","v":0},null,"AGE","AGE CORRECTED ON ONSET TIME","Death Rate per 100,000",null,null,"Number of death","Number of lung cancer deaths","Lung cancer death rate, per 100,000",{"$nulls":4},"MESOTHELIOMA CALCULATIONS",{"$nulls":3},"Asbestos RR of Lung Cancer-1)","Probability of Death Corrected for Asb.-Related Lung Cancer","Number of Survivals From 100,000 Corrected for Asbestos-Related Lung Cancer","Number of Lung Cancer Cases in Surviving Population (Original 100000)"]
["Km",{"$f":"K67*10^-8","v":0},null,0,{"$f":"D975-$P$51","v":-18},637.2,null,null,26412,4,{"$f":"F975*J975/I975","v":0.09650159018627898},{"$nulls":3},{"$f":"IF($E975<10,0, IF(AND(OR($E975>10, $E975=10),$E975<10+$B$977),$B$975*$B$976*(($E975-10)^3), $B$975*$B$976*(($E975-10)^3-($E975-10-$B$977)^3)))","v":0},{"$f":"F975/100000","v":0.006372},{"$f":"100000","v":100000},{"$f":"Q975*O975","v":0},null,{"$f":"IF($E975<10,0,IF(AND(OR($E975>10,$E975=10),$E975<10+$B$977),$B$974*$B$976*(($E975-10)),$B$974*$B$976*(($E975-10)-($E975-10-$B$977))))","v":0},{"$f":"F975/100000","v":0.006372},{"$f":"100000","v":100000},{"$f":"V975*T975*K975/100000","v":0}]
["f",{"$f":"K61*2.8","v":{"v":0,"d":"0.00E+00"}},null,1,{"$f":"D976-$P$51","v":-17},{"$f":"(G976+G977+G978+G979)*100000","v":{"v":110.39999999999999,"d":"110.400000"}},0.000429,null,4450,3,{"$f":"F976*J976/I976","v":0.07442696629213483},{"$nulls":3},0,{"$f":"F976/100000","v":0.001104},{"$f":"Q975-Q975*P975","v":99362.8},{"$f":"Q976*4*O976","v":0},null,0,{"$f":"F976/100000","v":0.001104},{"$f":"V975-V975*U975","v":99362.8},{"$f":"V976*T976*K976/100000","v":0}]
["d",{"$f":"$I$51","v":30},null,2,-16,null,0.000288,{"$nulls":7},0,null,null,{"$f":"Q977*O977","v":0},null,0,null,null,0]
[{"$nulls":3},3,-15,null,0.000219,{"$nulls":7},0,null,null,0,null,0,null,null,0]
[{"$nulls":3},4,-14,null,0.000168,{"$nulls":7},0,null,null,0,null,0,null,null,0]
[{"$nulls":3},5,-13,{"$f":"(G980+G981+G982+G983+G984)*100000","v":{"v":62.5,"d":"62.500000"}},{"v":1.56E-4,"d":"0.000156"},null,{"$f":"5651/2","v":2825.5},{"$f":"5/2","v":{"v":2.5,"d":"3"}},{"$f":"F980*J980/I980","v":0.055299946912050965},{"$nulls":3},0,{"$f":"F980/100000","v":0.000625},{"$f":"Q976-Q976*P976","v":99253.1034688},{"$f":"Q980*5*O980","v":0},null,0,{"$f":"F980/100000","v":0.000625},{"$f":"V976-V976*U976","v":99253.1034688},0]
[{"$nulls":3},6,-12,null,0.000139,{"$nulls":7},0,null,null,0,null,0,null,null,0]
[{"$nulls":3},7,-11,null,{"v":1.25E-4,"d":"0.000125"},{"$nulls":7},0,null,null,0,null,0,null,null,0]
[{"$nulls":3},8,-10,null,{"v":1.1E-4,"d":"0.000110"},{"$nulls":7},0,null,null,0,null,0,null,null,0]
[{"$nulls":3},9,-9,null,{"v":9.5e-05,"d":"0.000095"},{"$nulls":7},0,null,null,0,null,0,null,null,0]
[{"$nulls":3},10,-8,{"$f":"(G985+G986+G987+G988+G989)*100000","v":{"v":75.1,"d":"75.100000"}},{"v":8.5e-05,"d":"0.000085"},null,{"$f":"5651/2","v":2825.5},{"$f":"5/2","v":{"v":2.5,"d":"3"}},{"$f":"F985*J985/I985","v":0.06644841620952044},{"$nulls":3},0,{"$f":"F985/100000","v":7.5099999999999993E-4},{"$f":"Q980-Q980*P980","v":99191.070279132},{"$f":"Q985*5*O985","v":0},null,0,{"$f":"F985/100000","v":7.5099999999999993E-4},{"$f":"V980-V980*U980","v":99191.070279132},0]
[{"$nulls":3},11,-7,null,{"v":9.1e-05,"d":"0.000091"},{"$nulls":7},0,null,null,0,null,0,null,null,0]
[{"$nulls":3},12,-6,null,{"v":1.22E-4,"d":"0.000122"},{"$nulls":7},0,null,null,0,null,0,null,null,0]
[{"$nulls":3},13,-5,null,{"v":1.85E-4,"d":"0.000185"},{"$nulls":7},0,null,null,0,null,0,null,null,0]
[{"$nulls":3},14,-4,null,0.000268,{"$nulls":7},0,null,null,0,null,0,null,null,0]
[{"$nulls":3},15,-3,{"$f":"(G990+G991+G992+G993+G994)*100000","v":{"v":259.2,"d":"259.200000"}},0.000355,null,{"$f":"30416/2","v":15208},{"$f":"25/2","v":{"v":12.5,"d":"13"}},{"$f":"F990*J990/I990","v":0.2130457653866386},{"$nulls":3},0,{"$f":"F990/100000","v":2.5919999999999997E-3},{"$f":"Q985-Q985*P985","v":99116.57778535238},{"$f":"Q990*5*O990","v":0},null,0,{"$f":"F990/100000","v":2.5919999999999997E-3},{"$f":"V985-V985*U985","v":99116.57778535238},{"$f":"V990*T990*K990/100000","v":0}]
[{"$nulls":3},16,-2,null,0.000438,{"$nulls":7},0,null,null,0,null,0,null,null,0]
[{"$nulls":3},17,-1,null,{"v":0.00052,"d":"0.000520"},{"$nulls":7},0,null,null,0,null,0,null,null,0]
[{"$nulls":3},18,0,null,{"v":0.0006,"d":"0.000600"},{"$nulls":7},0,null,null,0,null,0,null,null,0]
[{"$nulls":3},19,1,null,0.000679,{"$nulls":7},0,null,null,0,null,0,null,null,0]
[{"$nulls":3},20,2,{"$f":"(G995+G996+G997+G998+G999)*100000","v":{"v":442.09999999999997,"d":"442.100000"}},0.000765,null,{"$f":"30416/2","v":15208},{"$f":"25/2","v":{"v":12.5,"d":"13"}},{"$f":"F995*J995/I995","v":0.363377827459232},{"$nulls":3},0,{"$f":"F995/100000","v":0.004421},{"$f":"Q990-Q990*P990","v":98859.66761573275},{"$f":"Q995*5*O995","v":0},null,0,{"$f":"F995/100000","v":0.004421},{"$f":"V990-V990*U990","v":98859.66761573275},0]
[{"$nulls":3},21,3,null,0.000848,{"$nulls":7},0,null,null,0,null,0,null,null,0]
[{"$nulls":3},22,4,null,0.000911,{"$nulls":7},0,null,null,0,null,0,null,null,0]
[{"$nulls":3},23,5,null,0.000944,{"$nulls":7},0,null,null,0,null,0,null,null,0]
[{"$nulls":3},24,6,null,0.000953,{"$nulls":7},0,null,null,0,null,0,null,null,0]
[{"$nulls":3},25,7,{"$f":"(G1000+G1001+G1002+G1003+G1004)*100000","v":{"v":488.9000000000001,"d":"488.900000"}},0.000956,null,{"$f":"42502/2","v":21251},{"$f":"146/2","v":73},{"$f":"F1000*J1000/I1000","v":1.6794362618229732},{"$nulls":3},0,{"$f":"F1000/100000","v":4.889000000000001E-3},{"$f":"Q995-Q995*P995","v":98422.6090252036},{"$f":"Q1000*5*O1000","v":0},null,0,{"$f":"F1000/100000","v":4.889000000000001E-3},{"$f":"V995-V995*U995","v":98422.6090252036},0]
[{"$nulls":3},26,8,null,0.000963,{"$nulls":7},0,null,null,0,null,0,null,null,0]
[{"$nulls":3},27,9,null,0.000972,{"$nulls":7},0,null,null,0,null,0,null,null,0]
[{"$nulls":3},28,10,null,0.000988,{"$nulls":7},0,null,null,0,null,0,null,null,0]
[{"$nulls":3},29,11,null,{"v":1.01E-3,"d":"0.001010"},{"$nulls":7},0,null,null,0,null,0,null,null,0]
[{"$nulls":3},30,12,{"$f":"(G1005+G1006+G1007+G1008+G1009)*100000","v":{"v":557.3,"d":"557.300000"}},0.001038,null,{"$f":"42502/2","v":21251},{"$f":"146/2","v":73},{"$f":"F1005*J1005/I1005","v":1.9143993223848286},{"$nulls":3},0,{"$f":"F1005/100000","v":0.005573},{"$f":"Q1000-Q1000*P1000","v":97941.42088967937},{"$f":"Q1005*5*O1005","v":0},null,0,{"$f":"F1005/100000","v":0.005573},{"$f":"V1000-V1000*U1000","v":97941.42088967937},0]
[{"$nulls":3},31,13,null,{"v":1.07E-3,"d":"0.001070"},{"$nulls":7},0,null,null,0,null,0,null,null,0]
[{"$nulls":3},32,14,null,{"v":1.111E-3,"d":"0.001111"},{"$nulls":7},{"$f":"IF($E1007<10,0, IF(AND(OR($E1007>10, $E1007=10),$E1007<10+$B$977),$B$975*$B$976*(($E1007-10)^3), $B$975*$B$976*(($E1007-10)^3-($E1007-10-$B$977)^3)))","v":0},null,null,0,null,{"$f":"IF($E1007<10,0,IF(AND(OR($E1007>10,$E1007=10),$E1007<10+$B$977),$B$974*$B$976*(($E1007-10)),$B$974*$B$976*(($E1007-10)-($E1007-10-$B$977))))","v":0},null,null,0]
[{"$nulls":3},33,15,null,{"v":1.152E-3,"d":"0.001152"},{"$nulls":7},0,null,null,0,null,0,null,null,0]
[{"$nulls":3},34,16,null,0.001202,{"$nulls":7},0,null,null,0,null,0,null,null,0]
[{"$nulls":3},35,17,{"$f":"(G1010+G1011+G1012+G1013+G1014)*100000","v":{"v":718.3000000000001,"d":"718.300000"}},0.001262,null,{"$f":"74665/2","v":37332.5},{"$f":"1517/2","v":{"v":758.5,"d":"759"}},{"$f":"F1010*J1010/I1010","v":14.59400120538405},{"$nulls":3},0,{"$f":"F1010/100000","v":7.183000000000001E-3},{"$f":"Q1005-Q1005*P1005","v":97395.5933510612},{"$f":"Q1010*5*O1010","v":0},null,0,{"$f":"F1010/100000","v":7.183000000000001E-3},{"$f":"V1005-V1005*U1005","v":97395.5933510612},0]
[{"$nulls":3},36,18,null,{"v":1.335E-3,"d":"0.001335"},{"$nulls":7},0,null,null,0,null,0,null,null,0]
[{"$nulls":3},37,19,null,{"v":1.421E-3,"d":"0.001421"},{"$nulls":7},0,null,null,0,null,0,null,null,0]
[{"$nulls":3},38,20,null,0.001522,{"$nulls":7},0,null,null,0,null,0,null,null,0]
[{"$nulls":3},39,21,null,0.001643,{"$nulls":7},0,null,null,0,null,0,null,null,0]
[{"$nulls":3},40,22,{"$f":"(G1015+G1016+G1017+G1018+G1019)*100000","v":{"v":1072.5,"d":"1,072.500000"}},0.001778,null,{"$f":"74665/2","v":37332.5},{"$f":"1517/2","v":{"v":758.5,"d":"759"}},{"$f":"F1015*J1015/I1015","v":21.790430589968526},{"$nulls":3},0,{"$f":"F1015/100000","v":0.010725},{"$f":"Q1010-Q1010*P1010","v":96696.00080402053},{"$f":"Q1015*5*O1015","v":0},null,0,{"$f":"F1015/100000","v":0.010725},{"$f":"V1010-V1010*U1010","v":96696.00080402053},0]
[{"$nulls":3},41,23,null,{"v":1.933E-3,"d":"0.001933"},{"$nulls":7},0,null,null,0,null,0,null,null,0]
[{"$nulls":3},42,24,null,0.002118,{"$nulls":7},0,null,null,0,null,0,null,null,0]
[{"$nulls":3},43,25,null,0.002332,{"$nulls":7},0,null,null,0,null,0,null,null,0]
[{"$nulls":3},44,26,null,0.002564,{"$nulls":7},0,null,null,0,null,0,null,null,0]
[{"$nulls":3},45,27,{"$f":"(G1020+G1021+G1022+G1023+G1024)*100000","v":{"v":1666.5,"d":"1,666.500000"}},0.002796,null,{"$f":"187568/2","v":{"v":93784,"d":"93,784"}},{"$f":"12488/2","v":{"v":6244,"d":"6,244"}},{"$f":"F1020*J1020/I1020","v":110.9531050072507},{"$nulls":3},0,{"$f":"F1020/100000","v":0.016665},{"$f":"Q1015-Q1015*P1015","v":95658.93619539741},{"$f":"Q1020*5*O1020","v":0},null,0,{"$f":"F1020/100000","v":0.016665},{"$f":"V1015-V1015*U1015","v":95658.93619539741},0]
[{"$nulls":3},46,28,null,0.003034,{"$nulls":7},0,null,null,0,null,0,null,null,0]
[{"$nulls":3},47,29,null,{"v":3.297E-3,"d":"0.003297"},{"$nulls":7},0,null,null,0,null,0,null,null,0]
[{"$nulls":3},48,30,null,{"v":0.0036,"d":"0.003600"},{"$nulls":7},0,null,null,0,null,0,null,null,0]
[{"$nulls":3},49,31,null,0.003938,{"$nulls":7},0,null,null,0,null,0,null,null,0]
[{"$nulls":3},50,32,{"$f":"(G1025+G1026+G1027+G1028+G1029)*100000","v":{"v":2526.4,"d":"2,526.400000"}},0.004306,null,{"$f":"187568/2","v":{"v":93784,"d":"93,784"}},{"$f":"12488/2","v":{"v":6244,"d":"6,244"}},{"$f":"F1025*J1025/I1025","v":168.2039750917001},{"$nulls":3},0,{"$f":"F1025/100000","v":0.025264},{"$f":"Q1020-Q1020*P1020","v":94064.78002370111},{"$f":"Q1025*5*O1025","v":0},null,0,{"$f":"F1025/100000","v":0.025264},{"$f":"V1020-V1020*U1020","v":94064.78002370111},0]
[{"$nulls":3},51,33,null,0.004682,{"$nulls":7},0,null,null,0,null,0,null,null,0]
[{"$nulls":3},52,34,null,{"v":5.058E-3,"d":"0.005058"},{"$nulls":7},0,null,null,0,null,0,null,null,0]
[{"$nulls":3},53,35,null,{"v":5.424E-3,"d":"0.005424"},{"$nulls":7},0,null,null,0,null,0,null,null,0]
[{"$nulls":3},54,36,null,0.005794,{"$nulls":7},0,null,null,0,null,0,null,null,0]
[{"$nulls":3},55,37,{"$f":"(G1030+G1031+G1032+G1033+G1034)*100000","v":{"v":3574.5,"d":"3,574.500000"}},0.006186,null,{"$f":"303307/2","v":{"v":151653.5,"d":"151,654"}},{"$f":"30964/2","v":{"v":15482,"d":"15,482"}},{"$f":"F1030*J1030/I1030","v":364.9134968859934},{"$nulls":3},0,{"$f":"F1030/100000","v":0.035745},{"$f":"Q1025-Q1025*P1025","v":91688.32742118233},{"$f":"Q1030*5*O1030","v":0},null,0,{"$f":"F1030/100000","v":0.035745},{"$f":"V1025-V1025*U1025","v":91688.32742118233},0]
[{"$nulls":3},56,38,null,0.006622,{"$nulls":7},0,null,null,0,null,0,null,null,0]
[{"$nulls":3},57,39,null,0.007102,{"$nulls":7},0,null,null,0,null,0,null,null,0]
[{"$nulls":3},58,40,null,{"v":0.00763,"d":"0.007630"},{"$nulls":7},0,null,null,0,null,0,null,null,0]
[{"$nulls":3},59,41,null,0.008205,{"$nulls":7},0,null,null,0,null,0,null,null,0]
[{"$nulls":3},60,42,{"$f":"(G1035+G1036+G1037+G1038+G1039)*100000","v":{"v":5144.400000000001,"d":"5,144.400000"}},0.008826,null,{"$f":"303307/2","v":{"v":151653.5,"d":"151,654"}},{"$f":"30964/2","v":{"v":15482,"d":"15,482"}},{"$f":"F1035*J1035/I1035","v":525.1814221234591},{"$nulls":3},0,{"$f":"F1035/100000","v":0.051444000000000004},{"$f":"Q1030-Q1030*P1030","v":88410.92815751217},{"$f":"Q1035*5*O1035","v":0},null,0,{"$f":"F1035/100000","v":0.051444000000000004},{"$f":"V1030-V1030*U1030","v":88410.92815751217},0]
[{"$nulls":3},61,43,null,{"v":9.495E-3,"d":"0.009495"},{"$nulls":7},0,null,null,0,null,0,null,null,0]
[{"$nulls":3},62,44,null,0.010217,{"$nulls":7},0,null,null,0,null,0,null,null,0]
[{"$nulls":3},63,45,null,{"v":0.01101,"d":"0.011010"},{"$nulls":7},0,null,null,0,null,0,null,null,0]
[{"$nulls":3},64,46,null,0.011896,{"$nulls":7},{"$f":"IF($E1039<10,0, IF(AND(OR($E1039>10, $E1039=10),$E1039<10+$B$977),$B$975*$B$976*(($E1039-10)^3), $B$975*$B$976*(($E1039-10)^3-($E1039-10-$B$977)^3)))","v":0},null,null,0,null,{"$f":"IF($E1039<10,0,IF(AND(OR($E1039>10,$E1039=10),$E1039<10+$B$977),$B$974*$B$976*(($E1039-10)),$B$974*$B$976*(($E1039-10)-($E1039-10-$B$977))))","v":0},null,null,0]
[{"$nulls":3},65,{"$f":"D1040-$P$51","v":47},{"$f":"(G1040+G1041+G1042+G1043+G1044)*100000","v":{"v":7712.8,"d":"7,712.800000"}},0.012923,null,{"$f":"401032/2","v":{"v":200516,"d":"200,516"}},{"$f":"48536/2","v":{"v":24268,"d":"24,268"}},{"$f":"F1040*J1040/I1040","v":933.4628179297413},{"$nulls":3},0,{"$f":"F1040/100000","v":0.077128},{"$f":"Q1035-Q1035*P1035","v":83862.71636937711},{"$f":"Q1040*5*O1040","v":0},null,0,{"$f":"F1040/100000","v":0.077128},{"$f":"V1035-V1035*U1035","v":83862.71636937711},0]
[{"$nulls":3},66,48,null,0.014095,{"$nulls":7},0,null,null,{"$f":"Q1041*O1041","v":0},null,0,null,null,{"$f":"V1041*T1041*K1041/100000","v":0}]
[{"$nulls":3},67,49,null,0.015356,{"$nulls":7},0,null,null,0,null,0,null,null,0]
[{"$nulls":3},68,50,null,0.016682,{"$nulls":7},0,null,null,0,null,0,null,null,0]
[{"$nulls":3},69,51,null,0.018072,{"$nulls":7},0,null,null,0,null,0,null,null,0]
[{"$nulls":3},70,52,{"$f":"(G1045+G1046+G1047+G1048+G1049)*100000","v":{"v":11861.8,"d":"11,861.800000"}},{"v":0.01963,"d":"0.019630"},null,{"$f":"401032/2","v":{"v":200516,"d":"200,516"}},{"$f":"48536/2","v":{"v":24268,"d":"24,268"}},{"$f":"F1045*J1045/I1045","v":1435.6069460791157},{"$nulls":3},0,{"$f":"F1045/100000","v":0.11861799999999999},{"$f":"Q1040-Q1040*P1040","v":77394.55278123979},{"$f":"Q1045*5*O1045","v":0},null,0,{"$f":"F1045/100000","v":0.11861799999999999},{"$f":"V1040-V1040*U1040","v":77394.55278123979},0]
[{"$nulls":3},71,53,null,{"v":0.02143,"d":"0.021430"},{"$nulls":7},0,null,null,0,null,0,null,null,0]
[{"$nulls":3},72,54,null,0.023431,{"$nulls":7},0,null,null,0,null,0,null,null,0]
[{"$nulls":3},73,55,null,0.025763,{"$nulls":7},0,null,null,0,null,0,null,null,0]
[{"$nulls":3},74,56,null,0.028364,{"$nulls":7},0,null,null,0,null,0,null,null,0]
[{"$nulls":3},75,57,{"$f":"(G1050+G1051+G1052+G1053+G1054)*100000","v":{"v":18984.100000000002,"d":"18,984.100000"}},{"v":0.03106,"d":"0.031060"},null,{"$f":"627727/2","v":{"v":313863.5,"d":"313,864"}},{"$f":"46860/2","v":{"v":23430,"d":"23,430"}},{"$f":"F1050*J1050/I1050","v":1417.1684920355506},{"$nulls":3},0,{"$f":"F1050/100000","v":0.189841},{"$f":"Q1045-Q1045*P1045","v":68214.16571943469},{"$f":"Q1050*5*O1050","v":0},null,0,{"$f":"F1050/100000","v":0.189841},{"$f":"V1045-V1045*U1045","v":68214.16571943469},0]
[{"$nulls":3},76,58,null,0.034041,{"$nulls":7},0,null,null,0,null,0,null,null,0]
[{"$nulls":3},77,59,null,0.037491,{"$nulls":7},0,null,null,0,null,0,null,null,0]
[{"$nulls":3},78,60,null,0.041456,{"$nulls":7},0,null,null,0,null,0,null,null,0]
[{"$nulls":3},79,61,null,0.045793,{"$nulls":7},0,null,null,0,null,0,null,null,0]
[{"$nulls":3},80,62,{"$f":"(G1055+G1056+G1057+G1058+G1059)*100000","v":{"v":31110.699999999997,"d":"31,110.700000"}},0.050433,null,{"$f":"627727/2","v":{"v":313863.5,"d":"313,864"}},{"$f":"46860/2","v":{"v":23430,"d":"23,430"}},{"$f":"F1055*J1055/I1055","v":2322.422648699195},{"$nulls":3},0,{"$f":"F1055/100000","v":0.31110699999999997},{"$f":"Q1050-Q1050*P1050","v":55264.32028509149},{"$f":"Q1055*5*O1055","v":0},null,0,{"$f":"F1055/100000","v":0.31110699999999997},{"$f":"V1050-V1050*U1050","v":55264.32028509149},{"$f":"V1055*T1055*K1055/100000","v":0}]
[{"$nulls":3},81,63,null,0.055465,{"$nulls":7},0,null,null,0,null,0,null,null,0]
[{"$nulls":3},82,64,null,0.061442,{"$nulls":7},0,null,null,0,null,0,null,null,0]
[{"$nulls":3},83,65,null,0.068173,{"$nulls":7},0,null,null,0,null,0,null,null,0]
[{"$nulls":3},84,66,null,0.075594,{"$nulls":7},0,null,null,0,null,0,null,null,0]
[{"$nulls":3},85,67,100000,null,null,{"v":733178,"d":"733,178"},{"v":17605,"d":"17,605"},{"$f":"F1060*J1060/I1060","v":2401.1904339737416},{"$nulls":3},0,{"$f":"F1060/100000","v":1},{"$f":"Q1055-Q1055*P1055","v":38071.203394157536},{"$f":"Q1060*6.5*O1060","v":0},null,0,{"$f":"F1060/100000","v":1},{"$f":"V1055-V1055*U1055","v":38071.203394157536},{"$f":"V1060*T1060*K1060/100000*3.5","v":0}]
{"$rows_empty":36}
[{"$nulls":17},{"$f":"SUM(R975:R1094)/100000*1000000","v":0},{"$nulls":4},{"$f":"SUM(W975:W1094)/100000*1000000","v":0}]
[]
[]
["NICHOLSON CALCULATIONS:",7]
[]
["PARAMETERS:",{"$nulls":4},"Both genders",{"$nulls":14},"LUNG CANCER CALCULATIONS"]
["Kl",{"$f":"L72*10^-2","v":0},null,"AGE","AGE CORRECTED ON ONSET TIME","Death Rate per 100,000",null,null,"Number of death","Number of lung cancer deaths","Lung cancer death rate, per 100,000",null,null,"Hodgson 2005 risk for summing",null,"MESOTHELIOMA CALCULATIONS",{"$nulls":3},"Asbestos RR of Lung Cancer-1)","Probability of Death Corrected for Asb.-Related Lung Cancer","Number of Survivals From 100,000 Corrected for Asbestos-Related Lung Cancer","Number of Lung Cancer Cases in Surviving Population (Original 100000)"]
["Km",{"$f":"L67*10^-8","v":0},null,0,{"$f":"D1104-$P$51","v":-18},637.2,null,null,26412,4,{"$f":"F1104*J1104/I1104","v":0.09650159018627898},null,null,{"$f":"IF(D1104+1-10<0,0,(D1104+1-10)^$B$1108)*0.5^(1/$B$1109)*$B$1112*$B$1105","v":{"$error":"#REF!"}},{"$f":"N1104","v":{"$error":"#REF!"}},{"$f":"F1104/100000","v":0.006372},{"$f":"100000","v":100000},{"$f":"Q1104*O1104","v":{"$error":"#REF!"}},null,{"$f":"IF($E1104<10,0,IF(AND(OR($E1104>10,$E1104=10),$E1104<10+$B$1106),$B$1103*$B$1105*(($E1104-10)),$B$1103*$B$1105*(($E1104-10)-($E1104-10-$B$1106))))","v":0},{"$f":"F1104/100000","v":0.006372},{"$f":"100000","v":100000},{"$f":"V1104*T1104*K1104/100000","v":0}]
["f",{"$f":"#REF!","v":{"$error":"#REF!"}},null,1,{"$f":"D1105-$P$51","v":-17},{"$f":"(G1105+G1106+G1107+G1108)*100000","v":{"v":110.39999999999999,"d":"110.400000"}},0.000429,null,4450,3,{"$f":"F1105*J1105/I1105","v":0.07442696629213483},null,null,{"$f":"IF(D1105+1-10<0,0,(D1105+1-10)^$B$1108)*0.5^(1/$B$1109)*$B$1112*$B$1105","v":{"$error":"#REF!"}},{"$f":"N1105","v":{"$error":"#REF!"}},{"$f":"F1105/100000","v":0.001104},{"$f":"Q1104-Q1104*P1104","v":99362.8},{"$f":"Q1105*4*O1105","v":{"$error":"#REF!"}},null,0,{"$f":"F1105/100000","v":0.001104},{"$f":"V1104-V1104*U1104","v":99362.8},{"$f":"V1105*T1105*K1105/100000","v":0}]
["d",{"$f":"$I$51","v":30},null,2,-16,null,0.000288,{"$nulls":6},{"$error":"#REF!"},{"$f":"SUM($N$1104,N1105)","v":{"$error":"#REF!"}},null,null,{"$f":"Q1106*O1106","v":{"$error":"#REF!"}},null,0,null,null,0]
[{"$nulls":3},3,-15,null,0.000219,{"$nulls":6},{"$error":"#REF!"},{"$f":"SUM($N$1104,N1106)","v":{"$error":"#REF!"}},null,null,{"$error":"#REF!"},null,0,null,null,0]
["Power",4.1,null,4,-14,null,0.000168,{"$nulls":6},{"$error":"#REF!"},{"$error":"#REF!"},null,null,{"$error":"#REF!"},null,0,null,null,0]
["Clearance",15,null,5,-13,{"$f":"(G1109+G1110+G1111+G1112+G1113)*100000","v":{"v":62.5,"d":"62.500000"}},{"v":1.56E-4,"d":"0.000156"},null,{"$f":"5651/2","v":2825.5},{"$f":"5/2","v":{"v":2.5,"d":"3"}},{"$f":"F1109*J1109/I1109","v":0.055299946912050965},null,null,{"$error":"#REF!"},{"$error":"#REF!"},{"$f":"F1109/100000","v":0.000625},{"$f":"Q1105-Q1105*P1105","v":99253.1034688},{"$f":"Q1109*5*O1109","v":{"$error":"#REF!"}},null,0,{"$f":"F1109/100000","v":0.000625},{"$f":"V1105-V1105*U1105","v":99253.1034688},0]
[{"$nulls":3},6,-12,null,0.000139,{"$nulls":6},{"$error":"#REF!"},{"$error":"#REF!"},null,null,{"$error":"#REF!"},null,0,null,null,0]
[{"$nulls":3},7,-11,null,{"v":1.25E-4,"d":"0.000125"},{"$nulls":6},{"$error":"#REF!"},{"$error":"#REF!"},null,null,{"$error":"#REF!"},null,0,null,null,0]
["Bi",{"$f":"1*10^-9","v":{"v":1e-09,"d":"0.0"}},null,8,-10,null,{"v":1.1E-4,"d":"0.000110"},{"$nulls":6},{"$error":"#REF!"},{"$error":"#REF!"},null,null,{"$error":"#REF!"},null,0,null,null,0]
[{"$nulls":3},9,-9,null,{"v":9.5e-05,"d":"0.000095"},{"$nulls":6},{"$error":"#REF!"},{"$error":"#REF!"},null,null,{"$error":"#REF!"},null,0,null,null,0]
[{"$nulls":3},10,-8,{"$f":"(G1114+G1115+G1116+G1117+G1118)*100000","v":{"v":75.1,"d":"75.100000"}},{"v":8.5e-05,"d":"0.000085"},null,{"$f":"5651/2","v":2825.5},{"$f":"5/2","v":{"v":2.5,"d":"3"}},{"$f":"F1114*J1114/I1114","v":0.06644841620952044},null,null,{"$error":"#REF!"},{"$error":"#REF!"},{"$f":"F1114/100000","v":7.5099999999999993E-4},{"$f":"Q1109-Q1109*P1109","v":99191.070279132},{"$f":"Q1114*5*O1114","v":{"$error":"#REF!"}},null,0,{"$f":"F1114/100000","v":7.5099999999999993E-4},{"$f":"V1109-V1109*U1109","v":99191.070279132},0]
[{"$nulls":3},11,-7,null,{"v":9.1e-05,"d":"0.000091"},{"$nulls":6},{"$error":"#REF!"},{"$error":"#REF!"},null,null,{"$error":"#REF!"},null,0,null,null,0]
[{"$nulls":3},12,-6,null,{"v":1.22E-4,"d":"0.000122"},{"$nulls":6},{"$error":"#REF!"},{"$error":"#REF!"},null,null,{"$error":"#REF!"},null,0,null,null,0]
[{"$nulls":3},13,-5,null,{"v":1.85E-4,"d":"0.000185"},{"$nulls":6},{"$error":"#REF!"},{"$error":"#REF!"},null,null,{"$error":"#REF!"},null,0,null,null,0]
[{"$nulls":3},14,-4,null,0.000268,{"$nulls":6},{"$error":"#REF!"},{"$error":"#REF!"},null,null,{"$error":"#REF!"},null,0,null,null,0]
[{"$nulls":3},15,-3,{"$f":"(G1119+G1120+G1121+G1122+G1123)*100000","v":{"v":259.2,"d":"259.200000"}},0.000355,null,{"$f":"30416/2","v":15208},{"$f":"25/2","v":{"v":12.5,"d":"13"}},{"$f":"F1119*J1119/I1119","v":0.2130457653866386},null,null,{"$error":"#REF!"},{"$error":"#REF!"},{"$f":"F1119/100000","v":2.5919999999999997E-3},{"$f":"Q1114-Q1114*P1114","v":99116.57778535238},{"$f":"Q1119*5*O1119","v":{"$error":"#REF!"}},null,0,{"$f":"F1119/100000","v":2.5919999999999997E-3},{"$f":"V1114-V1114*U1114","v":99116.57778535238},{"$f":"V1119*T1119*K1119/100000","v":0}]
[{"$nulls":3},16,-2,null,0.000438,{"$nulls":6},{"$error":"#REF!"},{"$error":"#REF!"},null,null,{"$error":"#REF!"},null,0,null,null,0]
[{"$nulls":3},17,-1,null,{"v":0.00052,"d":"0.000520"},{"$nulls":6},{"$error":"#REF!"},{"$error":"#REF!"},null,null,{"$error":"#REF!"},null,0,null,null,0]
[{"$nulls":3},18,0,null,{"v":0.0006,"d":"0.000600"},{"$nulls":6},{"$error":"#REF!"},{"$error":"#REF!"},null,null,{"$error":"#REF!"},null,0,null,null,0]
[{"$nulls":3},19,1,null,0.000679,{"$nulls":6},{"$error":"#REF!"},{"$error":"#REF!"},null,null,{"$error":"#REF!"},null,0,null,null,0]
[{"$nulls":3},20,2,{"$f":"(G1124+G1125+G1126+G1127+G1128)*100000","v":{"v":442.09999999999997,"d":"442.100000"}},0.000765,null,{"$f":"30416/2","v":15208},{"$f":"25/2","v":{"v":12.5,"d":"13"}},{"$f":"F1124*J1124/I1124","v":0.363377827459232},null,null,{"$error":"#REF!"},{"$error":"#REF!"},{"$f":"F1124/100000","v":0.004421},{"$f":"Q1119-Q1119*P1119","v":98859.66761573275},{"$f":"Q1124*5*O1124","v":{"$error":"#REF!"}},null,0,{"$f":"F1124/100000","v":0.004421},{"$f":"V1119-V1119*U1119","v":98859.66761573275},0]
[{"$nulls":3},21,3,null,0.000848,{"$nulls":6},{"$error":"#REF!"},{"$error":"#REF!"},null,null,{"$error":"#REF!"},null,0,null,null,0]
[{"$nulls":3},22,4,null,0.000911,{"$nulls":6},{"$error":"#REF!"},{"$error":"#REF!"},null,null,{"$error":"#REF!"},null,0,null,null,0]
[{"$nulls":3},23,5,null,0.000944,{"$nulls":6},{"$error":"#REF!"},{"$error":"#REF!"},null,null,{"$error":"#REF!"},null,0,null,null,0]
[{"$nulls":3},24,6,null,0.000953,{"$nulls":6},{"$error":"#REF!"},{"$error":"#REF!"},null,null,{"$error":"#REF!"},null,0,null,null,0]
[{"$nulls":3},25,7,{"$f":"(G1129+G1130+G1131+G1132+G1133)*100000","v":{"v":488.9000000000001,"d":"488.900000"}},0.000956,null,{"$f":"42502/2","v":21251},{"$f":"146/2","v":73},{"$f":"F1129*J1129/I1129","v":1.6794362618229732},null,null,{"$error":"#REF!"},{"$error":"#REF!"},{"$f":"F1129/100000","v":4.889000000000001E-3},{"$f":"Q1124-Q1124*P1124","v":98422.6090252036},{"$f":"Q1129*5*O1129","v":{"$error":"#REF!"}},null,0,{"$f":"F1129/100000","v":4.889000000000001E-3},{"$f":"V1124-V1124*U1124","v":98422.6090252036},0]
[{"$nulls":3},26,8,null,0.000963,{"$nulls":6},{"$error":"#REF!"},{"$error":"#REF!"},null,null,{"$error":"#REF!"},null,0,null,null,0]
[{"$nulls":3},27,9,null,0.000972,{"$nulls":6},{"$error":"#REF!"},{"$error":"#REF!"},null,null,{"$error":"#REF!"},null,0,null,null,0]
[{"$nulls":3},28,10,null,0.000988,{"$nulls":6},{"$error":"#REF!"},{"$error":"#REF!"},null,null,{"$error":"#REF!"},null,{"$error":"#REF!"},null,null,{"$error":"#REF!"}]
[{"$nulls":3},29,11,null,{"v":1.01E-3,"d":"0.001010"},{"$nulls":6},{"$error":"#REF!"},{"$error":"#REF!"},null,null,{"$error":"#REF!"},null,{"$error":"#REF!"},null,null,{"$error":"#REF!"}]
[{"$nulls":3},30,12,{"$f":"(G1134+G1135+G1136+G1137+G1138)*100000","v":{"v":557.3,"d":"557.300000"}},0.001038,null,{"$f":"42502/2","v":21251},{"$f":"146/2","v":73},{"$f":"F1134*J1134/I1134","v":1.9143993223848286},null,null,{"$error":"#REF!"},{"$error":"#REF!"},{"$f":"F1134/100000","v":0.005573},{"$f":"Q1129-Q1129*P1129","v":97941.42088967937},{"$f":"Q1134*5*O1134","v":{"$error":"#REF!"}},null,{"$error":"#REF!"},{"$f":"F1134/100000","v":0.005573},{"$f":"V1129-V1129*U1129","v":97941.42088967937},{"$error":"#REF!"}]
[{"$nulls":3},31,13,null,{"v":1.07E-3,"d":"0.001070"},{"$nulls":6},{"$error":"#REF!"},{"$error":"#REF!"},null,null,{"$error":"#REF!"},null,{"$error":"#REF!"},null,null,{"$error":"#REF!"}]
[{"$nulls":3},32,14,null,{"v":1.111E-3,"d":"0.001111"},{"$nulls":6},{"$error":"#REF!"},{"$error":"#REF!"},null,null,{"$error":"#REF!"},null,{"$f":"IF($E1136<10,0,IF(AND(OR($E1136>10,$E1136=10),$E1136<10+$B$1106),$B$1103*$B$1105*(($E1136-10)),$B$1103*$B$1105*(($E1136-10)-($E1136-10-$B$1106))))","v":{"$error":"#REF!"}},null,null,{"$error":"#REF!"}]
[{"$nulls":3},33,15,null,{"v":1.152E-3,"d":"0.001152"},{"$nulls":6},{"$error":"#REF!"},{"$error":"#REF!"},null,null,{"$error":"#REF!"},null,{"$error":"#REF!"},null,null,{"$error":"#REF!"}]
[{"$nulls":3},34,16,null,0.001202,{"$nulls":6},{"$error":"#REF!"},{"$error":"#REF!"},null,null,{"$error":"#REF!"},null,{"$error":"#REF!"},null,null,{"$error":"#REF!"}]
[{"$nulls":3},35,17,{"$f":"(G1139+G1140+G1141+G1142+G1143)*100000","v":{"v":718.3000000000001,"d":"718.300000"}},0.001262,null,{"$f":"74665/2","v":37332.5},{"$f":"1517/2","v":{"v":758.5,"d":"759"}},{"$f":"F1139*J1139/I1139","v":14.59400120538405},null,null,{"$error":"#REF!"},{"$error":"#REF!"},{"$f":"F1139/100000","v":7.183000000000001E-3},{"$f":"Q1134-Q1134*P1134","v":97395.5933510612},{"$f":"Q1139*5*O1139","v":{"$error":"#REF!"}},null,{"$error":"#REF!"},{"$f":"F1139/100000","v":7.183000000000001E-3},{"$f":"V1134-V1134*U1134","v":97395.5933510612},{"$error":"#REF!"}]
[{"$nulls":3},36,18,null,{"v":1.335E-3,"d":"0.001335"},{"$nulls":6},{"$error":"#REF!"},{"$error":"#REF!"},null,null,{"$error":"#REF!"},null,{"$error":"#REF!"},null,null,{"$error":"#REF!"}]
[{"$nulls":3},37,19,null,{"v":1.421E-3,"d":"0.001421"},{"$nulls":6},{"$error":"#REF!"},{"$error":"#REF!"},null,null,{"$error":"#REF!"},null,{"$error":"#REF!"},null,null,{"$error":"#REF!"}]
[{"$nulls":3},38,20,null,0.001522,{"$nulls":6},{"$error":"#REF!"},{"$error":"#REF!"},null,null,{"$error":"#REF!"},null,{"$error":"#REF!"},null,null,{"$error":"#REF!"}]
[{"$nulls":3},39,21,null,0.001643,{"$nulls":6},{"$error":"#REF!"},{"$error":"#REF!"},null,null,{"$error":"#REF!"},null,{"$error":"#REF!"},null,null,{"$error":"#REF!"}]
[{"$nulls":3},40,22,{"$f":"(G1144+G1145+G1146+G1147+G1148)*100000","v":{"v":1072.5,"d":"1,072.500000"}},0.001778,null,{"$f":"74665/2","v":37332.5},{"$f":"1517/2","v":{"v":758.5,"d":"759"}},{"$f":"F1144*J1144/I1144","v":21.790430589968526},null,null,{"$error":"#REF!"},{"$error":"#REF!"},{"$f":"F1144/100000","v":0.010725},{"$f":"Q1139-Q1139*P1139","v":96696.00080402053},{"$f":"Q1144*5*O1144","v":{"$error":"#REF!"}},null,{"$error":"#REF!"},{"$f":"F1144/100000","v":0.010725},{"$f":"V1139-V1139*U1139","v":96696.00080402053},{"$error":"#REF!"}]
[{"$nulls":3},41,23,null,{"v":1.933E-3,"d":"0.001933"},{"$nulls":6},{"$error":"#REF!"},{"$error":"#REF!"},null,null,{"$error":"#REF!"},null,{"$error":"#REF!"},null,null,{"$error":"#REF!"}]
[{"$nulls":3},42,24,null,0.002118,{"$nulls":6},{"$error":"#REF!"},{"$error":"#REF!"},null,null,{"$error":"#REF!"},null,{"$error":"#REF!"},null,null,{"$error":"#REF!"}]
[{"$nulls":3},43,25,null,0.002332,{"$nulls":6},{"$error":"#REF!"},{"$error":"#REF!"},null,null,{"$error":"#REF!"},null,{"$error":"#REF!"},null,null,{"$error":"#REF!"}]
[{"$nulls":3},44,26,null,0.002564,{"$nulls":6},{"$error":"#REF!"},{"$error":"#REF!"},null,null,{"$error":"#REF!"},null,{"$error":"#REF!"},null,null,{"$error":"#REF!"}]
[{"$nulls":3},45,27,{"$f":"(G1149+G1150+G1151+G1152+G1153)*100000","v":{"v":1666.5,"d":"1,666.500000"}},0.002796,null,{"$f":"187568/2","v":{"v":93784,"d":"93,784"}},{"$f":"12488/2","v":{"v":6244,"d":"6,244"}},{"$f":"F1149*J1149/I1149","v":110.9531050072507},null,null,{"$error":"#REF!"},{"$error":"#REF!"},{"$f":"F1149/100000","v":0.016665},{"$f":"Q1144-Q1144*P1144","v":95658.93619539741},{"$f":"Q1149*5*O1149","v":{"$error":"#REF!"}},null,{"$error":"#REF!"},{"$f":"F1149/100000","v":0.016665},{"$f":"V1144-V1144*U1144","v":95658.93619539741},{"$error":"#REF!"}]
[{"$nulls":3},46,28,null,0.003034,{"$nulls":6},{"$error":"#REF!"},{"$error":"#REF!"},null,null,{"$error":"#REF!"},null,{"$error":"#REF!"},null,null,{"$error":"#REF!"}]
[{"$nulls":3},47,29,null,{"v":3.297E-3,"d":"0.003297"},{"$nulls":6},{"$error":"#REF!"},{"$error":"#REF!"},null,null,{"$error":"#REF!"},null,{"$error":"#REF!"},null,null,{"$error":"#REF!"}]
[{"$nulls":3},48,30,null,{"v":0.0036,"d":"0.003600"},{"$nulls":6},{"$error":"#REF!"},{"$error":"#REF!"},null,null,{"$error":"#REF!"},null,{"$error":"#REF!"},null,null,{"$error":"#REF!"}]
[{"$nulls":3},49,31,null,0.003938,{"$nulls":6},{"$error":"#REF!"},{"$error":"#REF!"},null,null,{"$error":"#REF!"},null,{"$error":"#REF!"},null,null,{"$error":"#REF!"}]
[{"$nulls":3},50,32,{"$f":"(G1154+G1155+G1156+G1157+G1158)*100000","v":{"v":2526.4,"d":"2,526.400000"}},0.004306,null,{"$f":"187568/2","v":{"v":93784,"d":"93,784"}},{"$f":"12488/2","v":{"v":6244,"d":"6,244"}},{"$f":"F1154*J1154/I1154","v":168.2039750917001},null,null,{"$error":"#REF!"},{"$error":"#REF!"},{"$f":"F1154/100000","v":0.025264},{"$f":"Q1149-Q1149*P1149","v":94064.78002370111},{"$f":"Q1154*5*O1154","v":{"$error":"#REF!"}},null,{"$error":"#REF!"},{"$f":"F1154/100000","v":0.025264},{"$f":"V1149-V1149*U1149","v":94064.78002370111},{"$error":"#REF!"}]
[{"$nulls":3},51,33,null,0.004682,{"$nulls":6},{"$error":"#REF!"},{"$error":"#REF!"},null,null,{"$error":"#REF!"},null,{"$error":"#REF!"},null,null,{"$error":"#REF!"}]
[{"$nulls":3},52,34,null,{"v":5.058E-3,"d":"0.005058"},{"$nulls":6},{"$error":"#REF!"},{"$error":"#REF!"},null,null,{"$error":"#REF!"},null,{"$error":"#REF!"},null,null,{"$error":"#REF!"}]
[{"$nulls":3},53,35,null,{"v":5.424E-3,"d":"0.005424"},{"$nulls":6},{"$error":"#REF!"},{"$error":"#REF!"},null,null,{"$error":"#REF!"},null,{"$error":"#REF!"},null,null,{"$error":"#REF!"}]
[{"$nulls":3},54,36,null,0.005794,{"$nulls":6},{"$error":"#REF!"},{"$error":"#REF!"},null,null,{"$error":"#REF!"},null,{"$error":"#REF!"},null,null,{"$error":"#REF!"}]
[{"$nulls":3},55,37,{"$f":"(G1159+G1160+G1161+G1162+G1163)*100000","v":{"v":3574.5,"d":"3,574.500000"}},0.006186,null,{"$f":"303307/2","v":{"v":151653.5,"d":"151,654"}},{"$f":"30964/2","v":{"v":15482,"d":"15,482"}},{"$f":"F1159*J1159/I1159","v":364.9134968859934},null,null,{"$error":"#REF!"},{"$error":"#REF!"},{"$f":"F1159/100000","v":0.035745},{"$f":"Q1154-Q1154*P1154","v":91688.32742118233},{"$f":"Q1159*5*O1159","v":{"$error":"#REF!"}},null,{"$error":"#REF!"},{"$f":"F1159/100000","v":0.035745},{"$f":"V1154-V1154*U1154","v":91688.32742118233},{"$error":"#REF!"}]
[{"$nulls":3},56,38,null,0.006622,{"$nulls":6},{"$error":"#REF!"},{"$error":"#REF!"},null,null,{"$error":"#REF!"},null,{"$error":"#REF!"},null,null,{"$error":"#REF!"}]
[{"$nulls":3},57,39,null,0.007102,{"$nulls":6},{"$error":"#REF!"},{"$error":"#REF!"},null,null,{"$error":"#REF!"},null,{"$error":"#REF!"},null,null,{"$error":"#REF!"}]
[{"$nulls":3},58,40,null,{"v":0.00763,"d":"0.007630"},{"$nulls":6},{"$error":"#REF!"},{"$error":"#REF!"},null,null,{"$error":"#REF!"},null,{"$error":"#REF!"},null,null,{"$error":"#REF!"}]
[{"$nulls":3},59,41,null,0.008205,{"$nulls":6},{"$error":"#REF!"},{"$error":"#REF!"},null,null,{"$error":"#REF!"},null,{"$error":"#REF!"},null,null,{"$error":"#REF!"}]
[{"$nulls":3},60,42,{"$f":"(G1164+G1165+G1166+G1167+G1168)*100000","v":{"v":5144.400000000001,"d":"5,144.400000"}},0.008826,null,{"$f":"303307/2","v":{"v":151653.5,"d":"151,654"}},{"$f":"30964/2","v":{"v":15482,"d":"15,482"}},{"$f":"F1164*J1164/I1164","v":525.1814221234591},null,null,{"$error":"#REF!"},{"$error":"#REF!"},{"$f":"F1164/100000","v":0.051444000000000004},{"$f":"Q1159-Q1159*P1159","v":88410.92815751217},{"$f":"Q1164*5*O1164","v":{"$error":"#REF!"}},null,{"$error":"#REF!"},{"$f":"F1164/100000","v":0.051444000000000004},{"$f":"V1159-V1159*U1159","v":88410.92815751217},{"$error":"#REF!"}]
[{"$nulls":3},61,43,null,{"v":9.495E-3,"d":"0.009495"},{"$nulls":6},{"$error":"#REF!"},{"$error":"#REF!"},null,null,{"$error":"#REF!"},null,{"$error":"#REF!"},null,null,{"$error":"#REF!"}]
[{"$nulls":3},62,44,null,0.010217,{"$nulls":6},{"$error":"#REF!"},{"$error":"#REF!"},null,null,{"$error":"#REF!"},null,{"$error":"#REF!"},null,null,{"$error":"#REF!"}]
[{"$nulls":3},63,45,null,{"v":0.01101,"d":"0.011010"},{"$nulls":6},{"$error":"#REF!"},{"$error":"#REF!"},null,null,{"$error":"#REF!"},null,{"$error":"#REF!"},null,null,{"$error":"#REF!"}]
[{"$nulls":3},64,46,null,0.011896,{"$nulls":6},{"$error":"#REF!"},{"$error":"#REF!"},null,null,{"$error":"#REF!"},null,{"$f":"IF($E1168<10,0,IF(AND(OR($E1168>10,$E1168=10),$E1168<10+$B$1106),$B$1103*$B$1105*(($E1168-10)),$B$1103*$B$1105*(($E1168-10)-($E1168-10-$B$1106))))","v":{"$error":"#REF!"}},null,null,{"$error":"#REF!"}]
[{"$nulls":3},65,{"$f":"D1169-$P$51","v":47},{"$f":"(G1169+G1170+G1171+G1172+G1173)*100000","v":{"v":7712.8,"d":"7,712.800000"}},0.012923,null,{"$f":"401032/2","v":{"v":200516,"d":"200,516"}},{"$f":"48536/2","v":{"v":24268,"d":"24,268"}},{"$f":"F1169*J1169/I1169","v":933.4628179297413},null,null,{"$f":"IF(D1169+1-10<0,0,(D1169+1-10)^$B$1108)*0.5^(1/$B$1109)*$B$1112*$B$1105","v":{"$error":"#REF!"}},{"$error":"#REF!"},{"$f":"F1169/100000","v":0.077128},{"$f":"Q1164-Q1164*P1164","v":83862.71636937711},{"$f":"Q1169*5*O1169","v":{"$error":"#REF!"}},null,{"$error":"#REF!"},{"$f":"F1169/100000","v":0.077128},{"$f":"V1164-V1164*U1164","v":83862.71636937711},{"$error":"#REF!"}]
[{"$nulls":3},66,48,null,0.014095,{"$nulls":6},{"$error":"#REF!"},{"$error":"#REF!"},null,null,{"$f":"Q1170*O1170","v":{"$error":"#REF!"}},null,{"$error":"#REF!"},null,null,{"$f":"V1170*T1170*K1170/100000","v":{"$error":"#REF!"}}]
[{"$nulls":3},67,49,null,0.015356,{"$nulls":6},{"$error":"#REF!"},{"$f":"SUM($N$1104,N1170)","v":{"$error":"#REF!"}},null,null,{"$error":"#REF!"},null,{"$error":"#REF!"},null,null,{"$error":"#REF!"}]
[{"$nulls":3},68,50,null,0.016682,{"$nulls":6},{"$error":"#REF!"},{"$error":"#REF!"},null,null,{"$error":"#REF!"},null,{"$error":"#REF!"},null,null,{"$error":"#REF!"}]
[{"$nulls":3},69,51,null,0.018072,{"$nulls":6},{"$error":"#REF!"},{"$error":"#REF!"},null,null,{"$error":"#REF!"},null,{"$error":"#REF!"},null,null,{"$error":"#REF!"}]
[{"$nulls":3},70,52,{"$f":"(G1174+G1175+G1176+G1177+G1178)*100000","v":{"v":11861.8,"d":"11,861.800000"}},{"v":0.01963,"d":"0.019630"},null,{"$f":"401032/2","v":{"v":200516,"d":"200,516"}},{"$f":"48536/2","v":{"v":24268,"d":"24,268"}},{"$f":"F1174*J1174/I1174","v":1435.6069460791157},null,null,{"$error":"#REF!"},{"$error":"#REF!"},{"$f":"F1174/100000","v":0.11861799999999999},{"$f":"Q1169-Q1169*P1169","v":77394.55278123979},{"$f":"Q1174*5*O1174","v":{"$error":"#REF!"}},null,{"$error":"#REF!"},{"$f":"F1174/100000","v":0.11861799999999999},{"$f":"V1169-V1169*U1169","v":77394.55278123979},{"$error":"#REF!"}]
[{"$nulls":3},71,53,null,{"v":0.02143,"d":"0.021430"},{"$nulls":6},{"$error":"#REF!"},{"$error":"#REF!"},null,null,{"$error":"#REF!"},null,{"$error":"#REF!"},null,null,{"$error":"#REF!"}]
[{"$nulls":3},72,54,null,0.023431,{"$nulls":6},{"$error":"#REF!"},{"$error":"#REF!"},null,null,{"$error":"#REF!"},null,{"$error":"#REF!"},null,null,{"$error":"#REF!"}]
[{"$nulls":3},73,55,null,0.025763,{"$nulls":6},{"$error":"#REF!"},{"$error":"#REF!"},null,null,{"$error":"#REF!"},null,{"$error":"#REF!"},null,null,{"$error":"#REF!"}]
[{"$nulls":3},74,56,null,0.028364,{"$nulls":6},{"$error":"#REF!"},{"$error":"#REF!"},null,null,{"$error":"#REF!"},null,{"$error":"#REF!"},null,null,{"$error":"#REF!"}]
[{"$nulls":3},75,57,{"$f":"(G1179+G1180+G1181+G1182+G1183)*100000","v":{"v":18984.100000000002,"d":"18,984.100000"}},{"v":0.03106,"d":"0.031060"},null,{"$f":"627727/2","v":{"v":313863.5,"d":"313,864"}},{"$f":"46860/2","v":{"v":23430,"d":"23,430"}},{"$f":"F1179*J1179/I1179","v":1417.1684920355506},null,null,{"$error":"#REF!"},{"$error":"#REF!"},{"$f":"F1179/100000","v":0.189841},{"$f":"Q1174-Q1174*P1174","v":68214.16571943469},{"$f":"Q1179*5*O1179","v":{"$error":"#REF!"}},null,{"$error":"#REF!"},{"$f":"F1179/100000","v":0.189841},{"$f":"V1174-V1174*U1174","v":68214.16571943469},{"$error":"#REF!"}]
[{"$nulls":3},76,58,null,0.034041,{"$nulls":6},{"$error":"#REF!"},{"$error":"#REF!"},null,null,{"$error":"#REF!"},null,{"$error":"#REF!"},null,null,{"$error":"#REF!"}]
[{"$nulls":3},77,59,null,0.037491,{"$nulls":6},{"$error":"#REF!"},{"$error":"#REF!"},null,null,{"$error":"#REF!"},null,{"$error":"#REF!"},null,null,{"$error":"#REF!"}]
[{"$nulls":3},78,60,null,0.041456,{"$nulls":6},{"$error":"#REF!"},{"$error":"#REF!"},null,null,{"$error":"#REF!"},null,{"$error":"#REF!"},null,null,{"$error":"#REF!"}]
[{"$nulls":3},79,61,null,0.045793,{"$nulls":6},{"$error":"#REF!"},{"$error":"#REF!"},null,null,{"$error":"#REF!"},null,{"$error":"#REF!"},null,null,{"$error":"#REF!"}]
[{"$nulls":3},80,62,{"$f":"(G1184+G1185+G1186+G1187+G1188)*100000","v":{"v":31110.699999999997,"d":"31,110.700000"}},0.050433,null,{"$f":"627727/2","v":{"v":313863.5,"d":"313,864"}},{"$f":"46860/2","v":{"v":23430,"d":"23,430"}},{"$f":"F1184*J1184/I1184","v":2322.422648699195},null,null,{"$error":"#REF!"},{"$error":"#REF!"},{"$f":"F1184/100000","v":0.31110699999999997},{"$f":"Q1179-Q1179*P1179","v":55264.32028509149},{"$f":"Q1184*5*O1184","v":{"$error":"#REF!"}},null,{"$error":"#REF!"},{"$f":"F1184/100000","v":0.31110699999999997},{"$f":"V1179-V1179*U1179","v":55264.32028509149},{"$f":"V1184*T1184*K1184/100000","v":{"$error":"#REF!"}}]
[{"$nulls":3},81,63,null,0.055465,{"$nulls":6},{"$error":"#REF!"},{"$error":"#REF!"},null,null,{"$error":"#REF!"},null,{"$error":"#REF!"},null,null,{"$error":"#REF!"}]
[{"$nulls":3},82,64,null,0.061442,{"$nulls":6},{"$error":"#REF!"},{"$error":"#REF!"},null,null,{"$error":"#REF!"},null,{"$error":"#REF!"},null,null,{"$error":"#REF!"}]
[{"$nulls":3},83,65,null,0.068173,{"$nulls":6},{"$error":"#REF!"},{"$error":"#REF!"},null,null,{"$error":"#REF!"},null,{"$error":"#REF!"},null,null,{"$error":"#REF!"}]
[{"$nulls":3},84,66,null,0.075594,{"$nulls":6},{"$error":"#REF!"},{"$error":"#REF!"},null,null,{"$error":"#REF!"},null,{"$error":"#REF!"},null,null,{"$error":"#REF!"}]
[{"$nulls":3},85,67,100000,null,null,{"v":733178,"d":"733,178"},{"v":17605,"d":"17,605"},{"$f":"F1189*J1189/I1189","v":2401.1904339737416},null,null,{"$error":"#REF!"},{"$error":"#REF!"},{"$f":"F1189/100000","v":1},{"$f":"Q1184-Q1184*P1184","v":38071.203394157536},{"$f":"Q1189*6.5*O1189","v":{"$error":"#REF!"}},null,{"$error":"#REF!"},{"$f":"F1189/100000","v":1},{"$f":"V1184-V1184*U1184","v":38071.203394157536},{"$f":"V1189*T1189*K1189/100000*3.5","v":{"$error":"#REF!"}}]
{"$rows_empty":36}
[{"$nulls":17},{"$f":"SUM(R1104:R1223)/100000*1000000","v":{"$error":"#REF!"}},{"$nulls":4},{"$f":"SUM(W1104:W1223)/100000*1000000","v":{"$error":"#REF!"}}]
[]
[]
["NICHOLSON CALCULATIONS:",8]
[]
["PARAMETERS:",{"$nulls":4},"Both genders",{"$nulls":14},"LUNG CANCER CALCULATIONS"]
["Kl",0.01,null,"AGE","AGE CORRECTED ON ONSET TIME","Death Rate per 100,000",null,null,"Number of death","Number of lung cancer deaths","Lung cancer death rate, per 100,000",{"$nulls":4},"MESOTHELIOMA CALCULATIONS",{"$nulls":3},"Asbestos RR of Lung Cancer-1)","Probability of Death Corrected for Asb.-Related Lung Cancer","Number of Survivals From 100,000 Corrected for Asbestos-Related Lung Cancer","Number of Lung Cancer Cases in Surviving Population (Original 100000)"]
["Km",{"$f":"7.2*10^-11","v":7.2e-11},null,0,{"$f":"D1233-$P$51","v":-18},637.2,null,null,46975,1,{"$f":"F1233*J1233/I1233","v":0.013564662054284195},{"$nulls":3},{"$f":"IF($E1233<0,0, IF($E1233<$B$1235,$B$1233*$B$1234*(($E1233)^4), $B$1233*$B$1234*(($E1233)^4-($E1233-$B$1235)^4)))","v":0},{"$f":"F1233/100000","v":0.006372},{"$f":"100000","v":100000},{"$f":"Q1233*O1233","v":0},null,{"$f":"IF($E1233<10,0,IF(AND(OR($E1233>10,$E1233=10),$E1233<10+$B$1235),$B$1232*$B$1234*(($E1233-10)),$B$1232*$B$1234*(($E1233-10)-($E1233-10-$B$1235))))","v":0},{"$f":"F1233/100000","v":0.006372},{"$f":"100000","v":100000},{"$f":"V1233*T1233*K1233/100000","v":0}]
["f",{"$f":"$N$51*2.8","v":{"$error":"#REF!"}},null,1,{"$f":"D1234-$P$51","v":-17},{"$f":"(G1234+G1235+G1236+G1237)*100000","v":{"v":110.39999999999999,"d":"110.400000"}},0.000429,null,{"$f":"3157+2188+1601+1361","v":8307},2,{"$f":"F1234*J1234/I1234","v":0.026579992777175872},{"$nulls":3},0,{"$f":"F1234/100000","v":0.001104},{"$f":"Q1233-Q1233*P1233","v":99362.8},{"$f":"Q1234*4*O1234","v":0},null,0,{"$f":"F1234/100000","v":0.001104},{"$f":"V1233-V1233*U1233","v":99362.8},{"$f":"V1234*T1234*K1234/100000","v":0}]
["d",{"$f":"$I$51","v":30},null,2,-16,null,0.000288,{"$nulls":7},0,null,null,{"$f":"Q1235*O1235","v":0},null,0,null,null,0]
[{"$nulls":3},3,-15,null,0.000219,{"$nulls":7},0,null,null,0,null,0,null,null,0]
[{"$nulls":3},4,-14,null,0.000168,{"$nulls":7},0,null,null,0,null,0,null,null,0]
[{"$nulls":3},5,-13,{"$f":"(G1238+G1239+G1240+G1241+G1242)*100000","v":{"v":62.5,"d":"62.500000"}},{"v":1.56E-4,"d":"0.000156"},null,5834,5,{"$f":"F1238*J1238/I1238","v":0.053565306822077476},{"$nulls":3},0,{"$f":"F1238/100000","v":0.000625},{"$f":"Q1234-Q1234*P1234","v":99253.1034688},{"$f":"Q1238*5*O1238","v":0},null,0,{"$f":"F1238/100000","v":0.000625},{"$f":"V1234-V1234*U1234","v":99253.1034688},0]
[{"$nulls":3},6,-12,null,0.000139,{"$nulls":7},0,null,null,0,null,0,null,null,0]
[{"$nulls":3},7,-11,null,{"v":1.25E-4,"d":"0.000125"},{"$nulls":7},0,null,null,0,null,0,null,null,0]
[{"$nulls":3},8,-10,null,{"v":1.1E-4,"d":"0.000110"},{"$nulls":7},0,null,null,0,null,0,null,null,0]
[{"$nulls":3},9,-9,null,{"v":9.5e-05,"d":"0.000095"},{"$nulls":7},0,null,null,0,null,0,null,null,0]
[{"$nulls":3},10,-8,{"$f":"(G1243+G1244+G1245+G1246+G1247)*100000","v":{"v":75.1,"d":"75.100000"}},{"v":8.5e-05,"d":"0.000085"},null,6745,2,{"$f":"F1243*J1243/I1243","v":0.022268346923647143},{"$nulls":3},0,{"$f":"F1243/100000","v":7.5099999999999993E-4},{"$f":"Q1238-Q1238*P1238","v":99191.070279132},{"$f":"Q1243*5*O1243","v":0},null,0,{"$f":"F1243/100000","v":7.5099999999999993E-4},{"$f":"V1238-V1238*U1238","v":99191.070279132},0]
[{"$nulls":3},11,-7,null,{"v":9.1e-05,"d":"0.000091"},{"$nulls":7},0,null,null,0,null,0,null,null,0]
[{"$nulls":3},12,-6,null,{"v":1.22E-4,"d":"0.000122"},{"$nulls":7},0,null,null,0,null,0,null,null,0]
[{"$nulls":3},13,-5,null,{"v":1.85E-4,"d":"0.000185"},{"$nulls":7},0,null,null,0,null,0,null,null,0]
[{"$nulls":3},14,-4,null,0.000268,{"$nulls":7},0,null,null,0,null,0,null,null,0]
[{"$nulls":3},15,-3,{"$f":"(G1248+G1249+G1250+G1251+G1252)*100000","v":{"v":259.2,"d":"259.200000"}},0.000355,null,21443,10,{"$f":"F1248*J1248/I1248","v":0.12087860840367486},{"$nulls":3},0,{"$f":"F1248/100000","v":2.5919999999999997E-3},{"$f":"Q1243-Q1243*P1243","v":99116.57778535238},{"$f":"Q1248*5*O1248","v":0},null,0,{"$f":"F1248/100000","v":2.5919999999999997E-3},{"$f":"V1243-V1243*U1243","v":99116.57778535238},{"$f":"V1248*T1248*K1248/100000","v":0}]
[{"$nulls":3},16,-2,null,0.000438,{"$nulls":7},0,null,null,0,null,0,null,null,0]
[{"$nulls":3},17,-1,null,{"v":0.00052,"d":"0.000520"},{"$nulls":7},0,null,null,0,null,0,null,null,0]
[{"$nulls":3},18,0,null,{"v":0.0006,"d":"0.000600"},{"$nulls":7},{"$error":"#REF!"},null,null,{"$error":"#REF!"},null,0,null,null,0]
[{"$nulls":3},19,1,null,0.000679,{"$nulls":7},{"$error":"#REF!"},null,null,{"$error":"#REF!"},null,0,null,null,0]
[{"$nulls":3},20,2,{"$f":"(G1253+G1254+G1255+G1256+G1257)*100000","v":{"v":442.09999999999997,"d":"442.100000"}},0.000765,null,26543,16,{"$f":"F1253*J1253/I1253","v":0.26649587461854346},{"$nulls":3},{"$error":"#REF!"},{"$f":"F1253/100000","v":0.004421},{"$f":"Q1248-Q1248*P1248","v":98859.66761573275},{"$f":"Q1253*5*O1253","v":{"$error":"#REF!"}},null,0,{"$f":"F1253/100000","v":0.004421},{"$f":"V1248-V1248*U1248","v":98859.66761573275},0]
[{"$nulls":3},21,3,null,0.000848,{"$nulls":7},{"$error":"#REF!"},null,null,{"$error":"#REF!"},null,0,null,null,0]
[{"$nulls":3},22,4,null,0.000911,{"$nulls":7},{"$error":"#REF!"},null,null,{"$error":"#REF!"},null,0,null,null,0]
[{"$nulls":3},23,5,null,0.000944,{"$nulls":7},{"$error":"#REF!"},null,null,{"$error":"#REF!"},null,0,null,null,0]
[{"$nulls":3},24,6,null,0.000953,{"$nulls":7},{"$error":"#REF!"},null,null,{"$error":"#REF!"},null,0,null,null,0]
[{"$nulls":3},25,7,{"$f":"(G1258+G1259+G1260+G1261+G1262)*100000","v":{"v":488.9000000000001,"d":"488.900000"}},0.000956,null,23292,66,{"$f":"F1258*J1258/I1258","v":1.385342606903658},{"$nulls":3},{"$error":"#REF!"},{"$f":"F1258/100000","v":4.889000000000001E-3},{"$f":"Q1253-Q1253*P1253","v":98422.6090252036},{"$f":"Q1258*5*O1258","v":{"$error":"#REF!"}},null,0,{"$f":"F1258/100000","v":4.889000000000001E-3},{"$f":"V1253-V1253*U1253","v":98422.6090252036},0]
[{"$nulls":3},26,8,null,0.000963,{"$nulls":7},{"$error":"#REF!"},null,null,{"$error":"#REF!"},null,0,null,null,0]
[{"$nulls":3},27,9,null,0.000972,{"$nulls":7},{"$error":"#REF!"},null,null,{"$error":"#REF!"},null,0,null,null,0]
[{"$nulls":3},28,10,null,0.000988,{"$nulls":7},{"$error":"#REF!"},null,null,{"$error":"#REF!"},null,{"$error":"#REF!"},null,null,{"$error":"#REF!"}]
[{"$nulls":3},29,11,null,{"v":1.01E-3,"d":"0.001010"},{"$nulls":7},{"$error":"#REF!"},null,null,{"$error":"#REF!"},null,{"$error":"#REF!"},null,null,{"$error":"#REF!"}]
[{"$nulls":3},30,12,{"$f":"(G1263+G1264+G1265+G1266+G1267)*100000","v":{"v":557.3,"d":"557.300000"}},0.001038,null,21641,205,{"$f":"F1263*J1263/I1263","v":5.279169169631717},{"$nulls":3},{"$error":"#REF!"},{"$f":"F1263/100000","v":0.005573},{"$f":"Q1258-Q1258*P1258","v":97941.42088967937},{"$f":"Q1263*5*O1263","v":{"$error":"#REF!"}},null,{"$error":"#REF!"},{"$f":"F1263/100000","v":0.005573},{"$f":"V1258-V1258*U1258","v":97941.42088967937},{"$error":"#REF!"}]
[{"$nulls":3},31,13,null,{"v":1.07E-3,"d":"0.001070"},{"$nulls":7},{"$error":"#REF!"},null,null,{"$error":"#REF!"},null,{"$error":"#REF!"},null,null,{"$error":"#REF!"}]
[{"$nulls":3},32,14,null,{"v":1.111E-3,"d":"0.001111"},{"$nulls":7},{"$f":"IF($E1265<0,0, IF($E1265<$B$1235,$B$1233*$B$1234*(($E1265)^4), $B$1233*$B$1234*(($E1265)^4-($E1265-$B$1235)^4)))","v":{"$error":"#REF!"}},null,null,{"$error":"#REF!"},null,{"$f":"IF($E1265<10,0,IF(AND(OR($E1265>10,$E1265=10),$E1265<10+$B$1235),$B$1232*$B$1234*(($E1265-10)),$B$1232*$B$1234*(($E1265-10)-($E1265-10-$B$1235))))","v":{"$error":"#REF!"}},null,null,{"$error":"#REF!"}]
[{"$nulls":3},33,15,null,{"v":1.152E-3,"d":"0.001152"},{"$nulls":7},{"$error":"#REF!"},null,null,{"$error":"#REF!"},null,{"$error":"#REF!"},null,null,{"$error":"#REF!"}]
[{"$nulls":3},34,16,null,0.001202,{"$nulls":7},{"$error":"#REF!"},null,null,{"$error":"#REF!"},null,{"$error":"#REF!"},null,null,{"$error":"#REF!"}]
[{"$nulls":3},35,17,{"$f":"(G1268+G1269+G1270+G1271+G1272)*100000","v":{"v":718.3000000000001,"d":"718.300000"}},0.001262,null,24036,648,{"$f":"F1268*J1268/I1268","v":19.36505242136795},{"$nulls":3},{"$error":"#REF!"},{"$f":"F1268/100000","v":7.183000000000001E-3},{"$f":"Q1263-Q1263*P1263","v":97395.5933510612},{"$f":"Q1268*5*O1268","v":{"$error":"#REF!"}},null,{"$error":"#REF!"},{"$f":"F1268/100000","v":7.183000000000001E-3},{"$f":"V1263-V1263*U1263","v":97395.5933510612},{"$error":"#REF!"}]
[{"$nulls":3},36,18,null,{"v":1.335E-3,"d":"0.001335"},{"$nulls":7},{"$error":"#REF!"},null,null,{"$error":"#REF!"},null,{"$error":"#REF!"},null,null,{"$error":"#REF!"}]
[{"$nulls":3},37,19,null,{"v":1.421E-3,"d":"0.001421"},{"$nulls":7},{"$error":"#REF!"},null,null,{"$error":"#REF!"},null,{"$error":"#REF!"},null,null,{"$error":"#REF!"}]
[{"$nulls":3},38,20,null,0.001522,{"$nulls":7},{"$error":"#REF!"},null,null,{"$error":"#REF!"},null,{"$error":"#REF!"},null,null,{"$error":"#REF!"}]
[{"$nulls":3},39,21,null,0.001643,{"$nulls":7},{"$error":"#REF!"},null,null,{"$error":"#REF!"},null,{"$error":"#REF!"},null,null,{"$error":"#REF!"}]
[{"$nulls":3},40,22,{"$f":"(G1273+G1274+G1275+G1276+G1277)*100000","v":{"v":1072.5,"d":"1,072.500000"}},0.001778,null,34073,{"v":1745,"d":"1,745"},{"$f":"F1273*J1273/I1273","v":54.926554750095384},{"$nulls":3},{"$error":"#REF!"},{"$f":"F1273/100000","v":0.010725},{"$f":"Q1268-Q1268*P1268","v":96696.00080402053},{"$f":"Q1273*5*O1273","v":{"$error":"#REF!"}},null,{"$error":"#REF!"},{"$f":"F1273/100000","v":0.010725},{"$f":"V1268-V1268*U1268","v":96696.00080402053},{"$error":"#REF!"}]
[{"$nulls":3},41,23,null,{"v":1.933E-3,"d":"0.001933"},{"$nulls":7},{"$error":"#REF!"},null,null,{"$error":"#REF!"},null,{"$error":"#REF!"},null,null,{"$error":"#REF!"}]
[{"$nulls":3},42,24,null,0.002118,{"$nulls":7},{"$error":"#REF!"},null,null,{"$error":"#REF!"},null,{"$error":"#REF!"},null,null,{"$error":"#REF!"}]
[{"$nulls":3},43,25,null,0.002332,{"$nulls":7},{"$error":"#REF!"},null,null,{"$error":"#REF!"},null,{"$error":"#REF!"},null,null,{"$error":"#REF!"}]
[{"$nulls":3},44,26,null,0.002564,{"$nulls":7},{"$error":"#REF!"},null,null,{"$error":"#REF!"},null,{"$error":"#REF!"},null,null,{"$error":"#REF!"}]
[{"$nulls":3},45,27,{"$f":"(G1278+G1279+G1280+G1281+G1282)*100000","v":{"v":1666.5,"d":"1,666.500000"}},0.002796,null,55483,{"v":4196,"d":"4,196"},{"$f":"F1278*J1278/I1278","v":126.03200980480507},{"$nulls":3},{"$error":"#REF!"},{"$f":"F1278/100000","v":0.016665},{"$f":"Q1273-Q1273*P1273","v":95658.93619539741},{"$f":"Q1278*5*O1278","v":{"$error":"#REF!"}},null,{"$error":"#REF!"},{"$f":"F1278/100000","v":0.016665},{"$f":"V1273-V1273*U1273","v":95658.93619539741},{"$error":"#REF!"}]
[{"$nulls":3},46,28,null,0.003034,{"$nulls":7},{"$error":"#REF!"},null,null,{"$error":"#REF!"},null,{"$error":"#REF!"},null,null,{"$error":"#REF!"}]
[{"$nulls":3},47,29,null,{"v":3.297E-3,"d":"0.003297"},{"$nulls":7},{"$error":"#REF!"},null,null,{"$error":"#REF!"},null,{"$error":"#REF!"},null,null,{"$error":"#REF!"}]
[{"$nulls":3},48,30,null,{"v":0.0036,"d":"0.003600"},{"$nulls":7},{"$error":"#REF!"},null,null,{"$error":"#REF!"},null,{"$error":"#REF!"},null,null,{"$error":"#REF!"}]
[{"$nulls":3},49,31,null,0.003938,{"$nulls":7},{"$error":"#REF!"},null,null,{"$error":"#REF!"},null,{"$error":"#REF!"},null,null,{"$error":"#REF!"}]
[{"$nulls":3},50,32,{"$f":"(G1283+G1284+G1285+G1286+G1287)*100000","v":{"v":2526.4,"d":"2,526.400000"}},0.004306,null,89640,{"v":8049,"d":"8,049"},{"$f":"F1283*J1283/I1283","v":226.85178045515397},{"$nulls":3},{"$error":"#REF!"},{"$f":"F1283/100000","v":0.025264},{"$f":"Q1278-Q1278*P1278","v":94064.78002370111},{"$f":"Q1283*5*O1283","v":{"$error":"#REF!"}},null,{"$error":"#REF!"},{"$f":"F1283/100000","v":0.025264},{"$f":"V1278-V1278*U1278","v":94064.78002370111},{"$error":"#REF!"}]
[{"$nulls":3},51,33,null,0.004682,{"$nulls":7},{"$error":"#REF!"},null,null,{"$error":"#REF!"},null,{"$error":"#REF!"},null,null,{"$error":"#REF!"}]
[{"$nulls":3},52,34,null,{"v":5.058E-3,"d":"0.005058"},{"$nulls":7},{"$error":"#REF!"},null,null,{"$error":"#REF!"},null,{"$error":"#REF!"},null,null,{"$error":"#REF!"}]
[{"$nulls":3},53,35,null,{"v":5.424E-3,"d":"0.005424"},{"$nulls":7},{"$error":"#REF!"},null,null,{"$error":"#REF!"},null,{"$error":"#REF!"},null,null,{"$error":"#REF!"}]
[{"$nulls":3},54,36,null,0.005794,{"$nulls":7},{"$error":"#REF!"},null,null,{"$error":"#REF!"},null,{"$error":"#REF!"},null,null,{"$error":"#REF!"}]
[{"$nulls":3},55,37,{"$f":"(G1288+G1289+G1290+G1291+G1292)*100000","v":{"v":3574.5,"d":"3,574.500000"}},0.006186,null,125574,{"v":11599,"d":"11,599"},{"$f":"F1288*J1288/I1288","v":330.1688685555927},{"$nulls":3},{"$error":"#REF!"},{"$f":"F1288/100000","v":0.035745},{"$f":"Q1283-Q1283*P1283","v":91688.32742118233},{"$f":"Q1288*5*O1288","v":{"$error":"#REF!"}},null,{"$error":"#REF!"},{"$f":"F1288/100000","v":0.035745},{"$f":"V1283-V1283*U1283","v":91688.32742118233},{"$error":"#REF!"}]
[{"$nulls":3},56,38,null,0.006622,{"$nulls":7},{"$error":"#REF!"},null,null,{"$error":"#REF!"},null,{"$error":"#REF!"},null,null,{"$error":"#REF!"}]
[{"$nulls":3},57,39,null,0.007102,{"$nulls":7},{"$error":"#REF!"},null,null,{"$error":"#REF!"},null,{"$error":"#REF!"},null,null,{"$error":"#REF!"}]
[{"$nulls":3},58,40,null,{"v":0.00763,"d":"0.007630"},{"$nulls":7},{"$error":"#REF!"},null,null,{"$error":"#REF!"},null,{"$error":"#REF!"},null,null,{"$error":"#REF!"}]
[{"$nulls":3},59,41,null,0.008205,{"$nulls":7},{"$error":"#REF!"},null,null,{"$error":"#REF!"},null,{"$error":"#REF!"},null,null,{"$error":"#REF!"}]
[{"$nulls":3},60,42,{"$f":"(G1293+G1294+G1295+G1296+G1297)*100000","v":{"v":5144.400000000001,"d":"5,144.400000"}},0.008826,null,167098,{"v":15002,"d":"15,002"},{"$f":"F1293*J1293/I1293","v":461.8624328238519},{"$nulls":3},{"$error":"#REF!"},{"$f":"F1293/100000","v":0.051444000000000004},{"$f":"Q1288-Q1288*P1288","v":88410.92815751217},{"$f":"Q1293*5*O1293","v":{"$error":"#REF!"}},null,{"$error":"#REF!"},{"$f":"F1293/100000","v":0.051444000000000004},{"$f":"V1288-V1288*U1288","v":88410.92815751217},{"$error":"#REF!"}]
[{"$nulls":3},61,43,null,{"v":9.495E-3,"d":"0.009495"},{"$nulls":7},{"$error":"#REF!"},null,null,{"$error":"#REF!"},null,{"$error":"#REF!"},null,null,{"$error":"#REF!"}]
[{"$nulls":3},62,44,null,0.010217,{"$nulls":7},{"$error":"#REF!"},null,null,{"$error":"#REF!"},null,{"$error":"#REF!"},null,null,{"$error":"#REF!"}]
[{"$nulls":3},63,45,null,{"v":0.01101,"d":"0.011010"},{"$nulls":7},{"$error":"#REF!"},null,null,{"$error":"#REF!"},null,{"$error":"#REF!"},null,null,{"$error":"#REF!"}]
[{"$nulls":3},64,46,null,0.011896,{"$nulls":7},{"$f":"IF($E1297<0,0, IF($E1297<$B$1235,$B$1233*$B$1234*(($E1297)^4), $B$1233*$B$1234*(($E1297)^4-($E1297-$B$1235)^4)))","v":{"$error":"#REF!"}},null,null,{"$error":"#REF!"},null,{"$f":"IF($E1297<10,0,IF(AND(OR($E1297>10,$E1297=10),$E1297<10+$B$1235),$B$1232*$B$1234*(($E1297-10)),$B$1232*$B$1234*(($E1297-10)-($E1297-10-$B$1235))))","v":{"$error":"#REF!"}},null,null,{"$error":"#REF!"}]
[{"$nulls":3},65,{"$f":"D1298-$P$51","v":47},{"$f":"(G1298+G1299+G1300+G1301+G1302)*100000","v":{"v":7712.8,"d":"7,712.800000"}},0.012923,null,209496,{"v":16398,"d":"16,398"},{"$f":"F1298*J1298/I1298","v":603.7083972963685},{"$nulls":3},{"$error":"#REF!"},{"$f":"F1298/100000","v":0.077128},{"$f":"Q1293-Q1293*P1293","v":83862.71636937711},{"$f":"Q1298*5*O1298","v":{"$error":"#REF!"}},null,{"$error":"#REF!"},{"$f":"F1298/100000","v":0.077128},{"$f":"V1293-V1293*U1293","v":83862.71636937711},{"$error":"#REF!"}]
[{"$nulls":3},66,48,null,0.014095,{"$nulls":7},{"$error":"#REF!"},null,null,{"$f":"Q1299*O1299","v":{"$error":"#REF!"}},null,{"$error":"#REF!"},null,null,{"$f":"V1299*T1299*K1299/100000","v":{"$error":"#REF!"}}]
[{"$nulls":3},67,49,null,0.015356,{"$nulls":7},{"$error":"#REF!"},null,null,{"$error":"#REF!"},null,{"$error":"#REF!"},null,null,{"$error":"#REF!"}]
[{"$nulls":3},68,50,null,0.016682,{"$nulls":7},{"$error":"#REF!"},null,null,{"$error":"#REF!"},null,{"$error":"#REF!"},null,null,{"$error":"#REF!"}]
[{"$nulls":3},69,51,null,0.018072,{"$nulls":7},{"$error":"#REF!"},null,null,{"$error":"#REF!"},null,{"$error":"#REF!"},null,null,{"$error":"#REF!"}]
[{"$nulls":3},70,52,{"$f":"(G1303+G1304+G1305+G1306+G1307)*100000","v":{"v":11861.8,"d":"11,861.800000"}},{"v":0.01963,"d":"0.019630"},null,236099,{"v":14158,"d":"14,158"},{"$f":"F1303*J1303/I1303","v":711.3090881367561},{"$nulls":3},{"$error":"#REF!"},{"$f":"F1303/100000","v":0.11861799999999999},{"$f":"Q1298-Q1298*P1298","v":77394.55278123979},{"$f":"Q1303*5*O1303","v":{"$error":"#REF!"}},null,{"$error":"#REF!"},{"$f":"F1303/100000","v":0.11861799999999999},{"$f":"V1298-V1298*U1298","v":77394.55278123979},{"$error":"#REF!"}]
[{"$nulls":3},71,53,null,{"v":0.02143,"d":"0.021430"},{"$nulls":7},{"$error":"#REF!"},null,null,{"$error":"#REF!"},null,{"$error":"#REF!"},null,null,{"$error":"#REF!"}]
[{"$nulls":3},72,54,null,0.023431,{"$nulls":7},{"$error":"#REF!"},null,null,{"$error":"#REF!"},null,{"$error":"#REF!"},null,null,{"$error":"#REF!"}]
[{"$nulls":3},73,55,null,0.025763,{"$nulls":7},{"$error":"#REF!"},null,null,{"$error":"#REF!"},null,{"$error":"#REF!"},null,null,{"$error":"#REF!"}]
[{"$nulls":3},74,56,null,0.028364,{"$nulls":7},{"$error":"#REF!"},null,null,{"$error":"#REF!"},null,{"$error":"#REF!"},null,null,{"$error":"#REF!"}]
[{"$nulls":3},75,57,{"$f":"(G1308+G1309+G1310+G1311+G1312)*100000","v":{"v":18984.100000000002,"d":"18,984.100000"}},{"v":0.03106,"d":"0.031060"},null,247048,{"v":9914,"d":"9,914"},{"$f":"F1308*J1308/I1308","v":761.82914818173},{"$nulls":3},{"$error":"#REF!"},{"$f":"F1308/100000","v":0.189841},{"$f":"Q1303-Q1303*P1303","v":68214.16571943469},{"$f":"Q1308*5*O1308","v":{"$error":"#REF!"}},null,{"$error":"#REF!"},{"$f":"F1308/100000","v":0.189841},{"$f":"V1303-V1303*U1303","v":68214.16571943469},{"$error":"#REF!"}]
[{"$nulls":3},76,58,null,0.034041,{"$nulls":7},{"$error":"#REF!"},null,null,{"$error":"#REF!"},null,{"$error":"#REF!"},null,null,{"$error":"#REF!"}]
[{"$nulls":3},77,59,null,0.037491,{"$nulls":7},{"$error":"#REF!"},null,null,{"$error":"#REF!"},null,{"$error":"#REF!"},null,null,{"$error":"#REF!"}]
[{"$nulls":3},78,60,null,0.041456,{"$nulls":7},{"$error":"#REF!"},null,null,{"$error":"#REF!"},null,{"$error":"#REF!"},null,null,{"$error":"#REF!"}]
[{"$nulls":3},79,61,null,0.045793,{"$nulls":7},{"$error":"#REF!"},null,null,{"$error":"#REF!"},null,{"$error":"#REF!"},null,null,{"$error":"#REF!"}]
[{"$nulls":3},80,62,{"$f":"(G1313+G1314+G1315+G1316+G1317)*100000","v":{"v":31110.699999999997,"d":"31,110.700000"}},0.050433,null,243550,{"v":5489,"d":"5,489"},{"$f":"F1313*J1313/I1313","v":701.1563633750769},{"$nulls":3},{"$error":"#REF!"},{"$f":"F1313/100000","v":0.31110699999999997},{"$f":"Q1308-Q1308*P1308","v":55264.32028509149},{"$f":"Q1313*5*O1313","v":{"$error":"#REF!"}},null,{"$error":"#REF!"},{"$f":"F1313/100000","v":0.31110699999999997},{"$f":"V1308-V1308*U1308","v":55264.32028509149},{"$f":"V1313*T1313*K1313/100000","v":{"$error":"#REF!"}}]
[{"$nulls":3},81,63,null,0.055465,{"$nulls":7},{"$error":"#REF!"},null,null,{"$error":"#REF!"},null,{"$error":"#REF!"},null,null,{"$error":"#REF!"}]
[{"$nulls":3},82,64,null,0.061442,{"$nulls":7},{"$error":"#REF!"},null,null,{"$error":"#REF!"},null,{"$error":"#REF!"},null,null,{"$error":"#REF!"}]
[{"$nulls":3},83,65,null,0.068173,{"$nulls":7},{"$error":"#REF!"},null,null,{"$error":"#REF!"},null,{"$error":"#REF!"},null,null,{"$error":"#REF!"}]
[{"$nulls":3},84,66,null,0.075594,{"$nulls":7},{"$error":"#REF!"},null,null,{"$error":"#REF!"},null,{"$error":"#REF!"},null,null,{"$error":"#REF!"}]
[{"$nulls":3},85,67,100000,null,null,{"$f":"183971+91417+26134+4629","v":306151},{"$f":"2281+613+115+9","v":{"v":3018,"d":"3,018"}},{"$f":"F1318*J1318/I1318","v":985.7880588337127},{"$nulls":3},{"$error":"#REF!"},{"$f":"F1318/100000","v":1},{"$f":"Q1313-Q1313*P1313","v":38071.203394157536},{"$f":"Q1318*6.5*O1318","v":{"$error":"#REF!"}},null,{"$error":"#REF!"},{"$f":"F1318/100000","v":1},{"$f":"V1313-V1313*U1313","v":38071.203394157536},{"$f":"V1318*T1318*K1318/100000*3.5","v":{"$error":"#REF!"}}]

{"sheet":"REFERENCES","index":3,"n_rows":9,"n_cols":3,"rows_kept":9}
[null,null,"REFERENCES:"]
[]
[null,"1.","Nicholson, W., “Airborne Asbestos Health Assessment Update,” Report 600/884003F, Washington, DC, U.S.  Environmental Protection Agency (1986)."]
[null,"2.","USEPA, “Integrated Risk Assessment System (IRIS). Asbestos (CASRN 1332-21-4).” [Online] Available at http://www.epa.gov/iris/subst/0371.htm(1988)."]
[null,"3.","Hodgson, J., Darnton, A., “The Quantitative Risks of Mesothelioma and Lung Cancer in Relation to Asbestos Exposure,” Ann. Occup. Hyg. 44(8): 565–601 (2000)."]
[null,"4.","Berman, D., Crump, K., “Technical Support Document for a Protocol to Assess Asbestos-related Risk,” EPA # 9345.4-06 (2003)."]
[null,"5.","U.S. EPA, “Framework for Investigating Asbestos Contaminated Superfund Sites,” OSWER Directive 9200.0-68 (2008)."]
[null,"6.","Berman, D., Crump, K., “Update of Potency Factors for Asbestos-Related Lung Cancer and Mesothelioma,”  Critical Reviews in Toxicology 38(Suppl 1): 1-47 (2008a)."]
[null,"7.","Berman, D., Crump, K., “A Meta-Analysis of Asbestos-Related Cancer Risk That Addresses Fiber Size and Mineral Type,” Critical Reviews in Toxicology 38 (S1): 49-73 (2008b)."]

{"sheet":"COMMENTS","index":4,"n_rows":1,"n_cols":1,"rows_kept":1}
["COMMENTS"]